{"text_format":"1","workbook":"xlsx","n_sheets":3,"sheets":["設定","入力","集計"],"not_rendered":{"charts":0,"images":1,"macros":1,"external_links":0,"defined_names":16,"comments":0,"pivot_tables":0},"unopened":[],"bounds":{"document_bytes":16777216,"sheet_cells":100000,"rows_first":2000,"rows_last":500,"rows_between":2000,"halvings":0,"cell_chars":16384,"cell_head_chars":4096},"cells_cut":0,"cells_raw":0,"read":"whole","date_system":"1900"}

{"sheet":"設定","index":0,"n_rows":42,"n_cols":21,"rows_kept":42,"cut":false,"hidden":false,"merged":[[7,7,7,8],[18,18,19,18],[6,7,6,8]]}
[]
["マニュアル",null,"　　セキュリティー警告が出た場合は、[有効化]をクリックする"]
["１．","カレンダーの設定"]
["(1)","右の黄色の年度枠に西暦で年度を入力してください。",null,null,null,null,"　↓この黄色のセルに、年度を西暦で入力して下さい。"]
["　　自動的に１年間の曜日が決定され、さらに土曜日、日曜日の枠が","自動的に１年間の曜日が決定され、さらに土曜日、日曜日の枠が",null,null,null,null,2025,"年度"]
[null,null,"色になります。また、ハッピーマンデーの休日も自動で設定され",null,null,null,null,"年度入力後"]
[null,null,"色になります。",null,null,null,null,"GO",null,"ボタンをクリックしてください。"]
[]
["(2)","創立記念日のセルの色を、手動で",null,null,"に変えてください。",null,null,"入力画面でコード入力をしてから次に進んでください。"]
["(3)","入力画面で入力 ボタンを押し、 以下の設定をしてください。"]
[null,null,"色の「コード」の枠には、休業日は｢0｣、通常の授業日は｢1｣，",null,null,null,null,"基礎条件の入力（分単位で数値のみ入力）"]
[null,"考査期間は[2]､特編期間は[3]､学校行事は[4]を上書き入力してください。"]
["２．","右の「基礎条件の入力」を行ってください。",null,null,null,null,null,"1コマの",null,null,null,"授業時間",null,null,null,50,null,"勤務時間",80]
["３．","右の「授業時間の入力」を例に倣って行い、入力後",null,null,"GO","ボタンを押してください。",null,"授業時間の入力（ 1 を入力）"]
[null,"入力シートの通常授業日に授業予定等が自動入力されます。",null,null,null,null,null,"★欄に月を、表の授業のある欄に1（半角）を入力し、"]
["注)","時間割が変更になった場合は、その月を★欄に入力してからGOボタンを押すと",null,null,null,null,null,"出退勤予定時刻、休憩予定時間(分)を仮入力して、",null,null,null,null,null,null,null,null,null,null,null,null,"←適当でOKです。"]
[null,"その月の間の授業予定が変更されます。3年生（最終学年）を担当されている",null,null,null,null,null,"入力後、",null,null,"Ｇ","O","ボタンをクリックしてください。"]
[null,"場合の１月～３月の予定の変更など、週当たりの持ちコマ数を変更した場合には、",null,null,null,null,null,"★の期間の授業予定等が新たに作成されます。",null,null,null,null,null,null,null,null,null,null,null,null,"入力例"]
[null,"事後に削除した予定時間を元に戻しておいてください。",null,null,null,null,null,"★",4,"月～",null,3,"月",null,null,null,"予定出退勤時刻",null,"予定休憩\n時間(分)"]
[null,"自動入力できない場合は、入力シートに直接 1 を入力してください。",null,null,null,null,null,"曜",1,2,3,4,5,6,7,"勤務(分)","出勤","退勤"]
["４．","入力画面の確認と修正（→考査監督は授業欄に、他は他業務欄にコマ数で）",null,null,null,null,null,"月",null,null,null,null,null,null,null,{"$f":"$S$13*SUM($I21:$O21)","v":0}]
["(1)","考査監督および特編期間は、考査監督数、授業時間数および出退勤時刻を仮入力",null,null,null,null,null,"火",null,null,null,null,null,null,null,{"$f":"$S$13*SUM($I22:$O22)","v":0}]
[null,"しておき、実施後訂正してください。",null,null,null,null,null,"水",null,null,null,null,null,null,null,0]
["(2)","学年行事や時間割変更等で修正が必要な場合は、授業欄、出退勤時刻、",null,null,null,null,null,"木",null,null,null,null,null,null,null,0]
[null,"休憩時間を入力または削除してください。（授業欄は必須です。）",null,null,null,null,null,"金",null,null,null,null,null,null,null,0]
["(3)","出退勤時刻、休憩時間は、必要に応じて上書きしてください。"]
[null,"超過勤務欄と学期の勤務時間目途を参考に、適当な日の他業務欄に必要コマ数",null,null,null,null,null,"週当たりの持ちコマ数",null,null,null,null,null,null,null,{"$f":"SUM(I21:O25)","v":0},null,{"$f":"SUM(P21:P25)","v":0}]
[null,"を入力し、申告簿にコマ数、勤務時間数を記入しましょう。",null,null,null,null,null,"年間限度コマ数",null,null,null,null,null,null,null,{"$f":"P27*35","v":0},null,{"$f":"R27*35","v":0}]
["(4)","年間コマ数が35週分になるように計画して入力、申告しましょう。"]
["＊","授業データをクリアする場合は、初期化 ボタンをクリックしてください。　"]
["「マクロの実行がブロックされました」等の表示がでるなど、マクロが動かない場合の対処方法"]
["★　Microsoftのセキュリティ強化によりExcelのバージョン2203以降から"]
["インターネットから取得したエクセルのマクロが実行できなくなる事象が発生しております。"]
[" 　「マクロの実行がブロックされました」等の表示がでた場合は、以下の手順でマクロの"]
[" 実行のブロックの解除をお願いします。"]
["手順１"]
["　　　　右の手順で、Excelのマクロを有効にする。"]
["手順２"]
[" 　　　１. Excelを一旦閉じる"]
[" 　　　２. 勤務時間把握【Ver○.○】のアイコンを右クリック"]
[" 　　　３. メニューから「プロパティ」を選択"]
[" 　　　４. 「全般」タブの下にあるセキュリティから「許可する」をチェックし、「OK」を選択"]

{"sheet":"入力","index":1,"n_rows":47,"n_cols":316,"rows_kept":47,"cut":false,"hidden":false,"merged":[[2,306,3,306],[2,307,3,307],[2,202,3,202],[2,203,3,203],[2,228,3,228],[2,229,3,229],[2,254,3,254],[2,304,3,304],[2,219,3,219],[2,226,3,226],[2,223,3,223],[2,245,3,245],[2,255,3,255],[2,280,3,280],[2,281,3,281],[2,71,3,71],[2,45,3,45],[2,19,3,19],[2,149,3,149],[2,305,3,305],[2,279,3,279],[2,253,3,253],[2,227,3,227],[2,201,3,201],[2,301,3,301],[2,271,3,271],[2,278,3,278],[2,275,3,275],[2,297,3,297],[2,252,3,252],[2,249,3,249],[2,193,3,193],[2,200,3,200],[2,197,3,197],[2,175,3,175],[2,176,3,176],[2,177,3,177],[2,167,3,167],[2,174,3,174],[2,171,3,171],[2,150,3,150],[2,151,3,151],[2,141,3,141],[2,123,3,123],[2,125,3,125],[2,148,3,148],[35,158,35,159],[2,145,3,145],[36,158,36,159],[35,184,35,185],[36,184,36,185],[2,11,3,11],[2,15,3,15],[2,37,3,37],[2,44,3,44],[2,41,3,41],[2,63,3,63],[2,70,3,70],[2,67,3,67],[2,89,3,89],[2,96,3,96],[2,93,3,93],[2,115,3,115],[35,80,35,81],[36,80,36,81],[35,106,35,107],[36,106,36,107],[35,132,35,133],[36,132,36,133],[35,2,35,3],[36,2,36,3],[35,28,35,29],[36,28,36,29],[35,54,35,55],[36,54,36,55],[35,288,35,289],[36,288,36,289],[35,210,35,211],[36,210,36,211],[35,236,35,237],[36,236,36,237],[35,262,35,263],[36,262,36,263],[2,47,3,47],[2,18,3,18],[2,46,3,46],[2,20,3,20],[2,21,3,21],[2,72,3,72],[2,73,3,73],[2,98,3,98],[2,99,3,99],[2,124,3,124],[2,97,3,97],[2,122,3,122],[2,119,3,119]]}
[null,null,{"$f":"\"授業時数 \"&設定!G5&\"年度\"","v":"授業時数 2025年度"},null,null,null,null,null,null,null,null,null,null,null,null,null,4,null,"月",null,null,null,null,null,null,null,null,null,null,null,null,null,null,null,null,null,null,null,{"$f":"Q1+1","v":5},null,"月",null,null,null,null,null,null,null,null,null,null,null,null,null,null,null,null,null,null,null,null,null,null,null,{"$f":"AM1+1","v":6},null,"月",null,null,null,null,null,null,null,null,null,null,null,null,null,null,null,null,null,null,null,null,null,null,null,{"$f":"BM1+1","v":7},null,"月",null,null,null,null,null,null,null,null,null,null,null,null,null,null,null,null,null,null,null,null,null,null,null,8,null,"月",null,null,null,null,null,null,null,null,null,null,null,null,null,null,null,null,null,null,null,null,null,null,null,{"$f":"DM1+1","v":9},null,"月",null,null,null,null,null,null,null,null,null,null,null,null,null,null,null,null,null,null,null,null,null,null,null,{"$f":"EM1+1","v":10},null,"月",null,null,null,null,null,null,null,null,null,null,null,null,null,null,null,null,null,null,null,null,null,null,null,{"$f":"FM1+1","v":11},null,"月",null,null,null,null,null,null,null,null,null,null,null,null,null,null,null,null,null,null,null,null,null,null,null,{"$f":"GM1+1","v":12},null,"月",null,null,null,null,null,null,null,null,null,null,null,null,null,null,null,null,null,null,null,null,null,null,null,1,null,"月",null,null,null,null,null,null,null,null,null,null,null,null,null,null,null,null,null,null,null,null,null,null,null,{"$f":"IM1+1","v":2},null,"月",null,null,null,null,null,null,null,null,null,null,null,null,null,null,null,null,null,null,null,null,null,null,null,{"$f":"JM1+1","v":3},null,"月"]
[null,null,null,null,"申     告",null,null,null,null,null,null,null,null,null,"実際",null,"参　　考",null,null,null,null,null,null,null,null,null,null,null,null,null,{"$f":"$E$2","v":"申     告"},null,null,null,null,null,null,null,null,null,{"$f":"$O$2","v":"実際"},null,{"$f":"$Q$2","v":"参　　考"},null,null,null,null,null,null,null,null,null,null,null,null,null,{"$f":"$E$2","v":"申     告"},null,null,null,null,null,null,null,null,null,{"$f":"$O$2","v":"実際"},null,{"$f":"$Q$2","v":"参　　考"},null,null,null,null,null,null,null,null,null,null,null,null,null,{"$f":"$E$2","v":"申     告"},null,null,null,null,null,null,null,null,null,{"$f":"$O$2","v":"実際"},null,{"$f":"$Q$2","v":"参　　考"},null,null,null,null,null,null,null,null,null,null,null,null,null,{"$f":"$E$2","v":"申     告"},null,null,null,null,null,null,null,null,null,{"$f":"$O$2","v":"実際"},null,{"$f":"$Q$2","v":"参　　考"},null,null,null,null,null,null,null,null,null,null,null,null,null,{"$f":"$E$2","v":"申     告"},null,null,null,null,null,null,null,null,null,{"$f":"$O$2","v":"実際"},null,{"$f":"$Q$2","v":"参　　考"},null,null,null,null,null,null,null,null,null,null,null,null,null,{"$f":"$E$2","v":"申     告"},null,null,null,null,null,null,null,null,null,{"$f":"$O$2","v":"実際"},null,{"$f":"$Q$2","v":"参　　考"},null,null,null,null,null,null,null,null,null,null,null,null,null,{"$f":"$E$2","v":"申     告"},null,null,null,null,null,null,null,null,null,{"$f":"$O$2","v":"実際"},null,{"$f":"$Q$2","v":"参　　考"},null,null,null,null,null,null,null,null,null,null,null,null,null,{"$f":"$E$2","v":"申     告"},null,null,null,null,null,null,null,null,null,{"$f":"$O$2","v":"実際"},null,{"$f":"$Q$2","v":"参　　考"},null,null,null,null,null,null,null,null,null,null,null,null,null,{"$f":"$E$2","v":"申     告"},null,null,null,null,null,null,null,null,null,{"$f":"$O$2","v":"実際"},null,{"$f":"$Q$2","v":"参　　考"},null,null,null,null,null,null,null,null,null,null,null,null,null,{"$f":"$E$2","v":"申     告"},null,null,null,null,null,null,null,null,null,{"$f":"$O$2","v":"実際"},null,{"$f":"$Q$2","v":"参　　考"},null,null,null,null,null,null,null,null,null,null,null,null,null,{"$f":"$E$2","v":"申     告"},null,null,null,null,null,null,null,null,null,{"$f":"$O$2","v":"実際"},null,{"$f":"$Q$2","v":"参　　考"}]
[null,null,null,null,"授業・試験監督",null,null,null,null,null,null,"勤務時間(分)","他業務",null,null,"超勤時数(分)","出退勤時刻",null,"休憩\n時間(分)","移動時間(分)","自宅勤務(分)","実　勤務(分)",null,null,null,null,null,null,null,null,"授業・試験監督",null,null,null,null,null,null,"勤務時間(分)","他業務",null,null,"超勤時数(分)","出退勤時刻",null,"休憩\n時間(分)","移動時間(分)","自宅勤務(分)","実　勤務(分)",null,null,null,null,null,null,null,null,"授業・試験監督",null,null,null,null,null,null,"勤務時間(分)","他業務",null,null,"超勤時数(分)","出退勤時刻",null,"休憩\n時間(分)","移動時間(分)","自宅勤務(分)","実　勤務(分)",null,null,null,null,null,null,null,null,"授業・試験監督",null,null,null,null,null,null,"勤務時間(分)","他業務",null,null,"超勤時数(分)","出退勤時刻",null,"休憩\n時間(分)","移動時間(分)","自宅勤務(分)","実　勤務(分)",null,null,null,null,null,null,null,null,"授業・試験監督",null,null,null,null,null,null,"勤務時間(分)","他業務",null,null,"超勤時数(分)","出退勤時刻",null,"休憩\n時間(分)","移動時間(分)","自宅勤務(分)","実　勤務(分)",null,null,null,null,null,null,null,null,"授業・試験監督",null,null,null,null,null,null,"勤務時間(分)","他業務",null,null,"超勤時数(分)","出退勤時刻",null,"休憩\n時間(分)","移動時間(分)","自宅勤務(分)","実　勤務(分)",null,null,null,null,null,null,null,null,"授業・試験監督",null,null,null,null,null,null,"勤務時間(分)","他業務",null,null,"超勤時数(分)","出退勤時刻",null,"休憩\n時間(分)","移動時間(分)","自宅勤務(分)","実　勤務(分)",null,null,null,null,null,null,null,null,"授業・試験監督",null,null,null,null,null,null,"勤務時間(分)","他業務",null,null,"超勤時数(分)","出退勤時刻",null,"休憩\n時間(分)","移動時間(分)","自宅勤務(分)","実　勤務(分)",null,null,null,null,null,null,null,null,"授業・試験監督",null,null,null,null,null,null,"勤務時間(分)","他業務",null,null,"超勤時数(分)","出退勤時刻",null,"休憩\n時間(分)","移動時間(分)","自宅勤務(分)","実　勤務(分)",null,null,null,null,null,null,null,null,"授業・試験監督",null,null,null,null,null,null,"勤務時間(分)","他業務",null,null,"超勤時数(分)","出退勤時刻",null,"休憩\n時間(分)","移動時間(分)","自宅勤務(分)","実　勤務(分)",null,null,null,null,null,null,null,null,"授業・試験監督",null,null,null,null,null,null,"勤務時間(分)","他業務",null,null,"超勤時数(分)","出退勤時刻",null,"休憩\n時間(分)","移動時間(分)","自宅勤務(分)","実　勤務(分)",null,null,null,null,null,null,null,null,"授業・試験監督",null,null,null,null,null,null,"勤務時間(分)","他業務",null,null,"超勤時数(分)","出退勤時刻",null,"休憩\n時間(分)","移動時間(分)","自宅勤務(分)","実　勤務(分)"]
[null,null,"日","曜",1,2,3,4,5,6,7,null,"コマ","内容","実時間",null,"出勤","退勤",null,null,null,null,null,"備　考","ｺｰﾄﾞ",null,null,null,"日","曜",1,2,3,4,5,6,7,null,"コマ","内容","実時間",null,"出勤","退勤",null,null,null,null,null,"備　考","ｺｰﾄﾞ",null,null,null,"日","曜",1,2,3,4,5,6,7,null,"コマ","内容","実時間",null,"出勤","退勤",null,null,null,null,null,"備　考","ｺｰﾄﾞ",null,null,null,"日","曜",1,2,3,4,5,6,7,null,"コマ","内容","実時間",null,"出勤","退勤",null,null,null,null,null,"備　考","ｺｰﾄﾞ",null,null,null,"日","曜",1,2,3,4,5,6,7,null,"コマ","内容","実時間",null,"出勤","退勤",null,null,null,null,null,"備　考","ｺｰﾄﾞ",null,null,null,"日","曜",1,2,3,4,5,6,7,null,"コマ","内容","実時間",null,"出勤","退勤",null,null,null,null,null,"備　考","ｺｰﾄﾞ",null,null,null,"日","曜",1,2,3,4,5,6,7,null,"コマ","内容","実時間",null,"出勤","退勤",null,null,null,null,null,"備　考","ｺｰﾄﾞ",null,null,null,"日","曜",1,2,3,4,5,6,7,null,"コマ","内容","実時間",null,"出勤","退勤",null,null,null,null,null,"備　考","ｺｰﾄﾞ",null,null,null,"日","曜",1,2,3,4,5,6,7,null,"コマ","内容","実時間",null,"出勤","退勤",null,null,null,null,null,"備　考","ｺｰﾄﾞ",null,null,null,"日","曜",1,2,3,4,5,6,7,null,"コマ","内容","実時間",null,"出勤","退勤",null,null,null,null,null,"備　考","ｺｰﾄﾞ",null,null,null,"日","曜",1,2,3,4,5,6,7,null,"コマ","内容","実時間",null,"出勤","退勤",null,null,null,null,null,"備　考","ｺｰﾄﾞ",null,null,null,"日","曜",1,2,3,4,5,6,7,null,"コマ","内容","実時間",null,"出勤","退勤",null,null,null,null,null,"備　考","ｺｰﾄﾞ",null,null,"暦年","春分日","秋分日"]
[null,{"$f":"WEEKDAY(DATEVALUE(設定!$G$5&\"年\"&Q$1&\"月\"&C5&\"日\"))","v":3},1,{"$f":"IF(B5=1,\"日\",IF(B5=2,\"月\",IF(B5=3,\"火\",IF(B5=4,\"水\",IF(B5=5,\"木\",IF(B5=6,\"金\",\"土\"))))))","v":"火"},null,null,null,null,null,null,null,{"$f":"(SUM(E5:K5)+M5)*設定!$S$13","v":0},null,null,null,{"$f":"O5-M5*設定!$S$13","v":0},null,null,null,null,null,{"$f":"HOUR(R5-Q5)*60+MINUTE(R5-Q5)-S5+U5","v":0},null,"春季休業",0,0,null,{"$f":"WEEKDAY(DATEVALUE(設定!$G$5&\"年\"&AM$1&\"月\"&AC5&\"日\"))","v":5},1,{"$f":"IF(AB5=1,\"日\",IF(AB5=2,\"月\",IF(AB5=3,\"火\",IF(AB5=4,\"水\",IF(AB5=5,\"木\",IF(AB5=6,\"金\",\"土\"))))))","v":"木"},null,null,null,null,null,null,null,{"$f":"(SUM(AE5:AK5)+AM5)*設定!$S$13","v":0},null,null,null,{"$f":"AO5-AM5*設定!$S$13","v":0},null,null,null,null,null,{"$f":"HOUR(AR5-AQ5)*60+MINUTE(AR5-AQ5)-AS5+AU5","v":0},null,null,1,{"$f":"IF(OR(AB5=1,AB5=7),0,1)","v":1},null,{"$f":"WEEKDAY(DATEVALUE(設定!$G$5&\"年\"&BM$1&\"月\"&BC5&\"日\"))","v":1},1,{"$f":"IF(BB5=1,\"日\",IF(BB5=2,\"月\",IF(BB5=3,\"火\",IF(BB5=4,\"水\",IF(BB5=5,\"木\",IF(BB5=6,\"金\",\"土\"))))))","v":"日"},null,null,null,null,null,null,null,{"$f":"(SUM(BE5:BK5)+BM5)*設定!$S$13","v":0},null,null,null,{"$f":"BO5-BM5*設定!$S$13","v":0},null,null,null,null,null,{"$f":"HOUR(BR5-BQ5)*60+MINUTE(BR5-BQ5)-BS5+BU5","v":0},null,null,0,{"$f":"IF(OR(BB5=1,BB5=7),0,1)","v":0},null,{"$f":"WEEKDAY(DATEVALUE(設定!$G$5&\"年\"&CM$1&\"月\"&CC5&\"日\"))","v":3},1,{"$f":"IF(CB5=1,\"日\",IF(CB5=2,\"月\",IF(CB5=3,\"火\",IF(CB5=4,\"水\",IF(CB5=5,\"木\",IF(CB5=6,\"金\",\"土\"))))))","v":"火"},null,null,null,null,null,null,null,{"$f":"(SUM(CE5:CK5)+CM5)*設定!$S$13","v":0},null,null,null,{"$f":"CO5-CM5*設定!$S$13","v":0},null,null,null,null,null,{"$f":"HOUR(CR5-CQ5)*60+MINUTE(CR5-CQ5)-CS5+CU5","v":0},null,null,1,{"$f":"IF(OR(CB5=1,CB5=7),0,1)","v":1},null,{"$f":"WEEKDAY(DATEVALUE(設定!$G$5&\"年\"&DM$1&\"月\"&DC5&\"日\"))","v":6},1,{"$f":"IF(DB5=1,\"日\",IF(DB5=2,\"月\",IF(DB5=3,\"火\",IF(DB5=4,\"水\",IF(DB5=5,\"木\",IF(DB5=6,\"金\",\"土\"))))))","v":"金"},null,null,null,null,null,null,null,{"$f":"(SUM(DE5:DK5)+DM5)*設定!$S$13","v":0},null,null,null,{"$f":"DO5-DM5*設定!$S$13","v":0},null,null,null,null,null,{"$f":"HOUR(DR5-DQ5)*60+MINUTE(DR5-DQ5)-DS5+DU5","v":0},null,null,0,0,null,{"$f":"WEEKDAY(DATEVALUE(設定!$G$5&\"年\"&EM$1&\"月\"&EC5&\"日\"))","v":2},1,{"$f":"IF(EB5=1,\"日\",IF(EB5=2,\"月\",IF(EB5=3,\"火\",IF(EB5=4,\"水\",IF(EB5=5,\"木\",IF(EB5=6,\"金\",\"土\"))))))","v":"月"},null,null,null,null,null,null,null,{"$f":"(SUM(EE5:EK5)+EM5)*設定!$S$13","v":0},null,null,null,{"$f":"EO5-EM5*設定!$S$13","v":0},null,null,null,null,null,{"$f":"HOUR(ER5-EQ5)*60+MINUTE(ER5-EQ5)-ES5+EU5","v":0},null,null,1,{"$f":"IF(OR(EB5=1,EB5=7),0,1)","v":1},null,{"$f":"WEEKDAY(DATEVALUE(設定!$G$5&\"年\"&FM$1&\"月\"&FC5&\"日\"))","v":4},1,{"$f":"IF(FB5=1,\"日\",IF(FB5=2,\"月\",IF(FB5=3,\"火\",IF(FB5=4,\"水\",IF(FB5=5,\"木\",IF(FB5=6,\"金\",\"土\"))))))","v":"水"},null,null,null,null,null,null,null,{"$f":"(SUM(FE5:FK5)+FM5)*設定!$S$13","v":0},null,null,null,{"$f":"FO5-FM5*設定!$S$13","v":0},null,null,null,null,null,{"$f":"HOUR(FR5-FQ5)*60+MINUTE(FR5-FQ5)-FS5+FU5","v":0},null,null,1,{"$f":"IF(OR(FB5=1,FB5=7),0,1)","v":1},null,{"$f":"WEEKDAY(DATEVALUE(設定!$G$5&\"年\"&GM$1&\"月\"&GC5&\"日\"))","v":7},1,{"$f":"IF(GB5=1,\"日\",IF(GB5=2,\"月\",IF(GB5=3,\"火\",IF(GB5=4,\"水\",IF(GB5=5,\"木\",IF(GB5=6,\"金\",\"土\"))))))","v":"土"},null,null,null,null,null,null,null,{"$f":"(SUM(GE5:GK5)+GM5)*設定!$S$13","v":0},null,null,null,{"$f":"GO5-GM5*設定!$S$13","v":0},null,null,null,null,null,{"$f":"HOUR(GR5-GQ5)*60+MINUTE(GR5-GQ5)-GS5+GU5","v":0},null,null,0,{"$f":"IF(OR(GB5=1,GB5=7),0,1)","v":0},null,{"$f":"WEEKDAY(DATEVALUE(設定!$G$5&\"年\"&HM$1&\"月\"&HC5&\"日\"))","v":2},1,{"$f":"IF(HB5=1,\"日\",IF(HB5=2,\"月\",IF(HB5=3,\"火\",IF(HB5=4,\"水\",IF(HB5=5,\"木\",IF(HB5=6,\"金\",\"土\"))))))","v":"月"},null,null,null,null,null,null,null,{"$f":"(SUM(HE5:HK5)+HM5)*設定!$S$13","v":0},null,null,null,{"$f":"HO5-HM5*設定!$S$13","v":0},null,null,null,null,null,{"$f":"HOUR(HR5-HQ5)*60+MINUTE(HR5-HQ5)-HS5+HU5","v":0},null,null,1,{"$f":"IF(OR(HB5=1,HB5=7),0,1)","v":1},null,{"$f":"WEEKDAY(DATEVALUE((設定!$G$5+1)&\"年\"&IM$1&\"月\"&IC5&\"日\"))","v":5},1,{"$f":"IF(IB5=1,\"日\",IF(IB5=2,\"月\",IF(IB5=3,\"火\",IF(IB5=4,\"水\",IF(IB5=5,\"木\",IF(IB5=6,\"金\",\"土\"))))))","v":"木"},null,null,null,null,null,null,null,{"$f":"(SUM(IE5:IK5)+IM5)*設定!$S$13","v":0},null,null,null,{"$f":"IO5-IM5*設定!$S$13","v":0},null,null,null,null,null,{"$f":"HOUR(IR5-IQ5)*60+MINUTE(IR5-IQ5)-IS5+IU5","v":0},null,"元日",0,0,null,{"$f":"WEEKDAY(DATEVALUE((設定!$G$5+1)&\"年\"&JM$1&\"月\"&JC5&\"日\"))","v":1},1,{"$f":"IF(JB5=1,\"日\",IF(JB5=2,\"月\",IF(JB5=3,\"火\",IF(JB5=4,\"水\",IF(JB5=5,\"木\",IF(JB5=6,\"金\",\"土\"))))))","v":"日"},null,null,null,null,null,null,null,{"$f":"(SUM(JE5:JK5)+JM5)*設定!$S$13","v":0},null,null,null,{"$f":"JO5-JM5*設定!$S$13","v":0},null,null,null,null,null,{"$f":"HOUR(JR5-JQ5)*60+MINUTE(JR5-JQ5)-JS5+JU5","v":0},null,null,0,{"$f":"IF(OR(JB5=1,JB5=7),0,1)","v":0},null,{"$f":"WEEKDAY(DATEVALUE((設定!$G$5+1)&\"年\"&KM$1&\"月\"&KC5&\"日\"))","v":1},1,{"$f":"IF(KB5=1,\"日\",IF(KB5=2,\"月\",IF(KB5=3,\"火\",IF(KB5=4,\"水\",IF(KB5=5,\"木\",IF(KB5=6,\"金\",\"土\"))))))","v":"日"},null,null,null,null,null,null,null,{"$f":"(SUM(KE5:KK5)+KM5)*設定!$S$13","v":0},null,null,null,{"$f":"KO5-KM5*設定!$S$13","v":0},null,null,null,null,null,{"$f":"HOUR(KR5-KQ5)*60+MINUTE(KR5-KQ5)-KS5+KU5","v":0},null,null,0,{"$f":"IF(OR(KB5=1,KB5=7),0,1)","v":0},null,2020,20,22]
[null,{"$f":"WEEKDAY(DATEVALUE(設定!$G$5&\"年\"&Q$1&\"月\"&C6&\"日\"))","v":4},2,{"$f":"IF(B6=1,\"日\",IF(B6=2,\"月\",IF(B6=3,\"火\",IF(B6=4,\"水\",IF(B6=5,\"木\",IF(B6=6,\"金\",\"土\"))))))","v":"水"},null,null,null,null,null,null,null,{"$f":"(SUM(E6:K6)+M6)*設定!$S$13","v":0},null,null,null,{"$f":"O6-M6*設定!$S$13","v":0},null,null,null,null,null,{"$f":"HOUR(R6-Q6)*60+MINUTE(R6-Q6)-S6+U6","v":"00:00:00"},null,null,0,0,null,{"$f":"WEEKDAY(DATEVALUE(設定!$G$5&\"年\"&AM$1&\"月\"&AC6&\"日\"))","v":6},2,{"$f":"IF(AB6=1,\"日\",IF(AB6=2,\"月\",IF(AB6=3,\"火\",IF(AB6=4,\"水\",IF(AB6=5,\"木\",IF(AB6=6,\"金\",\"土\"))))))","v":"金"},null,null,null,null,null,null,null,{"$f":"(SUM(AE6:AK6)+AM6)*設定!$S$13","v":0},null,null,null,{"$f":"AO6-AM6*設定!$S$13","v":0},null,null,null,null,null,0,null,null,1,{"$f":"IF(OR(AB6=1,AB6=7),0,1)","v":1},null,{"$f":"WEEKDAY(DATEVALUE(設定!$G$5&\"年\"&BM$1&\"月\"&BC6&\"日\"))","v":2},2,"月",null,null,null,null,null,null,null,{"$f":"(SUM(BE6:BK6)+BM6)*設定!$S$13","v":0},null,null,null,{"$f":"BO6-BM6*設定!$S$13","v":0},null,null,null,null,null,0,null,null,1,1,null,{"$f":"WEEKDAY(DATEVALUE(設定!$G$5&\"年\"&CM$1&\"月\"&CC6&\"日\"))","v":4},2,"水",null,null,null,null,null,null,null,{"$f":"(SUM(CE6:CK6)+CM6)*設定!$S$13","v":0},null,null,null,{"$f":"CO6-CM6*設定!$S$13","v":0},null,null,null,null,null,0,null,null,1,1,null,{"$f":"WEEKDAY(DATEVALUE(設定!$G$5&\"年\"&DM$1&\"月\"&DC6&\"日\"))","v":7},2,"土",null,null,null,null,null,null,null,{"$f":"(SUM(DE6:DK6)+DM6)*設定!$S$13","v":0},null,null,null,{"$f":"DO6-DM6*設定!$S$13","v":0},null,null,null,null,null,0,null,null,0,0,null,{"$f":"WEEKDAY(DATEVALUE(設定!$G$5&\"年\"&EM$1&\"月\"&EC6&\"日\"))","v":3},2,"火",null,null,null,null,null,null,null,{"$f":"(SUM(EE6:EK6)+EM6)*設定!$S$13","v":0},null,null,null,{"$f":"EO6-EM6*設定!$S$13","v":0},null,null,null,null,null,0,null,null,1,1,null,{"$f":"WEEKDAY(DATEVALUE(設定!$G$5&\"年\"&FM$1&\"月\"&FC6&\"日\"))","v":5},2,"木",null,null,null,null,null,null,null,{"$f":"(SUM(FE6:FK6)+FM6)*設定!$S$13","v":0},null,null,null,{"$f":"FO6-FM6*設定!$S$13","v":0},null,null,null,null,null,0,null,null,1,1,null,{"$f":"WEEKDAY(DATEVALUE(設定!$G$5&\"年\"&GM$1&\"月\"&GC6&\"日\"))","v":1},2,"日",null,null,null,null,null,null,null,{"$f":"(SUM(GE6:GK6)+GM6)*設定!$S$13","v":0},null,null,null,{"$f":"GO6-GM6*設定!$S$13","v":0},null,null,null,null,null,0,null,null,0,{"$f":"IF(OR(GB6=1,GB6=7),0,1)","v":0},null,{"$f":"WEEKDAY(DATEVALUE(設定!$G$5&\"年\"&HM$1&\"月\"&HC6&\"日\"))","v":3},2,"火",null,null,null,null,null,null,null,{"$f":"(SUM(HE6:HK6)+HM6)*設定!$S$13","v":0},null,null,null,{"$f":"HO6-HM6*設定!$S$13","v":0},null,null,null,null,null,0,null,null,1,1,null,{"$f":"WEEKDAY(DATEVALUE((設定!$G$5+1)&\"年\"&IM$1&\"月\"&IC6&\"日\"))","v":6},2,"金",null,null,null,null,null,null,null,{"$f":"(SUM(IE6:IK6)+IM6)*設定!$S$13","v":0},null,null,null,{"$f":"IO6-IM6*設定!$S$13","v":0},null,null,null,null,null,0,null,null,0,0,null,{"$f":"WEEKDAY(DATEVALUE((設定!$G$5+1)&\"年\"&JM$1&\"月\"&JC6&\"日\"))","v":2},2,{"$f":"IF(JB6=1,\"日\",IF(JB6=2,\"月\",IF(JB6=3,\"火\",IF(JB6=4,\"水\",IF(JB6=5,\"木\",IF(JB6=6,\"金\",\"土\"))))))","v":"月"},null,null,null,null,null,null,null,{"$f":"(SUM(JE6:JK6)+JM6)*設定!$S$13","v":0},null,null,null,{"$f":"JO6-JM6*設定!$S$13","v":0},null,null,null,null,null,0,null,null,1,1,null,{"$f":"WEEKDAY(DATEVALUE((設定!$G$5+1)&\"年\"&KM$1&\"月\"&KC6&\"日\"))","v":2},2,{"$f":"IF(KB6=1,\"日\",IF(KB6=2,\"月\",IF(KB6=3,\"火\",IF(KB6=4,\"水\",IF(KB6=5,\"木\",IF(KB6=6,\"金\",\"土\"))))))","v":"月"},null,null,null,null,null,null,null,{"$f":"(SUM(KE6:KK6)+KM6)*設定!$S$13","v":0},null,null,null,{"$f":"KO6-KM6*設定!$S$13","v":0},null,null,null,null,null,0,null,null,1,1,null,2021,20,23]
[null,{"$f":"WEEKDAY(DATEVALUE(設定!$G$5&\"年\"&Q$1&\"月\"&C7&\"日\"))","v":5},3,"木",null,null,null,null,null,null,null,{"$f":"(SUM(E7:K7)+M7)*設定!$S$13","v":0},null,null,null,{"$f":"O7-M7*設定!$S$13","v":0},null,null,null,null,null,{"$f":"HOUR(R7-Q7)*60+MINUTE(R7-Q7)-S7+U7","v":0},null,null,0,0,null,{"$f":"WEEKDAY(DATEVALUE(設定!$G$5&\"年\"&AM$1&\"月\"&AC7&\"日\"))","v":7},3,"土",null,null,null,null,null,null,null,{"$f":"(SUM(AE7:AK7)+AM7)*設定!$S$13","v":0},null,null,null,{"$f":"AO7-AM7*設定!$S$13","v":0},null,null,null,null,null,0,null,"憲法記念日",0,0,null,{"$f":"WEEKDAY(DATEVALUE(設定!$G$5&\"年\"&BM$1&\"月\"&BC7&\"日\"))","v":3},3,"火",null,null,null,null,null,null,null,{"$f":"(SUM(BE7:BK7)+BM7)*設定!$S$13","v":0},null,null,null,{"$f":"BO7-BM7*設定!$S$13","v":0},null,null,null,null,null,0,null,null,1,1,null,{"$f":"WEEKDAY(DATEVALUE(設定!$G$5&\"年\"&CM$1&\"月\"&CC7&\"日\"))","v":5},3,"木",null,null,null,null,null,null,null,{"$f":"(SUM(CE7:CK7)+CM7)*設定!$S$13","v":0},null,null,null,{"$f":"CO7-CM7*設定!$S$13","v":0},null,null,null,null,null,0,null,null,1,1,null,{"$f":"WEEKDAY(DATEVALUE(設定!$G$5&\"年\"&DM$1&\"月\"&DC7&\"日\"))","v":1},3,"日",null,null,null,null,null,null,null,{"$f":"(SUM(DE7:DK7)+DM7)*設定!$S$13","v":0},null,null,null,{"$f":"DO7-DM7*設定!$S$13","v":0},null,null,null,null,null,0,null,null,0,0,null,{"$f":"WEEKDAY(DATEVALUE(設定!$G$5&\"年\"&EM$1&\"月\"&EC7&\"日\"))","v":4},3,"水",null,null,null,null,null,null,null,{"$f":"(SUM(EE7:EK7)+EM7)*設定!$S$13","v":0},null,null,null,{"$f":"EO7-EM7*設定!$S$13","v":0},null,null,null,null,null,0,null,null,1,1,null,{"$f":"WEEKDAY(DATEVALUE(設定!$G$5&\"年\"&FM$1&\"月\"&FC7&\"日\"))","v":6},3,"金",null,null,null,null,null,null,null,{"$f":"(SUM(FE7:FK7)+FM7)*設定!$S$13","v":0},null,null,null,{"$f":"FO7-FM7*設定!$S$13","v":0},null,null,null,null,null,0,null,null,1,1,null,{"$f":"WEEKDAY(DATEVALUE(設定!$G$5&\"年\"&GM$1&\"月\"&GC7&\"日\"))","v":2},3,"月",null,null,null,null,null,null,null,{"$f":"(SUM(GE7:GK7)+GM7)*設定!$S$13","v":0},null,null,null,{"$f":"GO7-GM7*設定!$S$13","v":0},null,null,null,null,null,0,null,"文化の日",0,0,null,{"$f":"WEEKDAY(DATEVALUE(設定!$G$5&\"年\"&HM$1&\"月\"&HC7&\"日\"))","v":4},3,"水",null,null,null,null,null,null,null,{"$f":"(SUM(HE7:HK7)+HM7)*設定!$S$13","v":0},null,null,null,{"$f":"HO7-HM7*設定!$S$13","v":0},null,null,null,null,null,0,null,null,1,1,null,{"$f":"WEEKDAY(DATEVALUE((設定!$G$5+1)&\"年\"&IM$1&\"月\"&IC7&\"日\"))","v":7},3,"土",null,null,null,null,null,null,null,{"$f":"(SUM(IE7:IK7)+IM7)*設定!$S$13","v":0},null,null,null,{"$f":"IO7-IM7*設定!$S$13","v":0},null,null,null,null,null,0,null,null,0,0,null,{"$f":"WEEKDAY(DATEVALUE((設定!$G$5+1)&\"年\"&JM$1&\"月\"&JC7&\"日\"))","v":3},3,"火",null,null,null,null,null,null,null,{"$f":"(SUM(JE7:JK7)+JM7)*設定!$S$13","v":0},null,null,null,{"$f":"JO7-JM7*設定!$S$13","v":0},null,null,null,null,null,0,null,null,1,1,null,{"$f":"WEEKDAY(DATEVALUE((設定!$G$5+1)&\"年\"&KM$1&\"月\"&KC7&\"日\"))","v":3},3,"火",null,null,null,null,null,null,null,{"$f":"(SUM(KE7:KK7)+KM7)*設定!$S$13","v":0},null,null,null,{"$f":"KO7-KM7*設定!$S$13","v":0},null,null,null,null,null,0,null,null,1,1,null,2022,21,23]
[null,{"$f":"WEEKDAY(DATEVALUE(設定!$G$5&\"年\"&Q$1&\"月\"&C8&\"日\"))","v":6},4,"金",null,null,null,null,null,null,null,{"$f":"(SUM(E8:K8)+M8)*設定!$S$13","v":0},null,null,null,{"$f":"O8-M8*設定!$S$13","v":0},null,null,null,null,null,0,null,null,0,0,null,{"$f":"WEEKDAY(DATEVALUE(設定!$G$5&\"年\"&AM$1&\"月\"&AC8&\"日\"))","v":1},4,"日",null,null,null,null,null,null,null,{"$f":"(SUM(AE8:AK8)+AM8)*設定!$S$13","v":0},null,null,null,{"$f":"AO8-AM8*設定!$S$13","v":0},null,null,null,null,null,0,null,"みどりの日",0,0,null,{"$f":"WEEKDAY(DATEVALUE(設定!$G$5&\"年\"&BM$1&\"月\"&BC8&\"日\"))","v":4},4,"水",null,null,null,null,null,null,null,{"$f":"(SUM(BE8:BK8)+BM8)*設定!$S$13","v":0},null,null,null,{"$f":"BO8-BM8*設定!$S$13","v":0},null,null,null,null,null,0,null,null,1,1,null,{"$f":"WEEKDAY(DATEVALUE(設定!$G$5&\"年\"&CM$1&\"月\"&CC8&\"日\"))","v":6},4,"金",null,null,null,null,null,null,null,{"$f":"(SUM(CE8:CK8)+CM8)*設定!$S$13","v":0},null,null,null,{"$f":"CO8-CM8*設定!$S$13","v":0},null,null,null,null,null,0,null,null,1,1,null,{"$f":"WEEKDAY(DATEVALUE(設定!$G$5&\"年\"&DM$1&\"月\"&DC8&\"日\"))","v":2},4,"月",null,null,null,null,null,null,null,{"$f":"(SUM(DE8:DK8)+DM8)*設定!$S$13","v":0},null,null,null,{"$f":"DO8-DM8*設定!$S$13","v":0},null,null,null,null,null,0,null,null,0,0,null,{"$f":"WEEKDAY(DATEVALUE(設定!$G$5&\"年\"&EM$1&\"月\"&EC8&\"日\"))","v":5},4,"木",null,null,null,null,null,null,null,{"$f":"(SUM(EE8:EK8)+EM8)*設定!$S$13","v":0},null,null,null,{"$f":"EO8-EM8*設定!$S$13","v":0},null,null,null,null,null,0,null,null,1,1,null,{"$f":"WEEKDAY(DATEVALUE(設定!$G$5&\"年\"&FM$1&\"月\"&FC8&\"日\"))","v":7},4,"土",null,null,null,null,null,null,null,{"$f":"(SUM(FE8:FK8)+FM8)*設定!$S$13","v":0},null,null,null,{"$f":"FO8-FM8*設定!$S$13","v":0},null,null,null,null,null,0,null,null,0,0,null,{"$f":"WEEKDAY(DATEVALUE(設定!$G$5&\"年\"&GM$1&\"月\"&GC8&\"日\"))","v":3},4,"火",null,null,null,null,null,null,null,{"$f":"(SUM(GE8:GK8)+GM8)*設定!$S$13","v":0},null,null,null,{"$f":"GO8-GM8*設定!$S$13","v":0},null,null,null,null,null,0,null,null,1,{"$f":"IF(OR(GB8=1,GB8=7),0,1)","v":1},null,{"$f":"WEEKDAY(DATEVALUE(設定!$G$5&\"年\"&HM$1&\"月\"&HC8&\"日\"))","v":5},4,"木",null,null,null,null,null,null,null,{"$f":"(SUM(HE8:HK8)+HM8)*設定!$S$13","v":0},null,null,null,{"$f":"HO8-HM8*設定!$S$13","v":0},null,null,null,null,null,0,null,null,1,1,null,{"$f":"WEEKDAY(DATEVALUE((設定!$G$5+1)&\"年\"&IM$1&\"月\"&IC8&\"日\"))","v":1},4,"日",null,null,null,null,null,null,null,{"$f":"(SUM(IE8:IK8)+IM8)*設定!$S$13","v":0},null,null,null,{"$f":"IO8-IM8*設定!$S$13","v":0},null,null,null,null,null,0,null,null,0,0,null,{"$f":"WEEKDAY(DATEVALUE((設定!$G$5+1)&\"年\"&JM$1&\"月\"&JC8&\"日\"))","v":4},4,"水",null,null,null,null,null,null,null,{"$f":"(SUM(JE8:JK8)+JM8)*設定!$S$13","v":0},null,null,null,{"$f":"JO8-JM8*設定!$S$13","v":0},null,null,null,null,null,0,null,null,1,1,null,{"$f":"WEEKDAY(DATEVALUE((設定!$G$5+1)&\"年\"&KM$1&\"月\"&KC8&\"日\"))","v":4},4,"水",null,null,null,null,null,null,null,{"$f":"(SUM(KE8:KK8)+KM8)*設定!$S$13","v":0},null,null,null,{"$f":"KO8-KM8*設定!$S$13","v":0},null,null,null,null,null,0,null,null,1,1,null,2023,21,23]
[null,{"$f":"WEEKDAY(DATEVALUE(設定!$G$5&\"年\"&Q$1&\"月\"&C9&\"日\"))","v":7},5,"土",null,null,null,null,null,null,null,{"$f":"(SUM(E9:K9)+M9)*設定!$S$13","v":0},null,null,null,{"$f":"O9-M9*設定!$S$13","v":0},null,null,null,null,null,0,null,null,0,0,null,{"$f":"WEEKDAY(DATEVALUE(設定!$G$5&\"年\"&AM$1&\"月\"&AC9&\"日\"))","v":2},5,"月",null,null,null,null,null,null,null,{"$f":"(SUM(AE9:AK9)+AM9)*設定!$S$13","v":0},null,null,null,{"$f":"AO9-AM9*設定!$S$13","v":0},null,null,null,null,null,0,null,"こどもの日",0,0,null,{"$f":"WEEKDAY(DATEVALUE(設定!$G$5&\"年\"&BM$1&\"月\"&BC9&\"日\"))","v":5},5,"木",null,null,null,null,null,null,null,{"$f":"(SUM(BE9:BK9)+BM9)*設定!$S$13","v":0},null,null,null,{"$f":"BO9-BM9*設定!$S$13","v":0},null,null,null,null,null,0,null,null,1,1,null,{"$f":"WEEKDAY(DATEVALUE(設定!$G$5&\"年\"&CM$1&\"月\"&CC9&\"日\"))","v":7},5,"土",null,null,null,null,null,null,null,{"$f":"(SUM(CE9:CK9)+CM9)*設定!$S$13","v":0},null,null,null,{"$f":"CO9-CM9*設定!$S$13","v":0},null,null,null,null,null,0,null,null,0,0,null,{"$f":"WEEKDAY(DATEVALUE(設定!$G$5&\"年\"&DM$1&\"月\"&DC9&\"日\"))","v":3},5,"火",null,null,null,null,null,null,null,{"$f":"(SUM(DE9:DK9)+DM9)*設定!$S$13","v":0},null,null,null,{"$f":"DO9-DM9*設定!$S$13","v":0},null,null,null,null,null,0,null,null,0,0,null,{"$f":"WEEKDAY(DATEVALUE(設定!$G$5&\"年\"&EM$1&\"月\"&EC9&\"日\"))","v":6},5,"金",null,null,null,null,null,null,null,{"$f":"(SUM(EE9:EK9)+EM9)*設定!$S$13","v":0},null,null,null,{"$f":"EO9-EM9*設定!$S$13","v":0},null,null,null,null,null,0,null,null,1,1,null,{"$f":"WEEKDAY(DATEVALUE(設定!$G$5&\"年\"&FM$1&\"月\"&FC9&\"日\"))","v":1},5,"日",null,null,null,null,null,null,null,{"$f":"(SUM(FE9:FK9)+FM9)*設定!$S$13","v":0},null,null,null,{"$f":"FO9-FM9*設定!$S$13","v":0},null,null,null,null,null,0,null,null,0,0,null,{"$f":"WEEKDAY(DATEVALUE(設定!$G$5&\"年\"&GM$1&\"月\"&GC9&\"日\"))","v":4},5,"水",null,null,null,null,null,null,null,{"$f":"(SUM(GE9:GK9)+GM9)*設定!$S$13","v":0},null,null,null,{"$f":"GO9-GM9*設定!$S$13","v":0},null,null,null,null,null,0,null,null,1,1,null,{"$f":"WEEKDAY(DATEVALUE(設定!$G$5&\"年\"&HM$1&\"月\"&HC9&\"日\"))","v":6},5,"金",null,null,null,null,null,null,null,{"$f":"(SUM(HE9:HK9)+HM9)*設定!$S$13","v":0},null,null,null,{"$f":"HO9-HM9*設定!$S$13","v":0},null,null,null,null,null,0,null,null,1,1,null,{"$f":"WEEKDAY(DATEVALUE((設定!$G$5+1)&\"年\"&IM$1&\"月\"&IC9&\"日\"))","v":2},5,"月",null,null,null,null,null,null,null,{"$f":"(SUM(IE9:IK9)+IM9)*設定!$S$13","v":0},null,null,null,{"$f":"IO9-IM9*設定!$S$13","v":0},null,null,null,null,null,0,null,null,0,0,null,{"$f":"WEEKDAY(DATEVALUE((設定!$G$5+1)&\"年\"&JM$1&\"月\"&JC9&\"日\"))","v":5},5,"木",null,null,null,null,null,null,null,{"$f":"(SUM(JE9:JK9)+JM9)*設定!$S$13","v":0},null,null,null,{"$f":"JO9-JM9*設定!$S$13","v":0},null,null,null,null,null,0,null,null,1,1,null,{"$f":"WEEKDAY(DATEVALUE((設定!$G$5+1)&\"年\"&KM$1&\"月\"&KC9&\"日\"))","v":5},5,"木",null,null,null,null,null,null,null,{"$f":"(SUM(KE9:KK9)+KM9)*設定!$S$13","v":0},null,null,null,{"$f":"KO9-KM9*設定!$S$13","v":0},null,null,null,null,null,0,null,null,1,1,null,2024,20,22]
[null,{"$f":"WEEKDAY(DATEVALUE(設定!$G$5&\"年\"&Q$1&\"月\"&C10&\"日\"))","v":1},6,"日",null,null,null,null,null,null,null,{"$f":"(SUM(E10:K10)+M10)*設定!$S$13","v":0},null,null,null,{"$f":"O10-M10*設定!$S$13","v":0},null,null,null,null,null,0,null,null,0,0,null,{"$f":"WEEKDAY(DATEVALUE(設定!$G$5&\"年\"&AM$1&\"月\"&AC10&\"日\"))","v":3},6,"火",null,null,null,null,null,null,null,{"$f":"(SUM(AE10:AK10)+AM10)*設定!$S$13","v":0},null,null,null,{"$f":"AO10-AM10*設定!$S$13","v":0},null,null,null,null,null,0,null,null,0,{"$f":"IF(OR(AB10=1,AB10=7,AB9=1,AB8=1,AB7=1),0,1)","v":0},null,{"$f":"WEEKDAY(DATEVALUE(設定!$G$5&\"年\"&BM$1&\"月\"&BC10&\"日\"))","v":6},6,"金",null,null,null,null,null,null,null,{"$f":"(SUM(BE10:BK10)+BM10)*設定!$S$13","v":0},null,null,null,{"$f":"BO10-BM10*設定!$S$13","v":0},null,null,null,null,null,0,null,null,1,1,null,{"$f":"WEEKDAY(DATEVALUE(設定!$G$5&\"年\"&CM$1&\"月\"&CC10&\"日\"))","v":1},6,"日",null,null,null,null,null,null,null,{"$f":"(SUM(CE10:CK10)+CM10)*設定!$S$13","v":0},null,null,null,{"$f":"CO10-CM10*設定!$S$13","v":0},null,null,null,null,null,0,null,null,0,0,null,{"$f":"WEEKDAY(DATEVALUE(設定!$G$5&\"年\"&DM$1&\"月\"&DC10&\"日\"))","v":4},6,"水",null,null,null,null,null,null,null,{"$f":"(SUM(DE10:DK10)+DM10)*設定!$S$13","v":0},null,null,null,{"$f":"DO10-DM10*設定!$S$13","v":0},null,null,null,null,null,0,null,null,0,0,null,{"$f":"WEEKDAY(DATEVALUE(設定!$G$5&\"年\"&EM$1&\"月\"&EC10&\"日\"))","v":7},6,"土",null,null,null,null,null,null,null,{"$f":"(SUM(EE10:EK10)+EM10)*設定!$S$13","v":0},null,null,null,{"$f":"EO10-EM10*設定!$S$13","v":0},null,null,null,null,null,0,null,null,0,0,null,{"$f":"WEEKDAY(DATEVALUE(設定!$G$5&\"年\"&FM$1&\"月\"&FC10&\"日\"))","v":2},6,"月",null,null,null,null,null,null,null,{"$f":"(SUM(FE10:FK10)+FM10)*設定!$S$13","v":0},null,null,null,{"$f":"FO10-FM10*設定!$S$13","v":0},null,null,null,null,null,0,null,null,1,1,null,{"$f":"WEEKDAY(DATEVALUE(設定!$G$5&\"年\"&GM$1&\"月\"&GC10&\"日\"))","v":5},6,"木",null,null,null,null,null,null,null,{"$f":"(SUM(GE10:GK10)+GM10)*設定!$S$13","v":0},null,null,null,{"$f":"GO10-GM10*設定!$S$13","v":0},null,null,null,null,null,0,null,null,1,1,null,{"$f":"WEEKDAY(DATEVALUE(設定!$G$5&\"年\"&HM$1&\"月\"&HC10&\"日\"))","v":7},6,"土",null,null,null,null,null,null,null,{"$f":"(SUM(HE10:HK10)+HM10)*設定!$S$13","v":0},null,null,null,{"$f":"HO10-HM10*設定!$S$13","v":0},null,null,null,null,null,0,null,null,0,0,null,{"$f":"WEEKDAY(DATEVALUE((設定!$G$5+1)&\"年\"&IM$1&\"月\"&IC10&\"日\"))","v":3},6,"火",null,null,null,null,null,null,null,{"$f":"(SUM(IE10:IK10)+IM10)*設定!$S$13","v":0},null,null,null,{"$f":"IO10-IM10*設定!$S$13","v":0},null,null,null,null,null,0,null,null,0,0,null,{"$f":"WEEKDAY(DATEVALUE((設定!$G$5+1)&\"年\"&JM$1&\"月\"&JC10&\"日\"))","v":6},6,"金",null,null,null,null,null,null,null,{"$f":"(SUM(JE10:JK10)+JM10)*設定!$S$13","v":0},null,null,null,{"$f":"JO10-JM10*設定!$S$13","v":0},null,null,null,null,null,0,null,null,1,1,null,{"$f":"WEEKDAY(DATEVALUE((設定!$G$5+1)&\"年\"&KM$1&\"月\"&KC10&\"日\"))","v":6},6,"金",null,null,null,null,null,null,null,{"$f":"(SUM(KE10:KK10)+KM10)*設定!$S$13","v":0},null,null,null,{"$f":"KO10-KM10*設定!$S$13","v":0},null,null,null,null,null,0,null,null,1,1,null,2025,20,23]
[null,{"$f":"WEEKDAY(DATEVALUE(設定!$G$5&\"年\"&Q$1&\"月\"&C11&\"日\"))","v":2},7,"月",null,null,null,null,null,null,null,{"$f":"(SUM(E11:K11)+M11)*設定!$S$13","v":0},null,null,null,{"$f":"O11-M11*設定!$S$13","v":0},null,null,null,null,null,0,null,null,0,0,null,{"$f":"WEEKDAY(DATEVALUE(設定!$G$5&\"年\"&AM$1&\"月\"&AC11&\"日\"))","v":4},7,"水",null,null,null,null,null,null,null,{"$f":"(SUM(AE11:AK11)+AM11)*設定!$S$13","v":0},null,null,null,{"$f":"AO11-AM11*設定!$S$13","v":0},null,null,null,null,null,0,null,null,1,{"$f":"IF(OR(AB11=1,AB11=7),0,1)","v":1},null,{"$f":"WEEKDAY(DATEVALUE(設定!$G$5&\"年\"&BM$1&\"月\"&BC11&\"日\"))","v":7},7,"土",null,null,null,null,null,null,null,{"$f":"(SUM(BE11:BK11)+BM11)*設定!$S$13","v":0},null,null,null,{"$f":"BO11-BM11*設定!$S$13","v":0},null,null,null,null,null,0,null,null,0,0,null,{"$f":"WEEKDAY(DATEVALUE(設定!$G$5&\"年\"&CM$1&\"月\"&CC11&\"日\"))","v":2},7,"月",null,null,null,null,null,null,null,{"$f":"(SUM(CE11:CK11)+CM11)*設定!$S$13","v":0},null,null,null,{"$f":"CO11-CM11*設定!$S$13","v":0},null,null,null,null,null,0,null,null,1,1,null,{"$f":"WEEKDAY(DATEVALUE(設定!$G$5&\"年\"&DM$1&\"月\"&DC11&\"日\"))","v":5},7,"木",null,null,null,null,null,null,null,{"$f":"(SUM(DE11:DK11)+DM11)*設定!$S$13","v":0},null,null,null,{"$f":"DO11-DM11*設定!$S$13","v":0},null,null,null,null,null,0,null,null,0,0,null,{"$f":"WEEKDAY(DATEVALUE(設定!$G$5&\"年\"&EM$1&\"月\"&EC11&\"日\"))","v":1},7,"日",null,null,null,null,null,null,null,{"$f":"(SUM(EE11:EK11)+EM11)*設定!$S$13","v":0},null,null,null,{"$f":"EO11-EM11*設定!$S$13","v":0},null,null,null,null,null,0,null,null,0,0,null,{"$f":"WEEKDAY(DATEVALUE(設定!$G$5&\"年\"&FM$1&\"月\"&FC11&\"日\"))","v":3},7,"火",null,null,null,null,null,null,null,{"$f":"(SUM(FE11:FK11)+FM11)*設定!$S$13","v":0},null,null,null,{"$f":"FO11-FM11*設定!$S$13","v":0},null,null,null,null,null,0,null,null,1,1,null,{"$f":"WEEKDAY(DATEVALUE(設定!$G$5&\"年\"&GM$1&\"月\"&GC11&\"日\"))","v":6},7,"金",null,null,null,null,null,null,null,{"$f":"(SUM(GE11:GK11)+GM11)*設定!$S$13","v":0},null,null,null,{"$f":"GO11-GM11*設定!$S$13","v":0},null,null,null,null,null,0,null,null,1,1,null,{"$f":"WEEKDAY(DATEVALUE(設定!$G$5&\"年\"&HM$1&\"月\"&HC11&\"日\"))","v":1},7,"日",null,null,null,null,null,null,null,{"$f":"(SUM(HE11:HK11)+HM11)*設定!$S$13","v":0},null,null,null,{"$f":"HO11-HM11*設定!$S$13","v":0},null,null,null,null,null,0,null,null,0,0,null,{"$f":"WEEKDAY(DATEVALUE((設定!$G$5+1)&\"年\"&IM$1&\"月\"&IC11&\"日\"))","v":4},7,"水",null,null,null,null,null,null,null,{"$f":"(SUM(IE11:IK11)+IM11)*設定!$S$13","v":0},null,null,null,{"$f":"IO11-IM11*設定!$S$13","v":0},null,null,null,null,null,0,null,null,0,0,null,{"$f":"WEEKDAY(DATEVALUE((設定!$G$5+1)&\"年\"&JM$1&\"月\"&JC11&\"日\"))","v":7},7,"土",null,null,null,null,null,null,null,{"$f":"(SUM(JE11:JK11)+JM11)*設定!$S$13","v":0},null,null,null,{"$f":"JO11-JM11*設定!$S$13","v":0},null,null,null,null,null,0,null,null,0,0,null,{"$f":"WEEKDAY(DATEVALUE((設定!$G$5+1)&\"年\"&KM$1&\"月\"&KC11&\"日\"))","v":7},7,"土",null,null,null,null,null,null,null,{"$f":"(SUM(KE11:KK11)+KM11)*設定!$S$13","v":0},null,null,null,{"$f":"KO11-KM11*設定!$S$13","v":0},null,null,null,null,null,0,null,null,0,0,null,2026,20,23]
[null,{"$f":"WEEKDAY(DATEVALUE(設定!$G$5&\"年\"&Q$1&\"月\"&C12&\"日\"))","v":3},8,"火",null,null,null,null,null,null,null,{"$f":"(SUM(E12:K12)+M12)*設定!$S$13","v":0},null,null,null,{"$f":"O12-M12*設定!$S$13","v":0},null,null,null,null,null,0,null,null,0,0,null,{"$f":"WEEKDAY(DATEVALUE(設定!$G$5&\"年\"&AM$1&\"月\"&AC12&\"日\"))","v":5},8,"木",null,null,null,null,null,null,null,{"$f":"(SUM(AE12:AK12)+AM12)*設定!$S$13","v":0},null,null,null,{"$f":"AO12-AM12*設定!$S$13","v":0},null,null,null,null,null,0,null,null,1,1,null,{"$f":"WEEKDAY(DATEVALUE(設定!$G$5&\"年\"&BM$1&\"月\"&BC12&\"日\"))","v":1},8,"日",null,null,null,null,null,null,null,{"$f":"(SUM(BE12:BK12)+BM12)*設定!$S$13","v":0},null,null,null,{"$f":"BO12-BM12*設定!$S$13","v":0},null,null,null,null,null,0,null,null,0,0,null,{"$f":"WEEKDAY(DATEVALUE(設定!$G$5&\"年\"&CM$1&\"月\"&CC12&\"日\"))","v":3},8,"火",null,null,null,null,null,null,null,{"$f":"(SUM(CE12:CK12)+CM12)*設定!$S$13","v":0},null,null,null,{"$f":"CO12-CM12*設定!$S$13","v":0},null,null,null,null,null,0,null,null,1,1,null,{"$f":"WEEKDAY(DATEVALUE(設定!$G$5&\"年\"&DM$1&\"月\"&DC12&\"日\"))","v":6},8,"金",null,null,null,null,null,null,null,{"$f":"(SUM(DE12:DK12)+DM12)*設定!$S$13","v":0},null,null,null,{"$f":"DO12-DM12*設定!$S$13","v":0},null,null,null,null,null,0,null,null,0,0,null,{"$f":"WEEKDAY(DATEVALUE(設定!$G$5&\"年\"&EM$1&\"月\"&EC12&\"日\"))","v":2},8,"月",null,null,null,null,null,null,null,{"$f":"(SUM(EE12:EK12)+EM12)*設定!$S$13","v":0},null,null,null,{"$f":"EO12-EM12*設定!$S$13","v":0},null,null,null,null,null,0,null,null,1,1,null,{"$f":"WEEKDAY(DATEVALUE(設定!$G$5&\"年\"&FM$1&\"月\"&FC12&\"日\"))","v":4},8,"水",null,null,null,null,null,null,null,{"$f":"(SUM(FE12:FK12)+FM12)*設定!$S$13","v":0},null,null,null,{"$f":"FO12-FM12*設定!$S$13","v":0},null,null,null,null,null,0,null,null,1,1,null,{"$f":"WEEKDAY(DATEVALUE(設定!$G$5&\"年\"&GM$1&\"月\"&GC12&\"日\"))","v":7},8,"土",null,null,null,null,null,null,null,{"$f":"(SUM(GE12:GK12)+GM12)*設定!$S$13","v":0},null,null,null,{"$f":"GO12-GM12*設定!$S$13","v":0},null,null,null,null,null,0,null,null,0,0,null,{"$f":"WEEKDAY(DATEVALUE(設定!$G$5&\"年\"&HM$1&\"月\"&HC12&\"日\"))","v":2},8,"月",null,null,null,null,null,null,null,{"$f":"(SUM(HE12:HK12)+HM12)*設定!$S$13","v":0},null,null,null,{"$f":"HO12-HM12*設定!$S$13","v":0},null,null,null,null,null,0,null,"特編授業",3,{"$f":"IF(OR(HB12=1,HB12=7),0,3)","v":3},null,{"$f":"WEEKDAY(DATEVALUE((設定!$G$5+1)&\"年\"&IM$1&\"月\"&IC12&\"日\"))","v":5},8,"木",null,null,null,null,null,null,null,{"$f":"(SUM(IE12:IK12)+IM12)*設定!$S$13","v":0},null,null,null,{"$f":"IO12-IM12*設定!$S$13","v":0},null,null,null,null,null,0,null,null,1,4,null,{"$f":"WEEKDAY(DATEVALUE((設定!$G$5+1)&\"年\"&JM$1&\"月\"&JC12&\"日\"))","v":1},8,"日",null,null,null,null,null,null,null,{"$f":"(SUM(JE12:JK12)+JM12)*設定!$S$13","v":0},null,null,null,{"$f":"JO12-JM12*設定!$S$13","v":0},null,null,null,null,null,0,null,null,0,0,null,{"$f":"WEEKDAY(DATEVALUE((設定!$G$5+1)&\"年\"&KM$1&\"月\"&KC12&\"日\"))","v":1},8,"日",null,null,null,null,null,null,null,{"$f":"(SUM(KE12:KK12)+KM12)*設定!$S$13","v":0},null,null,null,{"$f":"KO12-KM12*設定!$S$13","v":0},null,null,null,null,null,0,null,null,0,{"$f":"IF(OR(KB12=1,KB12=7),0,3)","v":0},null,2027,21,23]
[null,{"$f":"WEEKDAY(DATEVALUE(設定!$G$5&\"年\"&Q$1&\"月\"&C13&\"日\"))","v":4},9,"水",null,null,null,null,null,null,null,{"$f":"(SUM(E13:K13)+M13)*設定!$S$13","v":0},null,null,null,{"$f":"O13-M13*設定!$S$13","v":0},null,null,null,null,null,0,null,null,1,{"$f":"IF(OR(B13=1,B13=7),0,1)","v":1},null,{"$f":"WEEKDAY(DATEVALUE(設定!$G$5&\"年\"&AM$1&\"月\"&AC13&\"日\"))","v":6},9,"金",null,null,null,null,null,null,null,{"$f":"(SUM(AE13:AK13)+AM13)*設定!$S$13","v":0},null,null,null,{"$f":"AO13-AM13*設定!$S$13","v":0},null,null,null,null,null,0,null,null,1,1,null,{"$f":"WEEKDAY(DATEVALUE(設定!$G$5&\"年\"&BM$1&\"月\"&BC13&\"日\"))","v":2},9,"月",null,null,null,null,null,null,null,{"$f":"(SUM(BE13:BK13)+BM13)*設定!$S$13","v":0},null,null,null,{"$f":"BO13-BM13*設定!$S$13","v":0},null,null,null,null,null,0,null,null,1,1,null,{"$f":"WEEKDAY(DATEVALUE(設定!$G$5&\"年\"&CM$1&\"月\"&CC13&\"日\"))","v":4},9,"水",null,null,null,null,null,null,null,{"$f":"(SUM(CE13:CK13)+CM13)*設定!$S$13","v":0},null,null,null,{"$f":"CO13-CM13*設定!$S$13","v":0},null,null,null,null,null,0,null,null,1,1,null,{"$f":"WEEKDAY(DATEVALUE(設定!$G$5&\"年\"&DM$1&\"月\"&DC13&\"日\"))","v":7},9,"土",null,null,null,null,null,null,null,{"$f":"(SUM(DE13:DK13)+DM13)*設定!$S$13","v":0},null,null,null,{"$f":"DO13-DM13*設定!$S$13","v":0},null,null,null,null,null,0,null,null,0,0,null,{"$f":"WEEKDAY(DATEVALUE(設定!$G$5&\"年\"&EM$1&\"月\"&EC13&\"日\"))","v":3},9,"火",null,null,null,null,null,null,null,{"$f":"(SUM(EE13:EK13)+EM13)*設定!$S$13","v":0},null,null,null,{"$f":"EO13-EM13*設定!$S$13","v":0},null,null,null,null,null,0,null,null,1,1,null,{"$f":"WEEKDAY(DATEVALUE(設定!$G$5&\"年\"&FM$1&\"月\"&FC13&\"日\"))","v":5},9,"木",null,null,null,null,null,null,null,{"$f":"(SUM(FE13:FK13)+FM13)*設定!$S$13","v":0},null,null,null,{"$f":"FO13-FM13*設定!$S$13","v":0},null,null,null,null,null,0,null,null,1,1,null,{"$f":"WEEKDAY(DATEVALUE(設定!$G$5&\"年\"&GM$1&\"月\"&GC13&\"日\"))","v":1},9,"日",null,null,null,null,null,null,null,{"$f":"(SUM(GE13:GK13)+GM13)*設定!$S$13","v":0},null,null,null,{"$f":"GO13-GM13*設定!$S$13","v":0},null,null,null,null,null,0,null,null,0,0,null,{"$f":"WEEKDAY(DATEVALUE(設定!$G$5&\"年\"&HM$1&\"月\"&HC13&\"日\"))","v":3},9,"火",null,null,null,null,null,null,null,{"$f":"(SUM(HE13:HK13)+HM13)*設定!$S$13","v":0},null,null,null,{"$f":"HO13-HM13*設定!$S$13","v":0},null,null,null,null,null,0,null,"特編授業",3,3,null,{"$f":"WEEKDAY(DATEVALUE((設定!$G$5+1)&\"年\"&IM$1&\"月\"&IC13&\"日\"))","v":6},9,"金",null,null,null,null,null,null,null,{"$f":"(SUM(IE13:IK13)+IM13)*設定!$S$13","v":0},null,null,null,{"$f":"IO13-IM13*設定!$S$13","v":0},null,null,null,null,null,0,null,null,1,{"$f":"IF(OR(IB13=1,IB13=7),0,1)","v":1},null,{"$f":"WEEKDAY(DATEVALUE((設定!$G$5+1)&\"年\"&JM$1&\"月\"&JC13&\"日\"))","v":2},9,"月",null,null,null,null,null,null,null,{"$f":"(SUM(JE13:JK13)+JM13)*設定!$S$13","v":0},null,null,null,{"$f":"JO13-JM13*設定!$S$13","v":0},null,null,null,null,null,0,null,null,1,1,null,{"$f":"WEEKDAY(DATEVALUE((設定!$G$5+1)&\"年\"&KM$1&\"月\"&KC13&\"日\"))","v":2},9,"月",null,null,null,null,null,null,null,{"$f":"(SUM(KE13:KK13)+KM13)*設定!$S$13","v":0},null,null,null,{"$f":"KO13-KM13*設定!$S$13","v":0},null,null,null,null,null,0,null,"特編授業",3,3,null,2028,20,22]
[null,{"$f":"WEEKDAY(DATEVALUE(設定!$G$5&\"年\"&Q$1&\"月\"&C14&\"日\"))","v":5},10,"木",null,null,null,null,null,null,null,{"$f":"(SUM(E14:K14)+M14)*設定!$S$13","v":0},null,null,null,{"$f":"O14-M14*設定!$S$13","v":0},null,null,null,null,null,0,null,null,1,1,null,{"$f":"WEEKDAY(DATEVALUE(設定!$G$5&\"年\"&AM$1&\"月\"&AC14&\"日\"))","v":7},10,"土",null,null,null,null,null,null,null,{"$f":"(SUM(AE14:AK14)+AM14)*設定!$S$13","v":0},null,null,null,{"$f":"AO14-AM14*設定!$S$13","v":0},null,null,null,null,null,0,null,null,0,0,null,{"$f":"WEEKDAY(DATEVALUE(設定!$G$5&\"年\"&BM$1&\"月\"&BC14&\"日\"))","v":3},10,"火",null,null,null,null,null,null,null,{"$f":"(SUM(BE14:BK14)+BM14)*設定!$S$13","v":0},null,null,null,{"$f":"BO14-BM14*設定!$S$13","v":0},null,null,null,null,null,0,null,null,1,1,null,{"$f":"WEEKDAY(DATEVALUE(設定!$G$5&\"年\"&CM$1&\"月\"&CC14&\"日\"))","v":5},10,"木",null,null,null,null,null,null,null,{"$f":"(SUM(CE14:CK14)+CM14)*設定!$S$13","v":0},null,null,null,{"$f":"CO14-CM14*設定!$S$13","v":0},null,null,null,null,null,0,null,"特編授業",3,{"$f":"IF(OR(CB14=1,CB14=7),0,3)","v":3},null,{"$f":"WEEKDAY(DATEVALUE(設定!$G$5&\"年\"&DM$1&\"月\"&DC14&\"日\"))","v":1},10,"日",null,null,null,null,null,null,null,{"$f":"(SUM(DE14:DK14)+DM14)*設定!$S$13","v":0},null,null,null,{"$f":"DO14-DM14*設定!$S$13","v":0},null,null,null,null,null,0,null,null,0,0,null,{"$f":"WEEKDAY(DATEVALUE(設定!$G$5&\"年\"&EM$1&\"月\"&EC14&\"日\"))","v":4},10,"水",null,null,null,null,null,null,null,{"$f":"(SUM(EE14:EK14)+EM14)*設定!$S$13","v":0},null,null,null,{"$f":"EO14-EM14*設定!$S$13","v":0},null,null,null,null,null,0,null,null,1,1,null,{"$f":"WEEKDAY(DATEVALUE(設定!$G$5&\"年\"&FM$1&\"月\"&FC14&\"日\"))","v":6},10,"金",null,null,null,null,null,null,null,{"$f":"(SUM(FE14:FK14)+FM14)*設定!$S$13","v":0},null,null,null,{"$f":"FO14-FM14*設定!$S$13","v":0},null,null,null,null,null,0,null,null,1,1,null,{"$f":"WEEKDAY(DATEVALUE(設定!$G$5&\"年\"&GM$1&\"月\"&GC14&\"日\"))","v":2},10,"月",null,null,null,null,null,null,null,{"$f":"(SUM(GE14:GK14)+GM14)*設定!$S$13","v":0},null,null,null,{"$f":"GO14-GM14*設定!$S$13","v":0},null,null,null,null,null,0,null,null,1,1,null,{"$f":"WEEKDAY(DATEVALUE(設定!$G$5&\"年\"&HM$1&\"月\"&HC14&\"日\"))","v":4},10,"水",null,null,null,null,null,null,null,{"$f":"(SUM(HE14:HK14)+HM14)*設定!$S$13","v":0},null,null,null,{"$f":"HO14-HM14*設定!$S$13","v":0},null,null,null,null,null,0,null,"特編授業",3,3,null,{"$f":"WEEKDAY(DATEVALUE((設定!$G$5+1)&\"年\"&IM$1&\"月\"&IC14&\"日\"))","v":7},10,"土",null,null,null,null,null,null,null,{"$f":"(SUM(IE14:IK14)+IM14)*設定!$S$13","v":0},null,null,null,{"$f":"IO14-IM14*設定!$S$13","v":0},null,null,null,null,null,0,null,null,0,0,null,{"$f":"WEEKDAY(DATEVALUE((設定!$G$5+1)&\"年\"&JM$1&\"月\"&JC14&\"日\"))","v":3},10,"火",null,null,null,null,null,null,null,{"$f":"(SUM(JE14:JK14)+JM14)*設定!$S$13","v":0},null,null,null,{"$f":"JO14-JM14*設定!$S$13","v":0},null,null,null,null,null,0,null,null,1,1,null,{"$f":"WEEKDAY(DATEVALUE((設定!$G$5+1)&\"年\"&KM$1&\"月\"&KC14&\"日\"))","v":3},10,"火",null,null,null,null,null,null,null,{"$f":"(SUM(KE14:KK14)+KM14)*設定!$S$13","v":0},null,null,null,{"$f":"KO14-KM14*設定!$S$13","v":0},null,null,null,null,null,0,null,"特編授業",3,3,null,2029,20,23]
[null,{"$f":"WEEKDAY(DATEVALUE(設定!$G$5&\"年\"&Q$1&\"月\"&C15&\"日\"))","v":6},11,"金",null,null,null,null,null,null,null,{"$f":"(SUM(E15:K15)+M15)*設定!$S$13","v":0},null,null,null,{"$f":"O15-M15*設定!$S$13","v":0},null,null,null,null,null,0,null,null,1,1,null,{"$f":"WEEKDAY(DATEVALUE(設定!$G$5&\"年\"&AM$1&\"月\"&AC15&\"日\"))","v":1},11,"日",null,null,null,null,null,null,null,{"$f":"(SUM(AE15:AK15)+AM15)*設定!$S$13","v":0},null,null,null,{"$f":"AO15-AM15*設定!$S$13","v":0},null,null,null,null,null,0,null,null,0,0,null,{"$f":"WEEKDAY(DATEVALUE(設定!$G$5&\"年\"&BM$1&\"月\"&BC15&\"日\"))","v":4},11,"水",null,null,null,null,null,null,null,{"$f":"(SUM(BE15:BK15)+BM15)*設定!$S$13","v":0},null,null,null,{"$f":"BO15-BM15*設定!$S$13","v":0},null,null,null,null,null,0,null,null,1,1,null,{"$f":"WEEKDAY(DATEVALUE(設定!$G$5&\"年\"&CM$1&\"月\"&CC15&\"日\"))","v":6},11,"金",null,null,null,null,null,null,null,{"$f":"(SUM(CE15:CK15)+CM15)*設定!$S$13","v":0},null,null,null,{"$f":"CO15-CM15*設定!$S$13","v":0},null,null,null,null,null,0,null,"特編授業",3,3,null,{"$f":"WEEKDAY(DATEVALUE(設定!$G$5&\"年\"&DM$1&\"月\"&DC15&\"日\"))","v":2},11,"月",null,null,null,null,null,null,null,{"$f":"(SUM(DE15:DK15)+DM15)*設定!$S$13","v":0},null,null,null,{"$f":"DO15-DM15*設定!$S$13","v":0},null,null,null,null,null,0,null,"山の日",0,0,null,{"$f":"WEEKDAY(DATEVALUE(設定!$G$5&\"年\"&EM$1&\"月\"&EC15&\"日\"))","v":5},11,"木",null,null,null,null,null,null,null,{"$f":"(SUM(EE15:EK15)+EM15)*設定!$S$13","v":0},null,null,null,{"$f":"EO15-EM15*設定!$S$13","v":0},null,null,null,null,null,0,null,null,1,1,null,{"$f":"WEEKDAY(DATEVALUE(設定!$G$5&\"年\"&FM$1&\"月\"&FC15&\"日\"))","v":7},11,"土",null,null,null,null,null,null,null,{"$f":"(SUM(FE15:FK15)+FM15)*設定!$S$13","v":0},null,null,null,{"$f":"FO15-FM15*設定!$S$13","v":0},null,null,null,null,null,0,null,null,0,0,null,{"$f":"WEEKDAY(DATEVALUE(設定!$G$5&\"年\"&GM$1&\"月\"&GC15&\"日\"))","v":3},11,"火",null,null,null,null,null,null,null,{"$f":"(SUM(GE15:GK15)+GM15)*設定!$S$13","v":0},null,null,null,{"$f":"GO15-GM15*設定!$S$13","v":0},null,null,null,null,null,0,null,null,1,1,null,{"$f":"WEEKDAY(DATEVALUE(設定!$G$5&\"年\"&HM$1&\"月\"&HC15&\"日\"))","v":5},11,"木",null,null,null,null,null,null,null,{"$f":"(SUM(HE15:HK15)+HM15)*設定!$S$13","v":0},null,null,null,{"$f":"HO15-HM15*設定!$S$13","v":0},null,null,null,null,null,0,null,"特編授業",3,3,null,{"$f":"WEEKDAY(DATEVALUE((設定!$G$5+1)&\"年\"&IM$1&\"月\"&IC15&\"日\"))","v":1},11,"日",null,null,null,null,null,null,null,{"$f":"(SUM(IE15:IK15)+IM15)*設定!$S$13","v":0},null,null,null,{"$f":"IO15-IM15*設定!$S$13","v":0},null,null,null,null,null,0,null,null,0,0,null,{"$f":"WEEKDAY(DATEVALUE((設定!$G$5+1)&\"年\"&JM$1&\"月\"&JC15&\"日\"))","v":4},11,"水",null,null,null,null,null,null,null,{"$f":"(SUM(JE15:JK15)+JM15)*設定!$S$13","v":0},null,null,null,{"$f":"JO15-JM15*設定!$S$13","v":0},null,null,null,null,null,0,null,"建国記念の日",0,0,null,{"$f":"WEEKDAY(DATEVALUE((設定!$G$5+1)&\"年\"&KM$1&\"月\"&KC15&\"日\"))","v":4},11,"水",null,null,null,null,null,null,null,{"$f":"(SUM(KE15:KK15)+KM15)*設定!$S$13","v":0},null,null,null,{"$f":"KO15-KM15*設定!$S$13","v":0},null,null,null,null,null,0,null,"特編授業",3,3,null,2030,20,23]
[null,{"$f":"WEEKDAY(DATEVALUE(設定!$G$5&\"年\"&Q$1&\"月\"&C16&\"日\"))","v":7},12,"土",null,null,null,null,null,null,null,{"$f":"(SUM(E16:K16)+M16)*設定!$S$13","v":0},null,null,null,{"$f":"O16-M16*設定!$S$13","v":0},null,null,null,null,null,0,null,null,0,0,null,{"$f":"WEEKDAY(DATEVALUE(設定!$G$5&\"年\"&AM$1&\"月\"&AC16&\"日\"))","v":2},12,"月",null,null,null,null,null,null,null,{"$f":"(SUM(AE16:AK16)+AM16)*設定!$S$13","v":0},null,null,null,{"$f":"AO16-AM16*設定!$S$13","v":0},null,null,null,null,null,0,null,null,1,1,null,{"$f":"WEEKDAY(DATEVALUE(設定!$G$5&\"年\"&BM$1&\"月\"&BC16&\"日\"))","v":5},12,"木",null,null,null,null,null,null,null,{"$f":"(SUM(BE16:BK16)+BM16)*設定!$S$13","v":0},null,null,null,{"$f":"BO16-BM16*設定!$S$13","v":0},null,null,null,null,null,0,null,null,1,1,null,{"$f":"WEEKDAY(DATEVALUE(設定!$G$5&\"年\"&CM$1&\"月\"&CC16&\"日\"))","v":7},12,"土",null,null,null,null,null,null,null,{"$f":"(SUM(CE16:CK16)+CM16)*設定!$S$13","v":0},null,null,null,{"$f":"CO16-CM16*設定!$S$13","v":0},null,null,null,null,null,0,null,null,0,0,null,{"$f":"WEEKDAY(DATEVALUE(設定!$G$5&\"年\"&DM$1&\"月\"&DC16&\"日\"))","v":3},12,"火",null,null,null,null,null,null,null,{"$f":"(SUM(DE16:DK16)+DM16)*設定!$S$13","v":0},null,null,null,{"$f":"DO16-DM16*設定!$S$13","v":0},null,null,null,null,null,0,null,null,0,0,null,{"$f":"WEEKDAY(DATEVALUE(設定!$G$5&\"年\"&EM$1&\"月\"&EC16&\"日\"))","v":6},12,"金",null,null,null,null,null,null,null,{"$f":"(SUM(EE16:EK16)+EM16)*設定!$S$13","v":0},null,null,null,{"$f":"EO16-EM16*設定!$S$13","v":0},null,null,null,null,null,0,null,null,1,1,null,{"$f":"WEEKDAY(DATEVALUE(設定!$G$5&\"年\"&FM$1&\"月\"&FC16&\"日\"))","v":1},12,"日",null,null,null,null,null,null,null,{"$f":"(SUM(FE16:FK16)+FM16)*設定!$S$13","v":0},null,null,null,{"$f":"FO16-FM16*設定!$S$13","v":0},null,null,null,null,null,0,null,null,0,0,null,{"$f":"WEEKDAY(DATEVALUE(設定!$G$5&\"年\"&GM$1&\"月\"&GC16&\"日\"))","v":4},12,"水",null,null,null,null,null,null,null,{"$f":"(SUM(GE16:GK16)+GM16)*設定!$S$13","v":0},null,null,null,{"$f":"GO16-GM16*設定!$S$13","v":0},null,null,null,null,null,0,null,null,1,1,null,{"$f":"WEEKDAY(DATEVALUE(設定!$G$5&\"年\"&HM$1&\"月\"&HC16&\"日\"))","v":6},12,"金",null,null,null,null,null,null,null,{"$f":"(SUM(HE16:HK16)+HM16)*設定!$S$13","v":0},null,null,null,{"$f":"HO16-HM16*設定!$S$13","v":0},null,null,null,null,null,0,null,"特編授業",3,3,null,{"$f":"WEEKDAY(DATEVALUE((設定!$G$5+1)&\"年\"&IM$1&\"月\"&IC16&\"日\"))","v":2},12,"月",null,null,null,null,null,null,null,{"$f":"(SUM(IE16:IK16)+IM16)*設定!$S$13","v":0},null,null,null,{"$f":"IO16-IM16*設定!$S$13","v":0},null,null,null,null,null,0,null,"成人の日",0,1,null,{"$f":"WEEKDAY(DATEVALUE((設定!$G$5+1)&\"年\"&JM$1&\"月\"&JC16&\"日\"))","v":5},12,"木",null,null,null,null,null,null,null,{"$f":"(SUM(JE16:JK16)+JM16)*設定!$S$13","v":0},null,null,null,{"$f":"JO16-JM16*設定!$S$13","v":0},null,null,null,null,null,0,null,null,1,{"$f":"IF(OR(JB16=1,JB16=7),0,1)","v":1},null,{"$f":"WEEKDAY(DATEVALUE((設定!$G$5+1)&\"年\"&KM$1&\"月\"&KC16&\"日\"))","v":5},12,"木",null,null,null,null,null,null,null,{"$f":"(SUM(KE16:KK16)+KM16)*設定!$S$13","v":0},null,null,null,{"$f":"KO16-KM16*設定!$S$13","v":0},null,null,null,null,null,0,null,"特編授業",3,3,null,2031,21,23]
["1学期時数(分)",{"$f":"WEEKDAY(DATEVALUE(設定!$G$5&\"年\"&Q$1&\"月\"&C17&\"日\"))","v":1},13,"日",null,null,null,null,null,null,null,{"$f":"(SUM(E17:K17)+M17)*設定!$S$13","v":0},null,null,null,{"$f":"O17-M17*設定!$S$13","v":0},null,null,null,null,null,0,null,null,0,0,null,{"$f":"WEEKDAY(DATEVALUE(設定!$G$5&\"年\"&AM$1&\"月\"&AC17&\"日\"))","v":3},13,"火",null,null,null,null,null,null,null,{"$f":"(SUM(AE17:AK17)+AM17)*設定!$S$13","v":0},null,null,null,{"$f":"AO17-AM17*設定!$S$13","v":0},null,null,null,null,null,0,null,null,1,1,null,{"$f":"WEEKDAY(DATEVALUE(設定!$G$5&\"年\"&BM$1&\"月\"&BC17&\"日\"))","v":6},13,"金",null,null,null,null,null,null,null,{"$f":"(SUM(BE17:BK17)+BM17)*設定!$S$13","v":0},null,null,null,{"$f":"BO17-BM17*設定!$S$13","v":0},null,null,null,null,null,0,null,null,1,1,null,{"$f":"WEEKDAY(DATEVALUE(設定!$G$5&\"年\"&CM$1&\"月\"&CC17&\"日\"))","v":1},13,"日",null,null,null,null,null,null,null,{"$f":"(SUM(CE17:CK17)+CM17)*設定!$S$13","v":0},null,null,null,{"$f":"CO17-CM17*設定!$S$13","v":0},null,null,null,null,null,0,null,null,0,0,null,{"$f":"WEEKDAY(DATEVALUE(設定!$G$5&\"年\"&DM$1&\"月\"&DC17&\"日\"))","v":4},13,"水",null,null,null,null,null,null,null,{"$f":"(SUM(DE17:DK17)+DM17)*設定!$S$13","v":0},null,null,null,{"$f":"DO17-DM17*設定!$S$13","v":0},null,null,null,null,null,0,null,null,0,0,null,{"$f":"WEEKDAY(DATEVALUE(設定!$G$5&\"年\"&EM$1&\"月\"&EC17&\"日\"))","v":7},13,"土",null,null,null,null,null,null,null,{"$f":"(SUM(EE17:EK17)+EM17)*設定!$S$13","v":0},null,null,null,{"$f":"EO17-EM17*設定!$S$13","v":0},null,null,null,null,null,0,null,null,0,0,null,{"$f":"WEEKDAY(DATEVALUE(設定!$G$5&\"年\"&FM$1&\"月\"&FC17&\"日\"))","v":2},13,"月",null,null,null,null,null,null,null,{"$f":"(SUM(FE17:FK17)+FM17)*設定!$S$13","v":0},null,null,null,{"$f":"FO17-FM17*設定!$S$13","v":0},null,null,null,null,null,0,null,"スポーツの日",0,1,null,{"$f":"WEEKDAY(DATEVALUE(設定!$G$5&\"年\"&GM$1&\"月\"&GC17&\"日\"))","v":5},13,"木",null,null,null,null,null,null,null,{"$f":"(SUM(GE17:GK17)+GM17)*設定!$S$13","v":0},null,null,null,{"$f":"GO17-GM17*設定!$S$13","v":0},null,null,null,null,null,0,null,null,1,1,null,{"$f":"WEEKDAY(DATEVALUE(設定!$G$5&\"年\"&HM$1&\"月\"&HC17&\"日\"))","v":7},13,"土",null,null,null,null,null,null,null,{"$f":"(SUM(HE17:HK17)+HM17)*設定!$S$13","v":0},null,null,null,{"$f":"HO17-HM17*設定!$S$13","v":0},null,null,null,null,null,0,null,null,0,0,null,{"$f":"WEEKDAY(DATEVALUE((設定!$G$5+1)&\"年\"&IM$1&\"月\"&IC17&\"日\"))","v":3},13,"火",null,null,null,null,null,null,null,{"$f":"(SUM(IE17:IK17)+IM17)*設定!$S$13","v":0},null,null,null,{"$f":"IO17-IM17*設定!$S$13","v":0},null,null,null,null,null,0,null,null,1,1,null,{"$f":"WEEKDAY(DATEVALUE((設定!$G$5+1)&\"年\"&JM$1&\"月\"&JC17&\"日\"))","v":6},13,"金",null,null,null,null,null,null,null,{"$f":"(SUM(JE17:JK17)+JM17)*設定!$S$13","v":0},null,null,null,{"$f":"JO17-JM17*設定!$S$13","v":0},null,null,null,null,null,0,null,null,1,1,null,{"$f":"WEEKDAY(DATEVALUE((設定!$G$5+1)&\"年\"&KM$1&\"月\"&KC17&\"日\"))","v":6},13,"金",null,null,null,null,null,null,null,{"$f":"(SUM(KE17:KK17)+KM17)*設定!$S$13","v":0},null,null,null,{"$f":"KO17-KM17*設定!$S$13","v":0},null,null,null,null,null,0,null,"特編授業",3,3,null,2032,20,22]
[{"$f":"集計!P7","v":0},{"$f":"WEEKDAY(DATEVALUE(設定!$G$5&\"年\"&Q$1&\"月\"&C18&\"日\"))","v":2},14,"月",null,null,null,null,null,null,null,{"$f":"(SUM(E18:K18)+M18)*設定!$S$13","v":0},null,null,null,{"$f":"O18-M18*設定!$S$13","v":0},null,null,null,null,null,0,null,null,1,1,null,{"$f":"WEEKDAY(DATEVALUE(設定!$G$5&\"年\"&AM$1&\"月\"&AC18&\"日\"))","v":4},14,"水",null,null,null,null,null,null,null,{"$f":"(SUM(AE18:AK18)+AM18)*設定!$S$13","v":0},null,null,null,{"$f":"AO18-AM18*設定!$S$13","v":0},null,null,null,null,null,0,null,null,1,1,null,{"$f":"WEEKDAY(DATEVALUE(設定!$G$5&\"年\"&BM$1&\"月\"&BC18&\"日\"))","v":7},14,"土",null,null,null,null,null,null,null,{"$f":"(SUM(BE18:BK18)+BM18)*設定!$S$13","v":0},null,null,null,{"$f":"BO18-BM18*設定!$S$13","v":0},null,null,null,null,null,0,null,null,0,0,null,{"$f":"WEEKDAY(DATEVALUE(設定!$G$5&\"年\"&CM$1&\"月\"&CC18&\"日\"))","v":2},14,"月",null,null,null,null,null,null,null,{"$f":"(SUM(CE18:CK18)+CM18)*設定!$S$13","v":0},null,null,null,{"$f":"CO18-CM18*設定!$S$13","v":0},null,null,null,null,null,0,null,"特編授業",3,3,null,{"$f":"WEEKDAY(DATEVALUE(設定!$G$5&\"年\"&DM$1&\"月\"&DC18&\"日\"))","v":5},14,"木",null,null,null,null,null,null,null,{"$f":"(SUM(DE18:DK18)+DM18)*設定!$S$13","v":0},null,null,null,{"$f":"DO18-DM18*設定!$S$13","v":0},null,null,null,null,null,0,null,null,0,0,null,{"$f":"WEEKDAY(DATEVALUE(設定!$G$5&\"年\"&EM$1&\"月\"&EC18&\"日\"))","v":1},14,"日",null,null,null,null,null,null,null,{"$f":"(SUM(EE18:EK18)+EM18)*設定!$S$13","v":0},null,null,null,{"$f":"EO18-EM18*設定!$S$13","v":0},null,null,null,null,null,0,null,null,0,0,null,{"$f":"WEEKDAY(DATEVALUE(設定!$G$5&\"年\"&FM$1&\"月\"&FC18&\"日\"))","v":3},14,"火",null,null,null,null,null,null,null,{"$f":"(SUM(FE18:FK18)+FM18)*設定!$S$13","v":0},null,null,null,{"$f":"FO18-FM18*設定!$S$13","v":0},null,null,null,null,null,0,null,null,1,1,null,{"$f":"WEEKDAY(DATEVALUE(設定!$G$5&\"年\"&GM$1&\"月\"&GC18&\"日\"))","v":6},14,"金",null,null,null,null,null,null,null,{"$f":"(SUM(GE18:GK18)+GM18)*設定!$S$13","v":0},null,null,null,{"$f":"GO18-GM18*設定!$S$13","v":0},null,null,null,null,null,0,null,null,1,1,null,{"$f":"WEEKDAY(DATEVALUE(設定!$G$5&\"年\"&HM$1&\"月\"&HC18&\"日\"))","v":1},14,"日",null,null,null,null,null,null,null,{"$f":"(SUM(HE18:HK18)+HM18)*設定!$S$13","v":0},null,null,null,{"$f":"HO18-HM18*設定!$S$13","v":0},null,null,null,null,null,0,null,null,0,0,null,{"$f":"WEEKDAY(DATEVALUE((設定!$G$5+1)&\"年\"&IM$1&\"月\"&IC18&\"日\"))","v":4},14,"水",null,null,null,null,null,null,null,{"$f":"(SUM(IE18:IK18)+IM18)*設定!$S$13","v":0},null,null,null,{"$f":"IO18-IM18*設定!$S$13","v":0},null,null,null,null,null,0,null,null,1,1,null,{"$f":"WEEKDAY(DATEVALUE((設定!$G$5+1)&\"年\"&JM$1&\"月\"&JC18&\"日\"))","v":7},14,"土",null,null,null,null,null,null,null,{"$f":"(SUM(JE18:JK18)+JM18)*設定!$S$13","v":0},null,null,null,{"$f":"JO18-JM18*設定!$S$13","v":0},null,null,null,null,null,0,null,null,0,0,null,{"$f":"WEEKDAY(DATEVALUE((設定!$G$5+1)&\"年\"&KM$1&\"月\"&KC18&\"日\"))","v":7},14,"土",null,null,null,null,null,null,null,{"$f":"(SUM(KE18:KK18)+KM18)*設定!$S$13","v":0},null,null,null,{"$f":"KO18-KM18*設定!$S$13","v":0},null,null,null,null,null,0,null,null,0,0,null,2033,20,23]
[{"$f":"集計!T7","v":0},{"$f":"WEEKDAY(DATEVALUE(設定!$G$5&\"年\"&Q$1&\"月\"&C19&\"日\"))","v":3},15,"火",null,null,null,null,null,null,null,{"$f":"(SUM(E19:K19)+M19)*設定!$S$13","v":0},null,null,null,{"$f":"O19-M19*設定!$S$13","v":0},null,null,null,null,null,0,null,null,1,1,null,{"$f":"WEEKDAY(DATEVALUE(設定!$G$5&\"年\"&AM$1&\"月\"&AC19&\"日\"))","v":5},15,"木",null,null,null,null,null,null,null,{"$f":"(SUM(AE19:AK19)+AM19)*設定!$S$13","v":0},null,null,null,{"$f":"AO19-AM19*設定!$S$13","v":0},null,null,null,null,null,0,null,null,1,1,null,{"$f":"WEEKDAY(DATEVALUE(設定!$G$5&\"年\"&BM$1&\"月\"&BC19&\"日\"))","v":1},15,"日",null,null,null,null,null,null,null,{"$f":"(SUM(BE19:BK19)+BM19)*設定!$S$13","v":0},null,null,null,{"$f":"BO19-BM19*設定!$S$13","v":0},null,null,null,null,null,0,null,null,0,0,null,{"$f":"WEEKDAY(DATEVALUE(設定!$G$5&\"年\"&CM$1&\"月\"&CC19&\"日\"))","v":3},15,"火",null,null,null,null,null,null,null,{"$f":"(SUM(CE19:CK19)+CM19)*設定!$S$13","v":0},null,null,null,{"$f":"CO19-CM19*設定!$S$13","v":0},null,null,null,null,null,0,null,"特編授業",3,3,null,{"$f":"WEEKDAY(DATEVALUE(設定!$G$5&\"年\"&DM$1&\"月\"&DC19&\"日\"))","v":6},15,"金",null,null,null,null,null,null,null,{"$f":"(SUM(DE19:DK19)+DM19)*設定!$S$13","v":0},null,null,null,{"$f":"DO19-DM19*設定!$S$13","v":0},null,null,null,null,null,0,null,null,0,0,null,{"$f":"WEEKDAY(DATEVALUE(設定!$G$5&\"年\"&EM$1&\"月\"&EC19&\"日\"))","v":2},15,"月",null,null,null,null,null,null,null,{"$f":"(SUM(EE19:EK19)+EM19)*設定!$S$13","v":0},null,null,null,{"$f":"EO19-EM19*設定!$S$13","v":0},null,null,null,null,null,0,null,"敬老の日",0,1,null,{"$f":"WEEKDAY(DATEVALUE(設定!$G$5&\"年\"&FM$1&\"月\"&FC19&\"日\"))","v":4},15,"水",null,null,null,null,null,null,null,{"$f":"(SUM(FE19:FK19)+FM19)*設定!$S$13","v":0},null,null,null,{"$f":"FO19-FM19*設定!$S$13","v":0},null,null,null,null,null,0,null,null,1,1,null,{"$f":"WEEKDAY(DATEVALUE(設定!$G$5&\"年\"&GM$1&\"月\"&GC19&\"日\"))","v":7},15,"土",null,null,null,null,null,null,null,{"$f":"(SUM(GE19:GK19)+GM19)*設定!$S$13","v":0},null,null,null,{"$f":"GO19-GM19*設定!$S$13","v":0},null,null,null,null,null,0,null,null,0,0,null,{"$f":"WEEKDAY(DATEVALUE(設定!$G$5&\"年\"&HM$1&\"月\"&HC19&\"日\"))","v":2},15,"月",null,null,null,null,null,null,null,{"$f":"(SUM(HE19:HK19)+HM19)*設定!$S$13","v":0},null,null,null,{"$f":"HO19-HM19*設定!$S$13","v":0},null,null,null,null,null,0,null,"特編授業",3,3,null,{"$f":"WEEKDAY(DATEVALUE((設定!$G$5+1)&\"年\"&IM$1&\"月\"&IC19&\"日\"))","v":5},15,"木",null,null,null,null,null,null,null,{"$f":"(SUM(IE19:IK19)+IM19)*設定!$S$13","v":0},null,null,null,{"$f":"IO19-IM19*設定!$S$13","v":0},null,null,null,null,null,0,null,null,1,1,null,{"$f":"WEEKDAY(DATEVALUE((設定!$G$5+1)&\"年\"&JM$1&\"月\"&JC19&\"日\"))","v":1},15,"日",null,null,null,null,null,null,null,{"$f":"(SUM(JE19:JK19)+JM19)*設定!$S$13","v":0},null,null,null,{"$f":"JO19-JM19*設定!$S$13","v":0},null,null,null,null,null,0,null,null,0,0,null,{"$f":"WEEKDAY(DATEVALUE((設定!$G$5+1)&\"年\"&KM$1&\"月\"&KC19&\"日\"))","v":1},15,"日",null,null,null,null,null,null,null,{"$f":"(SUM(KE19:KK19)+KM19)*設定!$S$13","v":0},null,null,null,{"$f":"KO19-KM19*設定!$S$13","v":0},null,null,null,null,null,0,null,null,0,0,null,2034,20,23]
[{"$f":"集計!S7","v":0},{"$f":"WEEKDAY(DATEVALUE(設定!$G$5&\"年\"&Q$1&\"月\"&C20&\"日\"))","v":4},16,"水",null,null,null,null,null,null,null,{"$f":"(SUM(E20:K20)+M20)*設定!$S$13","v":0},null,null,null,{"$f":"O20-M20*設定!$S$13","v":0},null,null,null,null,null,0,null,null,1,1,null,{"$f":"WEEKDAY(DATEVALUE(設定!$G$5&\"年\"&AM$1&\"月\"&AC20&\"日\"))","v":6},16,"金",null,null,null,null,null,null,null,{"$f":"(SUM(AE20:AK20)+AM20)*設定!$S$13","v":0},null,null,null,{"$f":"AO20-AM20*設定!$S$13","v":0},null,null,null,null,null,0,null,null,1,1,null,{"$f":"WEEKDAY(DATEVALUE(設定!$G$5&\"年\"&BM$1&\"月\"&BC20&\"日\"))","v":2},16,"月",null,null,null,null,null,null,null,{"$f":"(SUM(BE20:BK20)+BM20)*設定!$S$13","v":0},null,null,null,{"$f":"BO20-BM20*設定!$S$13","v":0},null,null,null,null,null,0,null,null,1,1,null,{"$f":"WEEKDAY(DATEVALUE(設定!$G$5&\"年\"&CM$1&\"月\"&CC20&\"日\"))","v":4},16,"水",null,null,null,null,null,null,null,{"$f":"(SUM(CE20:CK20)+CM20)*設定!$S$13","v":0},null,null,null,{"$f":"CO20-CM20*設定!$S$13","v":0},null,null,null,null,null,0,null,"特編授業",3,3,null,{"$f":"WEEKDAY(DATEVALUE(設定!$G$5&\"年\"&DM$1&\"月\"&DC20&\"日\"))","v":7},16,"土",null,null,null,null,null,null,null,{"$f":"(SUM(DE20:DK20)+DM20)*設定!$S$13","v":0},null,null,null,{"$f":"DO20-DM20*設定!$S$13","v":0},null,null,null,null,null,0,null,null,0,0,null,{"$f":"WEEKDAY(DATEVALUE(設定!$G$5&\"年\"&EM$1&\"月\"&EC20&\"日\"))","v":3},16,"火",null,null,null,null,null,null,null,{"$f":"(SUM(EE20:EK20)+EM20)*設定!$S$13","v":0},null,null,null,{"$f":"EO20-EM20*設定!$S$13","v":0},null,null,null,null,null,0,null,null,1,1,null,{"$f":"WEEKDAY(DATEVALUE(設定!$G$5&\"年\"&FM$1&\"月\"&FC20&\"日\"))","v":5},16,"木",null,null,null,null,null,null,null,{"$f":"(SUM(FE20:FK20)+FM20)*設定!$S$13","v":0},null,null,null,{"$f":"FO20-FM20*設定!$S$13","v":0},null,null,null,null,null,0,null,null,1,1,null,{"$f":"WEEKDAY(DATEVALUE(設定!$G$5&\"年\"&GM$1&\"月\"&GC20&\"日\"))","v":1},16,"日",null,null,null,null,null,null,null,{"$f":"(SUM(GE20:GK20)+GM20)*設定!$S$13","v":0},null,null,null,{"$f":"GO20-GM20*設定!$S$13","v":0},null,null,null,null,null,0,null,null,0,0,null,{"$f":"WEEKDAY(DATEVALUE(設定!$G$5&\"年\"&HM$1&\"月\"&HC20&\"日\"))","v":3},16,"火",null,null,null,null,null,null,null,{"$f":"(SUM(HE20:HK20)+HM20)*設定!$S$13","v":0},null,null,null,{"$f":"HO20-HM20*設定!$S$13","v":0},null,null,null,null,null,0,null,"特編授業",3,3,null,{"$f":"WEEKDAY(DATEVALUE((設定!$G$5+1)&\"年\"&IM$1&\"月\"&IC20&\"日\"))","v":6},16,"金",null,null,null,null,null,null,null,{"$f":"(SUM(IE20:IK20)+IM20)*設定!$S$13","v":0},null,null,null,{"$f":"IO20-IM20*設定!$S$13","v":0},null,null,null,null,null,0,null,null,1,1,null,{"$f":"WEEKDAY(DATEVALUE((設定!$G$5+1)&\"年\"&JM$1&\"月\"&JC20&\"日\"))","v":2},16,"月",null,null,null,null,null,null,null,{"$f":"(SUM(JE20:JK20)+JM20)*設定!$S$13","v":0},null,null,null,{"$f":"JO20-JM20*設定!$S$13","v":0},null,null,null,null,null,0,null,null,1,1,null,{"$f":"WEEKDAY(DATEVALUE((設定!$G$5+1)&\"年\"&KM$1&\"月\"&KC20&\"日\"))","v":2},16,"月",null,null,null,null,null,null,null,{"$f":"(SUM(KE20:KK20)+KM20)*設定!$S$13","v":0},null,null,null,{"$f":"KO20-KM20*設定!$S$13","v":0},null,null,null,null,null,0,null,"特編授業",3,3,null,2035,21,23]
[null,{"$f":"WEEKDAY(DATEVALUE(設定!$G$5&\"年\"&Q$1&\"月\"&C21&\"日\"))","v":5},17,"木",null,null,null,null,null,null,null,{"$f":"(SUM(E21:K21)+M21)*設定!$S$13","v":0},null,null,null,{"$f":"O21-M21*設定!$S$13","v":0},null,null,null,null,null,0,null,null,1,1,null,{"$f":"WEEKDAY(DATEVALUE(設定!$G$5&\"年\"&AM$1&\"月\"&AC21&\"日\"))","v":7},17,"土",null,null,null,null,null,null,null,{"$f":"(SUM(AE21:AK21)+AM21)*設定!$S$13","v":0},null,null,null,{"$f":"AO21-AM21*設定!$S$13","v":0},null,null,null,null,null,0,null,null,0,0,null,{"$f":"WEEKDAY(DATEVALUE(設定!$G$5&\"年\"&BM$1&\"月\"&BC21&\"日\"))","v":3},17,"火",null,null,null,null,null,null,null,{"$f":"(SUM(BE21:BK21)+BM21)*設定!$S$13","v":0},null,null,null,{"$f":"BO21-BM21*設定!$S$13","v":0},null,null,null,null,null,0,null,null,1,1,null,{"$f":"WEEKDAY(DATEVALUE(設定!$G$5&\"年\"&CM$1&\"月\"&CC21&\"日\"))","v":5},17,"木",null,null,null,null,null,null,null,{"$f":"(SUM(CE21:CK21)+CM21)*設定!$S$13","v":0},null,null,null,{"$f":"CO21-CM21*設定!$S$13","v":0},null,null,null,null,null,0,null,"特編授業",3,3,null,{"$f":"WEEKDAY(DATEVALUE(設定!$G$5&\"年\"&DM$1&\"月\"&DC21&\"日\"))","v":1},17,"日",null,null,null,null,null,null,null,{"$f":"(SUM(DE21:DK21)+DM21)*設定!$S$13","v":0},null,null,null,{"$f":"DO21-DM21*設定!$S$13","v":0},null,null,null,null,null,0,null,null,0,0,null,{"$f":"WEEKDAY(DATEVALUE(設定!$G$5&\"年\"&EM$1&\"月\"&EC21&\"日\"))","v":4},17,"水",null,null,null,null,null,null,null,{"$f":"(SUM(EE21:EK21)+EM21)*設定!$S$13","v":0},null,null,null,{"$f":"EO21-EM21*設定!$S$13","v":0},null,null,null,null,null,0,null,null,1,1,null,{"$f":"WEEKDAY(DATEVALUE(設定!$G$5&\"年\"&FM$1&\"月\"&FC21&\"日\"))","v":6},17,"金",null,null,null,null,null,null,null,{"$f":"(SUM(FE21:FK21)+FM21)*設定!$S$13","v":0},null,null,null,{"$f":"FO21-FM21*設定!$S$13","v":0},null,null,null,null,null,0,null,null,1,1,null,{"$f":"WEEKDAY(DATEVALUE(設定!$G$5&\"年\"&GM$1&\"月\"&GC21&\"日\"))","v":2},17,"月",null,null,null,null,null,null,null,{"$f":"(SUM(GE21:GK21)+GM21)*設定!$S$13","v":0},null,null,null,{"$f":"GO21-GM21*設定!$S$13","v":0},null,null,null,null,null,0,null,null,1,1,null,{"$f":"WEEKDAY(DATEVALUE(設定!$G$5&\"年\"&HM$1&\"月\"&HC21&\"日\"))","v":4},17,"水",null,null,null,null,null,null,null,{"$f":"(SUM(HE21:HK21)+HM21)*設定!$S$13","v":0},null,null,null,{"$f":"HO21-HM21*設定!$S$13","v":0},null,null,null,null,null,0,null,"特編授業",3,3,null,{"$f":"WEEKDAY(DATEVALUE((設定!$G$5+1)&\"年\"&IM$1&\"月\"&IC21&\"日\"))","v":7},17,"土",null,null,null,null,null,null,null,{"$f":"(SUM(IE21:IK21)+IM21)*設定!$S$13","v":0},null,null,null,{"$f":"IO21-IM21*設定!$S$13","v":0},null,null,null,null,null,0,null,null,0,0,null,{"$f":"WEEKDAY(DATEVALUE((設定!$G$5+1)&\"年\"&JM$1&\"月\"&JC21&\"日\"))","v":3},17,"火",null,null,null,null,null,null,null,{"$f":"(SUM(JE21:JK21)+JM21)*設定!$S$13","v":0},null,null,null,{"$f":"JO21-JM21*設定!$S$13","v":0},null,null,null,null,null,0,null,null,1,1,null,{"$f":"WEEKDAY(DATEVALUE((設定!$G$5+1)&\"年\"&KM$1&\"月\"&KC21&\"日\"))","v":3},17,"火",null,null,null,null,null,null,null,{"$f":"(SUM(KE21:KK21)+KM21)*設定!$S$13","v":0},null,null,null,{"$f":"KO21-KM21*設定!$S$13","v":0},null,null,null,null,null,0,null,"特編授業",3,3,null,2036,20,22]
["２学期時数(分)",{"$f":"WEEKDAY(DATEVALUE(設定!$G$5&\"年\"&Q$1&\"月\"&C22&\"日\"))","v":6},18,"金",null,null,null,null,null,null,null,{"$f":"(SUM(E22:K22)+M22)*設定!$S$13","v":0},null,null,null,{"$f":"O22-M22*設定!$S$13","v":0},null,null,null,null,null,0,null,null,1,1,null,{"$f":"WEEKDAY(DATEVALUE(設定!$G$5&\"年\"&AM$1&\"月\"&AC22&\"日\"))","v":1},18,"日",null,null,null,null,null,null,null,{"$f":"(SUM(AE22:AK22)+AM22)*設定!$S$13","v":0},null,null,null,{"$f":"AO22-AM22*設定!$S$13","v":0},null,null,null,null,null,0,null,null,0,0,null,{"$f":"WEEKDAY(DATEVALUE(設定!$G$5&\"年\"&BM$1&\"月\"&BC22&\"日\"))","v":4},18,"水",null,null,null,null,null,null,null,{"$f":"(SUM(BE22:BK22)+BM22)*設定!$S$13","v":0},null,null,null,{"$f":"BO22-BM22*設定!$S$13","v":0},null,null,null,null,null,0,null,null,1,1,null,{"$f":"WEEKDAY(DATEVALUE(設定!$G$5&\"年\"&CM$1&\"月\"&CC22&\"日\"))","v":6},18,"金",null,null,null,null,null,null,null,{"$f":"(SUM(CE22:CK22)+CM22)*設定!$S$13","v":0},null,null,null,{"$f":"CO22-CM22*設定!$S$13","v":0},null,null,null,null,null,0,null,"特編授業",3,3,null,{"$f":"WEEKDAY(DATEVALUE(設定!$G$5&\"年\"&DM$1&\"月\"&DC22&\"日\"))","v":2},18,"月",null,null,null,null,null,null,null,{"$f":"(SUM(DE22:DK22)+DM22)*設定!$S$13","v":0},null,null,null,{"$f":"DO22-DM22*設定!$S$13","v":0},null,null,null,null,null,0,null,null,0,0,null,{"$f":"WEEKDAY(DATEVALUE(設定!$G$5&\"年\"&EM$1&\"月\"&EC22&\"日\"))","v":5},18,"木",null,null,null,null,null,null,null,{"$f":"(SUM(EE22:EK22)+EM22)*設定!$S$13","v":0},null,null,null,{"$f":"EO22-EM22*設定!$S$13","v":0},null,null,null,null,null,0,null,null,1,1,null,{"$f":"WEEKDAY(DATEVALUE(設定!$G$5&\"年\"&FM$1&\"月\"&FC22&\"日\"))","v":7},18,"土",null,null,null,null,null,null,null,{"$f":"(SUM(FE22:FK22)+FM22)*設定!$S$13","v":0},null,null,null,{"$f":"FO22-FM22*設定!$S$13","v":0},null,null,null,null,null,0,null,null,0,0,null,{"$f":"WEEKDAY(DATEVALUE(設定!$G$5&\"年\"&GM$1&\"月\"&GC22&\"日\"))","v":3},18,"火",null,null,null,null,null,null,null,{"$f":"(SUM(GE22:GK22)+GM22)*設定!$S$13","v":0},null,null,null,{"$f":"GO22-GM22*設定!$S$13","v":0},null,null,null,null,null,0,null,null,1,1,null,{"$f":"WEEKDAY(DATEVALUE(設定!$G$5&\"年\"&HM$1&\"月\"&HC22&\"日\"))","v":5},18,"木",null,null,null,null,null,null,null,{"$f":"(SUM(HE22:HK22)+HM22)*設定!$S$13","v":0},null,null,null,{"$f":"HO22-HM22*設定!$S$13","v":0},null,null,null,null,null,0,null,"特編授業",3,3,null,{"$f":"WEEKDAY(DATEVALUE((設定!$G$5+1)&\"年\"&IM$1&\"月\"&IC22&\"日\"))","v":1},18,"日",null,null,null,null,null,null,null,{"$f":"(SUM(IE22:IK22)+IM22)*設定!$S$13","v":0},null,null,null,{"$f":"IO22-IM22*設定!$S$13","v":0},null,null,null,null,null,0,null,null,0,0,null,{"$f":"WEEKDAY(DATEVALUE((設定!$G$5+1)&\"年\"&JM$1&\"月\"&JC22&\"日\"))","v":4},18,"水",null,null,null,null,null,null,null,{"$f":"(SUM(JE22:JK22)+JM22)*設定!$S$13","v":0},null,null,null,{"$f":"JO22-JM22*設定!$S$13","v":0},null,null,null,null,null,0,null,null,1,1,null,{"$f":"WEEKDAY(DATEVALUE((設定!$G$5+1)&\"年\"&KM$1&\"月\"&KC22&\"日\"))","v":4},18,"水",null,null,null,null,null,null,null,{"$f":"(SUM(KE22:KK22)+KM22)*設定!$S$13","v":0},null,null,null,{"$f":"KO22-KM22*設定!$S$13","v":0},null,null,null,null,null,0,null,"特編授業",3,3,null,2037,20,23]
[{"$f":"集計!P11+集計!T7","v":0},{"$f":"WEEKDAY(DATEVALUE(設定!$G$5&\"年\"&Q$1&\"月\"&C23&\"日\"))","v":7},19,"土",null,null,null,null,null,null,null,{"$f":"(SUM(E23:K23)+M23)*設定!$S$13","v":0},null,null,null,{"$f":"O23-M23*設定!$S$13","v":0},null,null,null,null,null,0,null,null,0,0,null,{"$f":"WEEKDAY(DATEVALUE(設定!$G$5&\"年\"&AM$1&\"月\"&AC23&\"日\"))","v":2},19,"月",null,null,null,null,null,null,null,{"$f":"(SUM(AE23:AK23)+AM23)*設定!$S$13","v":0},null,null,null,{"$f":"AO23-AM23*設定!$S$13","v":0},null,null,null,null,null,0,null,null,1,1,null,{"$f":"WEEKDAY(DATEVALUE(設定!$G$5&\"年\"&BM$1&\"月\"&BC23&\"日\"))","v":5},19,"木",null,null,null,null,null,null,null,{"$f":"(SUM(BE23:BK23)+BM23)*設定!$S$13","v":0},null,null,null,{"$f":"BO23-BM23*設定!$S$13","v":0},null,null,null,null,null,0,null,null,1,1,null,{"$f":"WEEKDAY(DATEVALUE(設定!$G$5&\"年\"&CM$1&\"月\"&CC23&\"日\"))","v":7},19,"土",null,null,null,null,null,null,null,{"$f":"(SUM(CE23:CK23)+CM23)*設定!$S$13","v":0},null,null,null,{"$f":"CO23-CM23*設定!$S$13","v":0},null,null,null,null,null,0,null,null,0,{"$f":"IF(OR(CB23=1,CB23=7),0,4)","v":0},null,{"$f":"WEEKDAY(DATEVALUE(設定!$G$5&\"年\"&DM$1&\"月\"&DC23&\"日\"))","v":3},19,"火",null,null,null,null,null,null,null,{"$f":"(SUM(DE23:DK23)+DM23)*設定!$S$13","v":0},null,null,null,{"$f":"DO23-DM23*設定!$S$13","v":0},null,null,null,null,null,0,null,null,0,0,null,{"$f":"WEEKDAY(DATEVALUE(設定!$G$5&\"年\"&EM$1&\"月\"&EC23&\"日\"))","v":6},19,"金",null,null,null,null,null,null,null,{"$f":"(SUM(EE23:EK23)+EM23)*設定!$S$13","v":0},null,null,null,{"$f":"EO23-EM23*設定!$S$13","v":0},null,null,null,null,null,0,null,null,1,1,null,{"$f":"WEEKDAY(DATEVALUE(設定!$G$5&\"年\"&FM$1&\"月\"&FC23&\"日\"))","v":1},19,"日",null,null,null,null,null,null,null,{"$f":"(SUM(FE23:FK23)+FM23)*設定!$S$13","v":0},null,null,null,{"$f":"FO23-FM23*設定!$S$13","v":0},null,null,null,null,null,0,null,null,0,0,null,{"$f":"WEEKDAY(DATEVALUE(設定!$G$5&\"年\"&GM$1&\"月\"&GC23&\"日\"))","v":4},19,"水",null,null,null,null,null,null,null,{"$f":"(SUM(GE23:GK23)+GM23)*設定!$S$13","v":0},null,null,null,{"$f":"GO23-GM23*設定!$S$13","v":0},null,null,null,null,null,0,null,null,1,1,null,{"$f":"WEEKDAY(DATEVALUE(設定!$G$5&\"年\"&HM$1&\"月\"&HC23&\"日\"))","v":6},19,"金",null,null,null,null,null,null,null,{"$f":"(SUM(HE23:HK23)+HM23)*設定!$S$13","v":0},null,null,null,{"$f":"HO23-HM23*設定!$S$13","v":0},null,null,null,null,null,0,null,"特編授業",3,3,null,{"$f":"WEEKDAY(DATEVALUE((設定!$G$5+1)&\"年\"&IM$1&\"月\"&IC23&\"日\"))","v":2},19,"月",null,null,null,null,null,null,null,{"$f":"(SUM(IE23:IK23)+IM23)*設定!$S$13","v":0},null,null,null,{"$f":"IO23-IM23*設定!$S$13","v":0},null,null,null,null,null,0,null,null,1,1,null,{"$f":"WEEKDAY(DATEVALUE((設定!$G$5+1)&\"年\"&JM$1&\"月\"&JC23&\"日\"))","v":5},19,"木",null,null,null,null,null,null,null,{"$f":"(SUM(JE23:JK23)+JM23)*設定!$S$13","v":0},null,null,null,{"$f":"JO23-JM23*設定!$S$13","v":0},null,null,null,null,null,0,null,null,1,1,null,{"$f":"WEEKDAY(DATEVALUE((設定!$G$5+1)&\"年\"&KM$1&\"月\"&KC23&\"日\"))","v":5},19,"木",null,null,null,null,null,null,null,{"$f":"(SUM(KE23:KK23)+KM23)*設定!$S$13","v":0},null,null,null,{"$f":"KO23-KM23*設定!$S$13","v":0},null,null,null,null,null,0,null,"特編授業",3,3,null,2038,20,23]
[{"$f":"集計!T11","v":0},{"$f":"WEEKDAY(DATEVALUE(設定!$G$5&\"年\"&Q$1&\"月\"&C24&\"日\"))","v":1},20,"日",null,null,null,null,null,null,null,{"$f":"(SUM(E24:K24)+M24)*設定!$S$13","v":0},null,null,null,{"$f":"O24-M24*設定!$S$13","v":0},null,null,null,null,null,0,null,null,0,0,null,{"$f":"WEEKDAY(DATEVALUE(設定!$G$5&\"年\"&AM$1&\"月\"&AC24&\"日\"))","v":3},20,"火",null,null,null,null,null,null,null,{"$f":"(SUM(AE24:AK24)+AM24)*設定!$S$13","v":0},null,null,null,{"$f":"AO24-AM24*設定!$S$13","v":0},null,null,null,null,null,0,null,null,1,1,null,{"$f":"WEEKDAY(DATEVALUE(設定!$G$5&\"年\"&BM$1&\"月\"&BC24&\"日\"))","v":6},20,"金",null,null,null,null,null,null,null,{"$f":"(SUM(BE24:BK24)+BM24)*設定!$S$13","v":0},null,null,null,{"$f":"BO24-BM24*設定!$S$13","v":0},null,null,null,null,null,0,null,null,1,1,null,{"$f":"WEEKDAY(DATEVALUE(設定!$G$5&\"年\"&CM$1&\"月\"&CC24&\"日\"))","v":1},20,"日",null,null,null,null,null,null,null,{"$f":"(SUM(CE24:CK24)+CM24)*設定!$S$13","v":0},null,null,null,{"$f":"CO24-CM24*設定!$S$13","v":0},null,null,null,null,null,0,null,null,0,{"$f":"IF(OR(CB24=1,CB24=7,CB24=2),0,3)","v":0},null,{"$f":"WEEKDAY(DATEVALUE(設定!$G$5&\"年\"&DM$1&\"月\"&DC24&\"日\"))","v":4},20,"水",null,null,null,null,null,null,null,{"$f":"(SUM(DE24:DK24)+DM24)*設定!$S$13","v":0},null,null,null,{"$f":"DO24-DM24*設定!$S$13","v":0},null,null,null,null,null,0,null,null,0,0,null,{"$f":"WEEKDAY(DATEVALUE(設定!$G$5&\"年\"&EM$1&\"月\"&EC24&\"日\"))","v":7},20,"土",null,null,null,null,null,null,null,{"$f":"(SUM(EE24:EK24)+EM24)*設定!$S$13","v":0},null,null,null,{"$f":"EO24-EM24*設定!$S$13","v":0},null,null,null,null,null,0,null,null,0,0,null,{"$f":"WEEKDAY(DATEVALUE(設定!$G$5&\"年\"&FM$1&\"月\"&FC24&\"日\"))","v":2},20,"月",null,null,null,null,null,null,null,{"$f":"(SUM(FE24:FK24)+FM24)*設定!$S$13","v":0},null,null,null,{"$f":"FO24-FM24*設定!$S$13","v":0},null,null,null,null,null,0,null,null,1,1,null,{"$f":"WEEKDAY(DATEVALUE(設定!$G$5&\"年\"&GM$1&\"月\"&GC24&\"日\"))","v":5},20,"木",null,null,null,null,null,null,null,{"$f":"(SUM(GE24:GK24)+GM24)*設定!$S$13","v":0},null,null,null,{"$f":"GO24-GM24*設定!$S$13","v":0},null,null,null,null,null,0,null,null,1,1,null,{"$f":"WEEKDAY(DATEVALUE(設定!$G$5&\"年\"&HM$1&\"月\"&HC24&\"日\"))","v":7},20,"土",null,null,null,null,null,null,null,{"$f":"(SUM(HE24:HK24)+HM24)*設定!$S$13","v":0},null,null,null,{"$f":"HO24-HM24*設定!$S$13","v":0},null,null,null,null,null,0,null,null,0,0,null,{"$f":"WEEKDAY(DATEVALUE((設定!$G$5+1)&\"年\"&IM$1&\"月\"&IC24&\"日\"))","v":3},20,"火",null,null,null,null,null,null,null,{"$f":"(SUM(IE24:IK24)+IM24)*設定!$S$13","v":0},null,null,null,{"$f":"IO24-IM24*設定!$S$13","v":0},null,null,null,null,null,0,null,null,1,1,null,{"$f":"WEEKDAY(DATEVALUE((設定!$G$5+1)&\"年\"&JM$1&\"月\"&JC24&\"日\"))","v":6},20,"金",null,null,null,null,null,null,null,{"$f":"(SUM(JE24:JK24)+JM24)*設定!$S$13","v":0},null,null,null,{"$f":"JO24-JM24*設定!$S$13","v":0},null,null,null,null,null,0,null,null,1,1,null,{"$f":"WEEKDAY(DATEVALUE((設定!$G$5+1)&\"年\"&KM$1&\"月\"&KC24&\"日\"))","v":6},20,"金",null,null,null,null,null,null,null,{"$f":"(SUM(KE24:KK24)+KM24)*設定!$S$13","v":0},null,null,null,{"$f":"KO24-KM24*設定!$S$13","v":0},null,null,null,null,null,0,null,"春分の日",0,{"$f":"IF(OR(KB24=1,KB24=7,KX24=\"春分の日\",AND(KB24=2,KX23=\"春分の日\")),0,3)","v":0},null,2039,21,23]
[{"$f":"集計!S11","v":0},{"$f":"WEEKDAY(DATEVALUE(設定!$G$5&\"年\"&Q$1&\"月\"&C25&\"日\"))","v":2},21,"月",null,null,null,null,null,null,null,{"$f":"(SUM(E25:K25)+M25)*設定!$S$13","v":0},null,null,null,{"$f":"O25-M25*設定!$S$13","v":0},null,null,null,null,null,0,null,null,1,1,null,{"$f":"WEEKDAY(DATEVALUE(設定!$G$5&\"年\"&AM$1&\"月\"&AC25&\"日\"))","v":4},21,"水",null,null,null,null,null,null,null,{"$f":"(SUM(AE25:AK25)+AM25)*設定!$S$13","v":0},null,null,null,{"$f":"AO25-AM25*設定!$S$13","v":0},null,null,null,null,null,0,null,null,1,1,null,{"$f":"WEEKDAY(DATEVALUE(設定!$G$5&\"年\"&BM$1&\"月\"&BC25&\"日\"))","v":7},21,"土",null,null,null,null,null,null,null,{"$f":"(SUM(BE25:BK25)+BM25)*設定!$S$13","v":0},null,null,null,{"$f":"BO25-BM25*設定!$S$13","v":0},null,null,null,null,null,0,null,null,0,0,null,{"$f":"WEEKDAY(DATEVALUE(設定!$G$5&\"年\"&CM$1&\"月\"&CC25&\"日\"))","v":2},21,"月",null,null,null,null,null,null,null,{"$f":"(SUM(CE25:CK25)+CM25)*設定!$S$13","v":0},null,null,null,{"$f":"CO25-CM25*設定!$S$13","v":0},null,null,null,null,null,0,null,"海の日",0,0,null,{"$f":"WEEKDAY(DATEVALUE(設定!$G$5&\"年\"&DM$1&\"月\"&DC25&\"日\"))","v":5},21,"木",null,null,null,null,null,null,null,{"$f":"(SUM(DE25:DK25)+DM25)*設定!$S$13","v":0},null,null,null,{"$f":"DO25-DM25*設定!$S$13","v":0},null,null,null,null,null,0,null,null,0,0,null,{"$f":"WEEKDAY(DATEVALUE(設定!$G$5&\"年\"&EM$1&\"月\"&EC25&\"日\"))","v":1},21,"日",null,null,null,null,null,null,null,{"$f":"(SUM(EE25:EK25)+EM25)*設定!$S$13","v":0},null,null,null,{"$f":"EO25-EM25*設定!$S$13","v":0},null,null,null,null,null,0,null,null,0,0,null,{"$f":"WEEKDAY(DATEVALUE(設定!$G$5&\"年\"&FM$1&\"月\"&FC25&\"日\"))","v":3},21,"火",null,null,null,null,null,null,null,{"$f":"(SUM(FE25:FK25)+FM25)*設定!$S$13","v":0},null,null,null,{"$f":"FO25-FM25*設定!$S$13","v":0},null,null,null,null,null,0,null,null,1,1,null,{"$f":"WEEKDAY(DATEVALUE(設定!$G$5&\"年\"&GM$1&\"月\"&GC25&\"日\"))","v":6},21,"金",null,null,null,null,null,null,null,{"$f":"(SUM(GE25:GK25)+GM25)*設定!$S$13","v":0},null,null,null,{"$f":"GO25-GM25*設定!$S$13","v":0},null,null,null,null,null,0,null,null,1,1,null,{"$f":"WEEKDAY(DATEVALUE(設定!$G$5&\"年\"&HM$1&\"月\"&HC25&\"日\"))","v":1},21,"日",null,null,null,null,null,null,null,{"$f":"(SUM(HE25:HK25)+HM25)*設定!$S$13","v":0},null,null,null,{"$f":"HO25-HM25*設定!$S$13","v":0},null,null,null,null,null,0,null,null,0,0,null,{"$f":"WEEKDAY(DATEVALUE((設定!$G$5+1)&\"年\"&IM$1&\"月\"&IC25&\"日\"))","v":4},21,"水",null,null,null,null,null,null,null,{"$f":"(SUM(IE25:IK25)+IM25)*設定!$S$13","v":0},null,null,null,{"$f":"IO25-IM25*設定!$S$13","v":0},null,null,null,null,null,0,null,null,1,1,null,{"$f":"WEEKDAY(DATEVALUE((設定!$G$5+1)&\"年\"&JM$1&\"月\"&JC25&\"日\"))","v":7},21,"土",null,null,null,null,null,null,null,{"$f":"(SUM(JE25:JK25)+JM25)*設定!$S$13","v":0},null,null,null,{"$f":"JO25-JM25*設定!$S$13","v":0},null,null,null,null,null,0,null,null,0,0,null,{"$f":"WEEKDAY(DATEVALUE((設定!$G$5+1)&\"年\"&KM$1&\"月\"&KC25&\"日\"))","v":7},21,"土",null,null,null,null,null,null,null,{"$f":"(SUM(KE25:KK25)+KM25)*設定!$S$13","v":0},null,null,null,{"$f":"KO25-KM25*設定!$S$13","v":0},null,null,null,null,null,0,null,null,0,{"$f":"IF(OR(KB25=1,KB25=7,KX25=\"春分の日\",AND(KB25=2,KX24=\"春分の日\")),0,3)","v":0},null,2040,20,22]
[null,{"$f":"WEEKDAY(DATEVALUE(設定!$G$5&\"年\"&Q$1&\"月\"&C26&\"日\"))","v":3},22,"火",null,null,null,null,null,null,null,{"$f":"(SUM(E26:K26)+M26)*設定!$S$13","v":0},null,null,null,{"$f":"O26-M26*設定!$S$13","v":0},null,null,null,null,null,0,null,null,1,1,null,{"$f":"WEEKDAY(DATEVALUE(設定!$G$5&\"年\"&AM$1&\"月\"&AC26&\"日\"))","v":5},22,"木",null,null,null,null,null,null,null,{"$f":"(SUM(AE26:AK26)+AM26)*設定!$S$13","v":0},null,null,null,{"$f":"AO26-AM26*設定!$S$13","v":0},null,null,null,null,null,0,null,null,1,1,null,{"$f":"WEEKDAY(DATEVALUE(設定!$G$5&\"年\"&BM$1&\"月\"&BC26&\"日\"))","v":1},22,"日",null,null,null,null,null,null,null,{"$f":"(SUM(BE26:BK26)+BM26)*設定!$S$13","v":0},null,null,null,{"$f":"BO26-BM26*設定!$S$13","v":0},null,null,null,null,null,0,null,null,0,0,null,{"$f":"WEEKDAY(DATEVALUE(設定!$G$5&\"年\"&CM$1&\"月\"&CC26&\"日\"))","v":3},22,"火",null,null,null,null,null,null,null,{"$f":"(SUM(CE26:CK26)+CM26)*設定!$S$13","v":0},null,null,null,{"$f":"CO26-CM26*設定!$S$13","v":0},null,null,null,null,null,0,null,null,0,0,null,{"$f":"WEEKDAY(DATEVALUE(設定!$G$5&\"年\"&DM$1&\"月\"&DC26&\"日\"))","v":6},22,"金",null,null,null,null,null,null,null,{"$f":"(SUM(DE26:DK26)+DM26)*設定!$S$13","v":0},null,null,null,{"$f":"DO26-DM26*設定!$S$13","v":0},null,null,null,null,null,0,null,null,0,0,null,{"$f":"WEEKDAY(DATEVALUE(設定!$G$5&\"年\"&EM$1&\"月\"&EC26&\"日\"))","v":2},22,"月",null,null,null,null,null,null,null,{"$f":"(SUM(EE26:EK26)+EM26)*設定!$S$13","v":0},null,null,null,{"$f":"EO26-EM26*設定!$S$13","v":0},null,null,null,null,null,0,null,null,1,{"$f":"IF(OR(EB26=1,EB26=7,EX26=\"秋分の日\",AND(EB26=2,EX25=\"春分の日\")),0,1)","v":1},null,{"$f":"WEEKDAY(DATEVALUE(設定!$G$5&\"年\"&FM$1&\"月\"&FC26&\"日\"))","v":4},22,"水",null,null,null,null,null,null,null,{"$f":"(SUM(FE26:FK26)+FM26)*設定!$S$13","v":0},null,null,null,{"$f":"FO26-FM26*設定!$S$13","v":0},null,null,null,null,null,0,null,null,1,1,null,{"$f":"WEEKDAY(DATEVALUE(設定!$G$5&\"年\"&GM$1&\"月\"&GC26&\"日\"))","v":7},22,"土",null,null,null,null,null,null,null,{"$f":"(SUM(GE26:GK26)+GM26)*設定!$S$13","v":0},null,null,null,{"$f":"GO26-GM26*設定!$S$13","v":0},null,null,null,null,null,0,null,null,0,0,null,{"$f":"WEEKDAY(DATEVALUE(設定!$G$5&\"年\"&HM$1&\"月\"&HC26&\"日\"))","v":2},22,"月",null,null,null,null,null,null,null,{"$f":"(SUM(HE26:HK26)+HM26)*設定!$S$13","v":0},null,null,null,{"$f":"HO26-HM26*設定!$S$13","v":0},null,null,null,null,null,0,null,"特編授業",3,3,null,{"$f":"WEEKDAY(DATEVALUE((設定!$G$5+1)&\"年\"&IM$1&\"月\"&IC26&\"日\"))","v":5},22,"木",null,null,null,null,null,null,null,{"$f":"(SUM(IE26:IK26)+IM26)*設定!$S$13","v":0},null,null,null,{"$f":"IO26-IM26*設定!$S$13","v":0},null,null,null,null,null,0,null,null,1,1,null,{"$f":"WEEKDAY(DATEVALUE((設定!$G$5+1)&\"年\"&JM$1&\"月\"&JC26&\"日\"))","v":1},22,"日",null,null,null,null,null,null,null,{"$f":"(SUM(JE26:JK26)+JM26)*設定!$S$13","v":0},null,null,null,{"$f":"JO26-JM26*設定!$S$13","v":0},null,null,null,null,null,0,null,null,0,0,null,{"$f":"WEEKDAY(DATEVALUE((設定!$G$5+1)&\"年\"&KM$1&\"月\"&KC26&\"日\"))","v":1},22,"日",null,null,null,null,null,null,null,{"$f":"(SUM(KE26:KK26)+KM26)*設定!$S$13","v":0},null,null,null,{"$f":"KO26-KM26*設定!$S$13","v":0},null,null,null,null,null,0,null,null,0,{"$f":"IF(OR(KB26=1,KB26=7),0,3)","v":0},null,2041,20,23]
["３学期時数(分)",{"$f":"WEEKDAY(DATEVALUE(設定!$G$5&\"年\"&Q$1&\"月\"&C27&\"日\"))","v":4},23,"水",null,null,null,null,null,null,null,{"$f":"(SUM(E27:K27)+M27)*設定!$S$13","v":0},null,null,null,{"$f":"O27-M27*設定!$S$13","v":0},null,null,null,null,null,0,null,null,1,1,null,{"$f":"WEEKDAY(DATEVALUE(設定!$G$5&\"年\"&AM$1&\"月\"&AC27&\"日\"))","v":6},23,"金",null,null,null,null,null,null,null,{"$f":"(SUM(AE27:AK27)+AM27)*設定!$S$13","v":0},null,null,null,{"$f":"AO27-AM27*設定!$S$13","v":0},null,null,null,null,null,0,null,null,1,1,null,{"$f":"WEEKDAY(DATEVALUE(設定!$G$5&\"年\"&BM$1&\"月\"&BC27&\"日\"))","v":2},23,"月",null,null,null,null,null,null,null,{"$f":"(SUM(BE27:BK27)+BM27)*設定!$S$13","v":0},null,null,null,{"$f":"BO27-BM27*設定!$S$13","v":0},null,null,null,null,null,0,null,null,1,1,null,{"$f":"WEEKDAY(DATEVALUE(設定!$G$5&\"年\"&CM$1&\"月\"&CC27&\"日\"))","v":4},23,"水",null,null,null,null,null,null,null,{"$f":"(SUM(CE27:CK27)+CM27)*設定!$S$13","v":0},null,null,null,{"$f":"CO27-CM27*設定!$S$13","v":0},null,null,null,null,null,0,null,null,0,0,null,{"$f":"WEEKDAY(DATEVALUE(設定!$G$5&\"年\"&DM$1&\"月\"&DC27&\"日\"))","v":7},23,"土",null,null,null,null,null,null,null,{"$f":"(SUM(DE27:DK27)+DM27)*設定!$S$13","v":0},null,null,null,{"$f":"DO27-DM27*設定!$S$13","v":0},null,null,null,null,null,0,null,null,0,0,null,{"$f":"WEEKDAY(DATEVALUE(設定!$G$5&\"年\"&EM$1&\"月\"&EC27&\"日\"))","v":3},23,"火",null,null,null,null,null,null,null,{"$f":"(SUM(EE27:EK27)+EM27)*設定!$S$13","v":0},null,null,null,{"$f":"EO27-EM27*設定!$S$13","v":0},null,null,null,null,null,0,null,"秋分の日",0,{"$f":"IF(OR(EB27=1,EB27=7,EX27=\"秋分の日\",AND(EB27=2,EX26=\"春分の日\")),0,1)","v":0},null,{"$f":"WEEKDAY(DATEVALUE(設定!$G$5&\"年\"&FM$1&\"月\"&FC27&\"日\"))","v":5},23,"木",null,null,null,null,null,null,null,{"$f":"(SUM(FE27:FK27)+FM27)*設定!$S$13","v":0},null,null,null,{"$f":"FO27-FM27*設定!$S$13","v":0},null,null,null,null,null,0,null,null,1,1,null,{"$f":"WEEKDAY(DATEVALUE(設定!$G$5&\"年\"&GM$1&\"月\"&GC27&\"日\"))","v":1},23,"日",null,null,null,null,null,null,null,{"$f":"(SUM(GE27:GK27)+GM27)*設定!$S$13","v":0},null,null,null,{"$f":"GO27-GM27*設定!$S$13","v":0},null,null,null,null,null,0,null,"勤労感謝の日",0,0,null,{"$f":"WEEKDAY(DATEVALUE(設定!$G$5&\"年\"&HM$1&\"月\"&HC27&\"日\"))","v":3},23,"火",null,null,null,null,null,null,null,{"$f":"(SUM(HE27:HK27)+HM27)*設定!$S$13","v":0},null,null,null,{"$f":"HO27-HM27*設定!$S$13","v":0},null,null,null,null,null,0,null,"特編授業",3,3,null,{"$f":"WEEKDAY(DATEVALUE((設定!$G$5+1)&\"年\"&IM$1&\"月\"&IC27&\"日\"))","v":6},23,"金",null,null,null,null,null,null,null,{"$f":"(SUM(IE27:IK27)+IM27)*設定!$S$13","v":0},null,null,null,{"$f":"IO27-IM27*設定!$S$13","v":0},null,null,null,null,null,0,null,null,1,1,null,{"$f":"WEEKDAY(DATEVALUE((設定!$G$5+1)&\"年\"&JM$1&\"月\"&JC27&\"日\"))","v":2},23,"月",null,null,null,null,null,null,null,{"$f":"(SUM(JE27:JK27)+JM27)*設定!$S$13","v":0},null,null,null,{"$f":"JO27-JM27*設定!$S$13","v":0},null,null,null,null,null,0,null,"天皇誕生日",0,0,null,{"$f":"WEEKDAY(DATEVALUE((設定!$G$5+1)&\"年\"&KM$1&\"月\"&KC27&\"日\"))","v":2},23,"月",null,null,null,null,null,null,null,{"$f":"(SUM(KE27:KK27)+KM27)*設定!$S$13","v":0},null,null,null,{"$f":"KO27-KM27*設定!$S$13","v":0},null,null,null,null,null,0,null,null,0,0,null,2042,20,23]
[{"$f":"集計!P14+集計!T14","v":0},{"$f":"WEEKDAY(DATEVALUE(設定!$G$5&\"年\"&Q$1&\"月\"&C28&\"日\"))","v":5},24,"木",null,null,null,null,null,null,null,{"$f":"(SUM(E28:K28)+M28)*設定!$S$13","v":0},null,null,null,{"$f":"O28-M28*設定!$S$13","v":0},null,null,null,null,null,0,null,null,1,1,null,{"$f":"WEEKDAY(DATEVALUE(設定!$G$5&\"年\"&AM$1&\"月\"&AC28&\"日\"))","v":7},24,"土",null,null,null,null,null,null,null,{"$f":"(SUM(AE28:AK28)+AM28)*設定!$S$13","v":0},null,null,null,{"$f":"AO28-AM28*設定!$S$13","v":0},null,null,null,null,null,0,null,null,0,0,null,{"$f":"WEEKDAY(DATEVALUE(設定!$G$5&\"年\"&BM$1&\"月\"&BC28&\"日\"))","v":3},24,"火",null,null,null,null,null,null,null,{"$f":"(SUM(BE28:BK28)+BM28)*設定!$S$13","v":0},null,null,null,{"$f":"BO28-BM28*設定!$S$13","v":0},null,null,null,null,null,0,null,null,1,1,null,{"$f":"WEEKDAY(DATEVALUE(設定!$G$5&\"年\"&CM$1&\"月\"&CC28&\"日\"))","v":5},24,"木",null,null,null,null,null,null,null,{"$f":"(SUM(CE28:CK28)+CM28)*設定!$S$13","v":0},null,null,null,{"$f":"CO28-CM28*設定!$S$13","v":0},null,null,null,null,null,0,null,null,0,0,null,{"$f":"WEEKDAY(DATEVALUE(設定!$G$5&\"年\"&DM$1&\"月\"&DC28&\"日\"))","v":1},24,"日",null,null,null,null,null,null,null,{"$f":"(SUM(DE28:DK28)+DM28)*設定!$S$13","v":0},null,null,null,{"$f":"DO28-DM28*設定!$S$13","v":0},null,null,null,null,null,0,null,null,0,0,null,{"$f":"WEEKDAY(DATEVALUE(設定!$G$5&\"年\"&EM$1&\"月\"&EC28&\"日\"))","v":4},24,"水",null,null,null,null,null,null,null,{"$f":"(SUM(EE28:EK28)+EM28)*設定!$S$13","v":0},null,null,null,{"$f":"EO28-EM28*設定!$S$13","v":0},null,null,null,null,null,0,null,null,1,{"$f":"IF(OR(EB28=1,EB28=7),0,1)","v":1},null,{"$f":"WEEKDAY(DATEVALUE(設定!$G$5&\"年\"&FM$1&\"月\"&FC28&\"日\"))","v":6},24,"金",null,null,null,null,null,null,null,{"$f":"(SUM(FE28:FK28)+FM28)*設定!$S$13","v":0},null,null,null,{"$f":"FO28-FM28*設定!$S$13","v":0},null,null,null,null,null,0,null,null,1,1,null,{"$f":"WEEKDAY(DATEVALUE(設定!$G$5&\"年\"&GM$1&\"月\"&GC28&\"日\"))","v":2},24,"月",null,null,null,null,null,null,null,{"$f":"(SUM(GE28:GK28)+GM28)*設定!$S$13","v":0},null,null,null,{"$f":"GO28-GM28*設定!$S$13","v":0},null,null,null,null,null,0,null,null,0,{"$f":"IF(OR(GB28=1,GB28=2,GB28=7),0,1)","v":0},null,{"$f":"WEEKDAY(DATEVALUE(設定!$G$5&\"年\"&HM$1&\"月\"&HC28&\"日\"))","v":4},24,"水",null,null,null,null,null,null,null,{"$f":"(SUM(HE28:HK28)+HM28)*設定!$S$13","v":0},null,null,null,{"$f":"HO28-HM28*設定!$S$13","v":0},null,null,null,null,null,0,null,"学校行事",4,{"$f":"IF(OR(HB28=1,HB28=7),0,4)","v":4},null,{"$f":"WEEKDAY(DATEVALUE((設定!$G$5+1)&\"年\"&IM$1&\"月\"&IC28&\"日\"))","v":7},24,"土",null,null,null,null,null,null,null,{"$f":"(SUM(IE28:IK28)+IM28)*設定!$S$13","v":0},null,null,null,{"$f":"IO28-IM28*設定!$S$13","v":0},null,null,null,null,null,0,null,null,0,0,null,{"$f":"WEEKDAY(DATEVALUE((設定!$G$5+1)&\"年\"&JM$1&\"月\"&JC28&\"日\"))","v":3},24,"火",null,null,null,null,null,null,null,{"$f":"(SUM(JE28:JK28)+JM28)*設定!$S$13","v":0},null,null,null,{"$f":"JO28-JM28*設定!$S$13","v":0},null,null,null,null,null,0,null,null,1,{"$f":"IF(OR(JB28=1,JB28=7,JB28=2),0,1)","v":1},null,{"$f":"WEEKDAY(DATEVALUE((設定!$G$5+1)&\"年\"&KM$1&\"月\"&KC28&\"日\"))","v":3},24,"火",null,null,null,null,null,null,null,{"$f":"(SUM(KE28:KK28)+KM28)*設定!$S$13","v":0},null,null,null,{"$f":"KO28-KM28*設定!$S$13","v":0},null,null,null,null,null,0,null,null,0,0,null,2043,21,23]
[{"$f":"集計!T14","v":0},{"$f":"WEEKDAY(DATEVALUE(設定!$G$5&\"年\"&Q$1&\"月\"&C29&\"日\"))","v":6},25,"金",null,null,null,null,null,null,null,{"$f":"(SUM(E29:K29)+M29)*設定!$S$13","v":0},null,null,null,{"$f":"O29-M29*設定!$S$13","v":0},null,null,null,null,null,0,null,null,1,1,null,{"$f":"WEEKDAY(DATEVALUE(設定!$G$5&\"年\"&AM$1&\"月\"&AC29&\"日\"))","v":1},25,"日",null,null,null,null,null,null,null,{"$f":"(SUM(AE29:AK29)+AM29)*設定!$S$13","v":0},null,null,null,{"$f":"AO29-AM29*設定!$S$13","v":0},null,null,null,null,null,0,null,null,0,0,null,{"$f":"WEEKDAY(DATEVALUE(設定!$G$5&\"年\"&BM$1&\"月\"&BC29&\"日\"))","v":4},25,"水",null,null,null,null,null,null,null,{"$f":"(SUM(BE29:BK29)+BM29)*設定!$S$13","v":0},null,null,null,{"$f":"BO29-BM29*設定!$S$13","v":0},null,null,null,null,null,0,null,null,1,1,null,{"$f":"WEEKDAY(DATEVALUE(設定!$G$5&\"年\"&CM$1&\"月\"&CC29&\"日\"))","v":6},25,"金",null,null,null,null,null,null,null,{"$f":"(SUM(CE29:CK29)+CM29)*設定!$S$13","v":0},null,null,null,{"$f":"CO29-CM29*設定!$S$13","v":0},null,null,null,null,null,0,null,null,0,0,null,{"$f":"WEEKDAY(DATEVALUE(設定!$G$5&\"年\"&DM$1&\"月\"&DC29&\"日\"))","v":2},25,"月",null,null,null,null,null,null,null,{"$f":"(SUM(DE29:DK29)+DM29)*設定!$S$13","v":0},null,null,null,{"$f":"DO29-DM29*設定!$S$13","v":0},null,null,null,null,null,0,null,null,0,0,null,{"$f":"WEEKDAY(DATEVALUE(設定!$G$5&\"年\"&EM$1&\"月\"&EC29&\"日\"))","v":5},25,"木",null,null,null,null,null,null,null,{"$f":"(SUM(EE29:EK29)+EM29)*設定!$S$13","v":0},null,null,null,{"$f":"EO29-EM29*設定!$S$13","v":0},null,null,null,null,null,0,null,null,1,1,null,{"$f":"WEEKDAY(DATEVALUE(設定!$G$5&\"年\"&FM$1&\"月\"&FC29&\"日\"))","v":7},25,"土",null,null,null,null,null,null,null,{"$f":"(SUM(FE29:FK29)+FM29)*設定!$S$13","v":0},null,null,null,{"$f":"FO29-FM29*設定!$S$13","v":0},null,null,null,null,null,0,null,null,0,0,null,{"$f":"WEEKDAY(DATEVALUE(設定!$G$5&\"年\"&GM$1&\"月\"&GC29&\"日\"))","v":3},25,"火",null,null,null,null,null,null,null,{"$f":"(SUM(GE29:GK29)+GM29)*設定!$S$13","v":0},null,null,null,{"$f":"GO29-GM29*設定!$S$13","v":0},null,null,null,null,null,0,null,null,1,{"$f":"IF(OR(GB29=1,GB29=7),0,1)","v":1},null,{"$f":"WEEKDAY(DATEVALUE(設定!$G$5&\"年\"&HM$1&\"月\"&HC29&\"日\"))","v":5},25,"木",null,null,null,null,null,null,null,{"$f":"(SUM(HE29:HK29)+HM29)*設定!$S$13","v":0},null,null,null,{"$f":"HO29-HM29*設定!$S$13","v":0},null,null,null,null,null,0,null,null,0,0,null,{"$f":"WEEKDAY(DATEVALUE((設定!$G$5+1)&\"年\"&IM$1&\"月\"&IC29&\"日\"))","v":1},25,"日",null,null,null,null,null,null,null,{"$f":"(SUM(IE29:IK29)+IM29)*設定!$S$13","v":0},null,null,null,{"$f":"IO29-IM29*設定!$S$13","v":0},null,null,null,null,null,0,null,null,0,0,null,{"$f":"WEEKDAY(DATEVALUE((設定!$G$5+1)&\"年\"&JM$1&\"月\"&JC29&\"日\"))","v":4},25,"水",null,null,null,null,null,null,null,{"$f":"(SUM(JE29:JK29)+JM29)*設定!$S$13","v":0},null,null,null,{"$f":"JO29-JM29*設定!$S$13","v":0},null,null,null,null,null,0,null,null,1,{"$f":"IF(OR(JB29=1,JB29=7),0,1)","v":1},null,{"$f":"WEEKDAY(DATEVALUE((設定!$G$5+1)&\"年\"&KM$1&\"月\"&KC29&\"日\"))","v":4},25,"水",null,null,null,null,null,null,null,{"$f":"(SUM(KE29:KK29)+KM29)*設定!$S$13","v":0},null,null,null,{"$f":"KO29-KM29*設定!$S$13","v":0},null,null,null,null,null,0,null,null,0,0,null,2044,20,22]
[{"$f":"集計!S14","v":0},{"$f":"WEEKDAY(DATEVALUE(設定!$G$5&\"年\"&Q$1&\"月\"&C30&\"日\"))","v":7},26,"土",null,null,null,null,null,null,null,{"$f":"(SUM(E30:K30)+M30)*設定!$S$13","v":0},null,null,null,{"$f":"O30-M30*設定!$S$13","v":0},null,null,null,null,null,0,null,null,0,0,null,{"$f":"WEEKDAY(DATEVALUE(設定!$G$5&\"年\"&AM$1&\"月\"&AC30&\"日\"))","v":2},26,"月",null,null,null,null,null,null,null,{"$f":"(SUM(AE30:AK30)+AM30)*設定!$S$13","v":0},null,null,null,{"$f":"AO30-AM30*設定!$S$13","v":0},null,null,null,null,null,0,null,null,1,1,null,{"$f":"WEEKDAY(DATEVALUE(設定!$G$5&\"年\"&BM$1&\"月\"&BC30&\"日\"))","v":5},26,"木",null,null,null,null,null,null,null,{"$f":"(SUM(BE30:BK30)+BM30)*設定!$S$13","v":0},null,null,null,{"$f":"BO30-BM30*設定!$S$13","v":0},null,null,null,null,null,0,null,null,1,1,null,{"$f":"WEEKDAY(DATEVALUE(設定!$G$5&\"年\"&CM$1&\"月\"&CC30&\"日\"))","v":7},26,"土",null,null,null,null,null,null,null,{"$f":"(SUM(CE30:CK30)+CM30)*設定!$S$13","v":0},null,null,null,{"$f":"CO30-CM30*設定!$S$13","v":0},null,null,null,null,null,0,null,null,0,0,null,{"$f":"WEEKDAY(DATEVALUE(設定!$G$5&\"年\"&DM$1&\"月\"&DC30&\"日\"))","v":3},26,"火",null,null,null,null,null,null,null,{"$f":"(SUM(DE30:DK30)+DM30)*設定!$S$13","v":0},null,null,null,{"$f":"DO30-DM30*設定!$S$13","v":0},null,null,null,null,null,0,null,null,0,0,null,{"$f":"WEEKDAY(DATEVALUE(設定!$G$5&\"年\"&EM$1&\"月\"&EC30&\"日\"))","v":6},26,"金",null,null,null,null,null,null,null,{"$f":"(SUM(EE30:EK30)+EM30)*設定!$S$13","v":0},null,null,null,{"$f":"EO30-EM30*設定!$S$13","v":0},null,null,null,null,null,0,null,null,1,1,null,{"$f":"WEEKDAY(DATEVALUE(設定!$G$5&\"年\"&FM$1&\"月\"&FC30&\"日\"))","v":1},26,"日",null,null,null,null,null,null,null,{"$f":"(SUM(FE30:FK30)+FM30)*設定!$S$13","v":0},null,null,null,{"$f":"FO30-FM30*設定!$S$13","v":0},null,null,null,null,null,0,null,null,0,0,null,{"$f":"WEEKDAY(DATEVALUE(設定!$G$5&\"年\"&GM$1&\"月\"&GC30&\"日\"))","v":4},26,"水",null,null,null,null,null,null,null,{"$f":"(SUM(GE30:GK30)+GM30)*設定!$S$13","v":0},null,null,null,{"$f":"GO30-GM30*設定!$S$13","v":0},null,null,null,null,null,0,null,null,1,1,null,{"$f":"WEEKDAY(DATEVALUE(設定!$G$5&\"年\"&HM$1&\"月\"&HC30&\"日\"))","v":6},26,"金",null,null,null,null,null,null,null,{"$f":"(SUM(HE30:HK30)+HM30)*設定!$S$13","v":0},null,null,null,{"$f":"HO30-HM30*設定!$S$13","v":0},null,null,null,null,null,0,null,null,0,0,null,{"$f":"WEEKDAY(DATEVALUE((設定!$G$5+1)&\"年\"&IM$1&\"月\"&IC30&\"日\"))","v":2},26,"月",null,null,null,null,null,null,null,{"$f":"(SUM(IE30:IK30)+IM30)*設定!$S$13","v":0},null,null,null,{"$f":"IO30-IM30*設定!$S$13","v":0},null,null,null,null,null,0,null,null,1,1,null,{"$f":"WEEKDAY(DATEVALUE((設定!$G$5+1)&\"年\"&JM$1&\"月\"&JC30&\"日\"))","v":5},26,"木",null,null,null,null,null,null,null,{"$f":"(SUM(JE30:JK30)+JM30)*設定!$S$13","v":0},null,null,null,{"$f":"JO30-JM30*設定!$S$13","v":0},null,null,null,null,null,0,null,null,1,{"$f":"IF(OR(JB30=1,JB30=7),0,1)","v":1},null,{"$f":"WEEKDAY(DATEVALUE((設定!$G$5+1)&\"年\"&KM$1&\"月\"&KC30&\"日\"))","v":5},26,"木",null,null,null,null,null,null,null,{"$f":"(SUM(KE30:KK30)+KM30)*設定!$S$13","v":0},null,null,null,{"$f":"KO30-KM30*設定!$S$13","v":0},null,null,null,null,null,0,null,null,0,0,null,2045,20,22]
[null,{"$f":"WEEKDAY(DATEVALUE(設定!$G$5&\"年\"&Q$1&\"月\"&C31&\"日\"))","v":1},27,"日",null,null,null,null,null,null,null,{"$f":"(SUM(E31:K31)+M31)*設定!$S$13","v":0},null,null,null,{"$f":"O31-M31*設定!$S$13","v":0},null,null,null,null,null,0,null,null,0,0,null,{"$f":"WEEKDAY(DATEVALUE(設定!$G$5&\"年\"&AM$1&\"月\"&AC31&\"日\"))","v":3},27,"火",null,null,null,null,null,null,null,{"$f":"(SUM(AE31:AK31)+AM31)*設定!$S$13","v":0},null,null,null,{"$f":"AO31-AM31*設定!$S$13","v":0},null,null,null,null,null,0,null,null,1,1,null,{"$f":"WEEKDAY(DATEVALUE(設定!$G$5&\"年\"&BM$1&\"月\"&BC31&\"日\"))","v":6},27,"金",null,null,null,null,null,null,null,{"$f":"(SUM(BE31:BK31)+BM31)*設定!$S$13","v":0},null,null,null,{"$f":"BO31-BM31*設定!$S$13","v":0},null,null,null,null,null,0,null,null,1,1,null,{"$f":"WEEKDAY(DATEVALUE(設定!$G$5&\"年\"&CM$1&\"月\"&CC31&\"日\"))","v":1},27,"日",null,null,null,null,null,null,null,{"$f":"(SUM(CE31:CK31)+CM31)*設定!$S$13","v":0},null,null,null,{"$f":"CO31-CM31*設定!$S$13","v":0},null,null,null,null,null,0,null,null,0,0,null,{"$f":"WEEKDAY(DATEVALUE(設定!$G$5&\"年\"&DM$1&\"月\"&DC31&\"日\"))","v":4},27,"水",null,null,null,null,null,null,null,{"$f":"(SUM(DE31:DK31)+DM31)*設定!$S$13","v":0},null,null,null,{"$f":"DO31-DM31*設定!$S$13","v":0},null,null,null,null,null,0,null,null,0,0,null,{"$f":"WEEKDAY(DATEVALUE(設定!$G$5&\"年\"&EM$1&\"月\"&EC31&\"日\"))","v":7},27,"土",null,null,null,null,null,null,null,{"$f":"(SUM(EE31:EK31)+EM31)*設定!$S$13","v":0},null,null,null,{"$f":"EO31-EM31*設定!$S$13","v":0},null,null,null,null,null,0,null,null,0,0,null,{"$f":"WEEKDAY(DATEVALUE(設定!$G$5&\"年\"&FM$1&\"月\"&FC31&\"日\"))","v":2},27,"月",null,null,null,null,null,null,null,{"$f":"(SUM(FE31:FK31)+FM31)*設定!$S$13","v":0},null,null,null,{"$f":"FO31-FM31*設定!$S$13","v":0},null,null,null,null,null,0,null,null,1,1,null,{"$f":"WEEKDAY(DATEVALUE(設定!$G$5&\"年\"&GM$1&\"月\"&GC31&\"日\"))","v":5},27,"木",null,null,null,null,null,null,null,{"$f":"(SUM(GE31:GK31)+GM31)*設定!$S$13","v":0},null,null,null,{"$f":"GO31-GM31*設定!$S$13","v":0},null,null,null,null,null,0,null,null,1,1,null,{"$f":"WEEKDAY(DATEVALUE(設定!$G$5&\"年\"&HM$1&\"月\"&HC31&\"日\"))","v":7},27,"土",null,null,null,null,null,null,null,{"$f":"(SUM(HE31:HK31)+HM31)*設定!$S$13","v":0},null,null,null,{"$f":"HO31-HM31*設定!$S$13","v":0},null,null,null,null,null,0,null,null,0,0,null,{"$f":"WEEKDAY(DATEVALUE((設定!$G$5+1)&\"年\"&IM$1&\"月\"&IC31&\"日\"))","v":3},27,"火",null,null,null,null,null,null,null,{"$f":"(SUM(IE31:IK31)+IM31)*設定!$S$13","v":0},null,null,null,{"$f":"IO31-IM31*設定!$S$13","v":0},null,null,null,null,null,0,null,null,1,1,null,{"$f":"WEEKDAY(DATEVALUE((設定!$G$5+1)&\"年\"&JM$1&\"月\"&JC31&\"日\"))","v":6},27,"金",null,null,null,null,null,null,null,{"$f":"(SUM(JE31:JK31)+JM31)*設定!$S$13","v":0},null,null,null,{"$f":"JO31-JM31*設定!$S$13","v":0},null,null,null,null,null,0,null,null,1,{"$f":"IF(OR(JB31=1,JB31=7),0,1)","v":1},null,{"$f":"WEEKDAY(DATEVALUE((設定!$G$5+1)&\"年\"&KM$1&\"月\"&KC31&\"日\"))","v":6},27,"金",null,null,null,null,null,null,null,{"$f":"(SUM(KE31:KK31)+KM31)*設定!$S$13","v":0},null,null,null,{"$f":"KO31-KM31*設定!$S$13","v":0},null,null,null,null,null,0,null,null,0,0,null,2046,20,23]
[null,{"$f":"WEEKDAY(DATEVALUE(設定!$G$5&\"年\"&Q$1&\"月\"&C32&\"日\"))","v":2},28,"月",null,null,null,null,null,null,null,{"$f":"(SUM(E32:K32)+M32)*設定!$S$13","v":0},null,null,null,{"$f":"O32-M32*設定!$S$13","v":0},null,null,null,null,null,0,null,null,1,1,null,{"$f":"WEEKDAY(DATEVALUE(設定!$G$5&\"年\"&AM$1&\"月\"&AC32&\"日\"))","v":4},28,"水",null,null,null,null,null,null,null,{"$f":"(SUM(AE32:AK32)+AM32)*設定!$S$13","v":0},null,null,null,{"$f":"AO32-AM32*設定!$S$13","v":0},null,null,null,null,null,0,null,null,1,1,null,{"$f":"WEEKDAY(DATEVALUE(設定!$G$5&\"年\"&BM$1&\"月\"&BC32&\"日\"))","v":7},28,"土",null,null,null,null,null,null,null,{"$f":"(SUM(BE32:BK32)+BM32)*設定!$S$13","v":0},null,null,null,{"$f":"BO32-BM32*設定!$S$13","v":0},null,null,null,null,null,0,null,null,0,0,null,{"$f":"WEEKDAY(DATEVALUE(設定!$G$5&\"年\"&CM$1&\"月\"&CC32&\"日\"))","v":2},28,"月",null,null,null,null,null,null,null,{"$f":"(SUM(CE32:CK32)+CM32)*設定!$S$13","v":0},null,null,null,{"$f":"CO32-CM32*設定!$S$13","v":0},null,null,null,null,null,0,null,null,0,0,null,{"$f":"WEEKDAY(DATEVALUE(設定!$G$5&\"年\"&DM$1&\"月\"&DC32&\"日\"))","v":5},28,"木",null,null,null,null,null,null,null,{"$f":"(SUM(DE32:DK32)+DM32)*設定!$S$13","v":0},null,null,null,{"$f":"DO32-DM32*設定!$S$13","v":0},null,null,null,null,null,0,null,null,0,0,null,{"$f":"WEEKDAY(DATEVALUE(設定!$G$5&\"年\"&EM$1&\"月\"&EC32&\"日\"))","v":1},28,"日",null,null,null,null,null,null,null,{"$f":"(SUM(EE32:EK32)+EM32)*設定!$S$13","v":0},null,null,null,{"$f":"EO32-EM32*設定!$S$13","v":0},null,null,null,null,null,0,null,null,0,0,null,{"$f":"WEEKDAY(DATEVALUE(設定!$G$5&\"年\"&FM$1&\"月\"&FC32&\"日\"))","v":3},28,"火",null,null,null,null,null,null,null,{"$f":"(SUM(FE32:FK32)+FM32)*設定!$S$13","v":0},null,null,null,{"$f":"FO32-FM32*設定!$S$13","v":0},null,null,null,null,null,0,null,null,1,1,null,{"$f":"WEEKDAY(DATEVALUE(設定!$G$5&\"年\"&GM$1&\"月\"&GC32&\"日\"))","v":6},28,"金",null,null,null,null,null,null,null,{"$f":"(SUM(GE32:GK32)+GM32)*設定!$S$13","v":0},null,null,null,{"$f":"GO32-GM32*設定!$S$13","v":0},null,null,null,null,null,0,null,null,1,1,null,{"$f":"WEEKDAY(DATEVALUE(設定!$G$5&\"年\"&HM$1&\"月\"&HC32&\"日\"))","v":1},28,"日",null,null,null,null,null,null,null,{"$f":"(SUM(HE32:HK32)+HM32)*設定!$S$13","v":0},null,null,null,{"$f":"HO32-HM32*設定!$S$13","v":0},null,null,null,null,null,0,null,null,0,0,null,{"$f":"WEEKDAY(DATEVALUE((設定!$G$5+1)&\"年\"&IM$1&\"月\"&IC32&\"日\"))","v":4},28,"水",null,null,null,null,null,null,null,{"$f":"(SUM(IE32:IK32)+IM32)*設定!$S$13","v":0},null,null,null,{"$f":"IO32-IM32*設定!$S$13","v":0},null,null,null,null,null,0,null,null,1,1,null,{"$f":"WEEKDAY(DATEVALUE((設定!$G$5+1)&\"年\"&JM$1&\"月\"&JC32&\"日\"))","v":7},28,"土",null,null,null,null,null,null,null,{"$f":"(SUM(JE32:JK32)+JM32)*設定!$S$13","v":0},null,null,null,{"$f":"JO32-JM32*設定!$S$13","v":0},null,null,null,null,null,0,null,null,0,{"$f":"IF(OR(JB32=1,JB32=7),0,1)","v":0},null,{"$f":"WEEKDAY(DATEVALUE((設定!$G$5+1)&\"年\"&KM$1&\"月\"&KC32&\"日\"))","v":7},28,"土",null,null,null,null,null,null,null,{"$f":"(SUM(KE32:KK32)+KM32)*設定!$S$13","v":0},null,null,null,{"$f":"KO32-KM32*設定!$S$13","v":0},null,null,null,null,null,0,null,null,0,0,null,2047,21,23]
[null,{"$f":"WEEKDAY(DATEVALUE(設定!$G$5&\"年\"&Q$1&\"月\"&C33&\"日\"))","v":3},29,"火",null,null,null,null,null,null,null,{"$f":"(SUM(E33:K33)+M33)*設定!$S$13","v":0},null,null,null,{"$f":"O33-M33*設定!$S$13","v":0},null,null,null,null,null,0,null,"昭和の日",0,0,null,{"$f":"WEEKDAY(DATEVALUE(設定!$G$5&\"年\"&AM$1&\"月\"&AC33&\"日\"))","v":5},29,"木",null,null,null,null,null,null,null,{"$f":"(SUM(AE33:AK33)+AM33)*設定!$S$13","v":0},null,null,null,{"$f":"AO33-AM33*設定!$S$13","v":0},null,null,null,null,null,0,null,null,1,1,null,{"$f":"WEEKDAY(DATEVALUE(設定!$G$5&\"年\"&BM$1&\"月\"&BC33&\"日\"))","v":1},29,"日",null,null,null,null,null,null,null,{"$f":"(SUM(BE33:BK33)+BM33)*設定!$S$13","v":0},null,null,null,{"$f":"BO33-BM33*設定!$S$13","v":0},null,null,null,null,null,0,null,null,0,0,null,{"$f":"WEEKDAY(DATEVALUE(設定!$G$5&\"年\"&CM$1&\"月\"&CC33&\"日\"))","v":3},29,"火",null,null,null,null,null,null,null,{"$f":"(SUM(CE33:CK33)+CM33)*設定!$S$13","v":0},null,null,null,{"$f":"CO33-CM33*設定!$S$13","v":0},null,null,null,null,null,0,null,null,0,0,null,{"$f":"WEEKDAY(DATEVALUE(設定!$G$5&\"年\"&DM$1&\"月\"&DC33&\"日\"))","v":6},29,"金",null,null,null,null,null,null,null,{"$f":"(SUM(DE33:DK33)+DM33)*設定!$S$13","v":0},null,null,null,{"$f":"DO33-DM33*設定!$S$13","v":0},null,null,null,null,null,0,null,null,0,0,null,{"$f":"WEEKDAY(DATEVALUE(設定!$G$5&\"年\"&EM$1&\"月\"&EC33&\"日\"))","v":2},29,"月",null,null,null,null,null,null,null,{"$f":"(SUM(EE33:EK33)+EM33)*設定!$S$13","v":0},null,null,null,{"$f":"EO33-EM33*設定!$S$13","v":0},null,null,null,null,null,0,null,null,1,1,null,{"$f":"WEEKDAY(DATEVALUE(設定!$G$5&\"年\"&FM$1&\"月\"&FC33&\"日\"))","v":4},29,"水",null,null,null,null,null,null,null,{"$f":"(SUM(FE33:FK33)+FM33)*設定!$S$13","v":0},null,null,null,{"$f":"FO33-FM33*設定!$S$13","v":0},null,null,null,null,null,0,null,null,1,1,null,{"$f":"WEEKDAY(DATEVALUE(設定!$G$5&\"年\"&GM$1&\"月\"&GC33&\"日\"))","v":7},29,"土",null,null,null,null,null,null,null,{"$f":"(SUM(GE33:GK33)+GM33)*設定!$S$13","v":0},null,null,null,{"$f":"GO33-GM33*設定!$S$13","v":0},null,null,null,null,null,0,null,null,0,0,null,{"$f":"WEEKDAY(DATEVALUE(設定!$G$5&\"年\"&HM$1&\"月\"&HC33&\"日\"))","v":2},29,"月",null,null,null,null,null,null,null,{"$f":"(SUM(HE33:HK33)+HM33)*設定!$S$13","v":0},null,null,null,{"$f":"HO33-HM33*設定!$S$13","v":0},null,null,null,null,null,0,null,null,0,0,null,{"$f":"WEEKDAY(DATEVALUE((設定!$G$5+1)&\"年\"&IM$1&\"月\"&IC33&\"日\"))","v":5},29,"木",null,null,null,null,null,null,null,{"$f":"(SUM(IE33:IK33)+IM33)*設定!$S$13","v":0},null,null,null,{"$f":"IO33-IM33*設定!$S$13","v":0},null,null,null,null,null,0,null,null,1,1,null,{"$f":"WEEKDAY(DATEVALUE(設定!$G$5&\"年\"&JM$1&\"月\"&JC33&\"日\"))","v":{"$error":"#VALUE!"}},29,{"$f":"IF(JB33=1,\"日\",IF(JB33=2,\"月\",IF(JB33=3,\"火\",IF(JB33=4,\"水\",IF(JB33=5,\"木\",IF(JB33=6,\"金\",IF(JB33=6,\"土\",\"\")))))))","v":{"$error":"#VALUE!"}},null,null,null,null,null,null,null,{"$f":"(SUM(JE33:JK33)+JM33)*設定!$S$13","v":0},null,null,null,{"$f":"JO33-JM33*設定!$S$13","v":0},null,null,null,null,null,0,null,null,null,{"$f":"IF(JG42=0,IF(OR(JB33=1,JB33=7),0,1),\"\")","v":""},null,{"$f":"WEEKDAY(DATEVALUE((設定!$G$5+1)&\"年\"&KM$1&\"月\"&KC33&\"日\"))","v":1},29,"日",null,null,null,null,null,null,null,{"$f":"(SUM(KE33:KK33)+KM33)*設定!$S$13","v":0},null,null,null,{"$f":"KO33-KM33*設定!$S$13","v":0},null,null,null,null,null,0,null,null,0,0,null,2048,20,22]
[null,{"$f":"WEEKDAY(DATEVALUE(設定!$G$5&\"年\"&Q$1&\"月\"&C34&\"日\"))","v":4},30,"水",null,null,null,null,null,null,null,{"$f":"(SUM(E34:K34)+M34)*設定!$S$13","v":0},null,null,null,{"$f":"O34-M34*設定!$S$13","v":0},null,null,null,null,null,0,null,null,1,{"$f":"IF(OR(B34=1,B34=7,B34=2),0,1)","v":1},null,{"$f":"WEEKDAY(DATEVALUE(設定!$G$5&\"年\"&AM$1&\"月\"&AC34&\"日\"))","v":6},30,"金",null,null,null,null,null,null,null,{"$f":"(SUM(AE34:AK34)+AM34)*設定!$S$13","v":0},null,null,null,{"$f":"AO34-AM34*設定!$S$13","v":0},null,null,null,null,null,0,null,null,1,1,null,{"$f":"WEEKDAY(DATEVALUE(設定!$G$5&\"年\"&BM$1&\"月\"&BC34&\"日\"))","v":2},30,"月",null,null,null,null,null,null,null,{"$f":"(SUM(BE34:BK34)+BM34)*設定!$S$13","v":0},null,null,null,{"$f":"BO34-BM34*設定!$S$13","v":0},null,null,null,null,null,0,null,null,1,1,null,{"$f":"WEEKDAY(DATEVALUE(設定!$G$5&\"年\"&CM$1&\"月\"&CC34&\"日\"))","v":4},30,"水",null,null,null,null,null,null,null,{"$f":"(SUM(CE34:CK34)+CM34)*設定!$S$13","v":0},null,null,null,{"$f":"CO34-CM34*設定!$S$13","v":0},null,null,null,null,null,0,null,null,0,0,null,{"$f":"WEEKDAY(DATEVALUE(設定!$G$5&\"年\"&DM$1&\"月\"&DC34&\"日\"))","v":7},30,"土",null,null,null,null,null,null,null,{"$f":"(SUM(DE34:DK34)+DM34)*設定!$S$13","v":0},null,null,null,{"$f":"DO34-DM34*設定!$S$13","v":0},null,null,null,null,null,0,null,null,0,0,null,{"$f":"WEEKDAY(DATEVALUE(設定!$G$5&\"年\"&EM$1&\"月\"&EC34&\"日\"))","v":3},30,"火",null,null,null,null,null,null,null,{"$f":"(SUM(EE34:EK34)+EM34)*設定!$S$13","v":0},null,null,null,{"$f":"EO34-EM34*設定!$S$13","v":0},null,null,null,null,null,0,null,null,1,1,null,{"$f":"WEEKDAY(DATEVALUE(設定!$G$5&\"年\"&FM$1&\"月\"&FC34&\"日\"))","v":5},30,"木",null,null,null,null,null,null,null,{"$f":"(SUM(FE34:FK34)+FM34)*設定!$S$13","v":0},null,null,null,{"$f":"FO34-FM34*設定!$S$13","v":0},null,null,null,null,null,0,null,null,1,1,null,{"$f":"WEEKDAY(DATEVALUE(設定!$G$5&\"年\"&GM$1&\"月\"&GC34&\"日\"))","v":1},30,"日",null,null,null,null,null,null,null,{"$f":"(SUM(GE34:GK34)+GM34)*設定!$S$13","v":0},null,null,null,{"$f":"GO34-GM34*設定!$S$13","v":0},null,null,null,null,null,0,null,null,0,0,null,{"$f":"WEEKDAY(DATEVALUE(設定!$G$5&\"年\"&HM$1&\"月\"&HC34&\"日\"))","v":3},30,"火",null,null,null,null,null,null,null,{"$f":"(SUM(HE34:HK34)+HM34)*設定!$S$13","v":0},null,null,null,{"$f":"HO34-HM34*設定!$S$13","v":0},null,null,null,null,null,0,null,null,0,0,null,{"$f":"WEEKDAY(DATEVALUE((設定!$G$5+1)&\"年\"&IM$1&\"月\"&IC34&\"日\"))","v":6},30,"金",null,null,null,null,null,null,null,{"$f":"(SUM(IE34:IK34)+IM34)*設定!$S$13","v":0},null,null,null,{"$f":"IO34-IM34*設定!$S$13","v":0},null,null,null,null,null,0,null,null,1,1,null,null,null,null,null,null,null,null,null,null,null,null,null,null,null,null,null,null,null,null,null,null,null,null,null,null,null,{"$f":"WEEKDAY(DATEVALUE((設定!$G$5+1)&\"年\"&KM$1&\"月\"&KC34&\"日\"))","v":2},30,"月",null,null,null,null,null,null,null,{"$f":"(SUM(KE34:KK34)+KM34)*設定!$S$13","v":0},null,null,null,{"$f":"KO34-KM34*設定!$S$13","v":0},null,null,null,null,null,0,null,null,0,0,null,2049,20,22]
[null,null,null,null,null,null,null,null,null,null,null,null,null,null,null,{"$f":"HOUR(R35-Q35)*60+MINUTE(R35-Q35)-S35-L35+T35","v":0},null,null,null,null,null,{"$f":"L35+P35+U35","v":0},null,null,0,0,null,{"$f":"WEEKDAY(DATEVALUE(設定!$G$5&\"年\"&AM$1&\"月\"&AC35&\"日\"))","v":7},31,"土",null,null,null,null,null,null,null,{"$f":"(SUM(AE35:AK35)+AM35)*設定!$S$13","v":0},null,null,null,{"$f":"AO35-AM35*設定!$S$13","v":0},null,null,null,null,null,0,null,null,0,0,null,null,null,null,null,null,null,null,null,null,null,{"$f":"(SUM(BE35:BK35)+BM35)*設定!$S$13+BN35","v":0},null,null,null,{"$f":"HOUR(BR35-BQ35)*60+MINUTE(BR35-BQ35)-BS35-BL35+BT35","v":0},null,null,null,null,null,{"$f":"BL35+BP35+BU35","v":0},null,null,null,null,null,{"$f":"WEEKDAY(DATEVALUE(設定!$G$5&\"年\"&CM$1&\"月\"&CC35&\"日\"))","v":5},31,"木",null,null,null,null,null,null,null,{"$f":"(SUM(CE35:CK35)+CM35)*設定!$S$13","v":0},null,null,null,{"$f":"CO35-CM35*設定!$S$13","v":0},null,null,null,null,null,0,null,null,0,0,null,{"$f":"WEEKDAY(DATEVALUE(設定!$G$5&\"年\"&DM$1&\"月\"&DC35&\"日\"))","v":1},31,"日",null,null,null,null,null,null,null,{"$f":"(SUM(DE35:DK35)+DM35)*設定!$S$13","v":0},null,null,null,{"$f":"DO35-DM35*設定!$S$13","v":0},null,null,null,null,null,0,null,null,0,0,null,null,null,null,null,null,null,null,null,null,null,null,null,null,null,{"$f":"HOUR(ER35-EQ35)*60+MINUTE(ER35-EQ35)-ES35-EL35+ET35","v":0},null,null,null,null,null,0,null,null,null,null,null,{"$f":"WEEKDAY(DATEVALUE(設定!$G$5&\"年\"&FM$1&\"月\"&FC35&\"日\"))","v":6},31,"金",null,null,null,null,null,null,null,{"$f":"(SUM(FE35:FK35)+FM35)*設定!$S$13","v":0},null,null,null,{"$f":"FO35-FM35*設定!$S$13","v":0},null,null,null,null,null,0,null,null,1,1,null,null,null,null,null,null,null,null,null,null,null,null,null,null,null,{"$f":"HOUR(GR35-GQ35)*60+MINUTE(GR35-GQ35)-GS35-GL35+GT35","v":0},null,null,null,null,null,{"$f":"GL35+GP35+GU35","v":0},null,null,null,null,null,{"$f":"WEEKDAY(DATEVALUE(設定!$G$5&\"年\"&HM$1&\"月\"&HC35&\"日\"))","v":4},31,"水",null,null,null,null,null,null,null,{"$f":"(SUM(HE35:HK35)+HM35)*設定!$S$13","v":0},null,null,null,{"$f":"HO35-HM35*設定!$S$13","v":0},null,null,null,null,null,0,null,null,0,0,null,{"$f":"WEEKDAY(DATEVALUE((設定!$G$5+1)&\"年\"&IM$1&\"月\"&IC35&\"日\"))","v":7},31,"土",null,null,null,null,null,null,null,{"$f":"(SUM(IE35:IK35)+IM35)*設定!$S$13","v":0},null,null,null,{"$f":"IO35-IM35*設定!$S$13","v":0},null,null,null,null,null,0,null,null,0,0,null,null,null,null,null,null,null,null,null,null,null,null,null,null,null,null,null,null,null,null,null,null,null,null,null,null,null,{"$f":"WEEKDAY(DATEVALUE((設定!$G$5+1)&\"年\"&KM$1&\"月\"&KC35&\"日\"))","v":3},31,"火",null,null,null,null,null,null,null,{"$f":"(SUM(KE35:KK35)+KM35)*設定!$S$13","v":0},null,null,null,{"$f":"KO35-KM35*設定!$S$13","v":0},null,null,null,null,null,0,null,null,0,0,null,2050,20,23]
[null,null,"小 計",null,{"$f":"SUM(E5:K35)","v":0},null,null,null,null,null,null,{"$f":"SUM(L5:L35)","v":0},{"$f":"SUM(M5:M35)","v":0},null,{"$f":"SUM(O5:O35)","v":0},{"$f":"SUM(P5:P35)","v":0},null,null,null,{"$f":"SUM(T5:T35)","v":0},{"$f":"SUM(U5:U35)","v":0},0,null,{"$f":"COUNTIF(Y5:Y35,1)+COUNTIF(Y5:Y35,2)+COUNTIF(Y5:Y35,3)","v":15},null,null,null,null,"小 計",null,{"$f":"SUM(AE5:AK35)","v":0},null,null,null,null,null,null,{"$f":"SUM(AL5:AL35)","v":0},{"$f":"SUM(AM5:AM35)","v":0},null,{"$f":"SUM(AO5:AO35)","v":0},{"$f":"SUM(AP5:AP35)","v":0},null,null,null,{"$f":"SUM(AT5:AT35)","v":0},{"$f":"SUM(AU5:AU35)","v":0},{"$f":"SUM(AV5:AV35)","v":0},null,{"$f":"COUNTIF(AY5:AY35,1)+COUNTIF(AY5:AY35,2)+COUNTIF(AY5:AY35,3)","v":20},null,null,null,null,"小 計",null,{"$f":"SUM(BE5:BK35)","v":0},null,null,null,null,null,null,{"$f":"SUM(BL5:BL35)","v":0},{"$f":"SUM(BM5:BM35)","v":0},null,{"$f":"SUM(BO5:BO35)","v":0},{"$f":"SUM(BP5:BP35)","v":0},null,null,null,{"$f":"SUM(BT5:BT35)","v":0},{"$f":"SUM(BU5:BU35)","v":0},0,null,{"$f":"COUNTIF(BY5:BY35,1)+COUNTIF(BY5:BY35,2)+COUNTIF(BY5:BY35,3)","v":21},null,null,null,null,"小 計",null,{"$f":"SUM(CE5:CK35)","v":0},null,null,null,null,null,null,{"$f":"SUM(CL5:CL35)","v":0},{"$f":"SUM(CM5:CM35)","v":0},null,{"$f":"SUM(CO5:CO35)","v":0},{"$f":"SUM(CP5:CP35)","v":0},null,null,null,{"$f":"SUM(CT5:CT35)","v":0},{"$f":"SUM(CU5:CU35)","v":0},0,null,{"$f":"COUNTIF(CY5:CY35,1)+COUNTIF(CY5:CY35,2)+COUNTIF(CY5:CY35,3)","v":14},null,null,null,null,"小 計",null,{"$f":"SUM(DE5:DK35)","v":0},null,null,null,null,null,null,{"$f":"SUM(DL5:DL35)","v":0},{"$f":"SUM(DM5:DM35)","v":0},null,{"$f":"SUM(DO5:DO35)","v":0},{"$f":"SUM(DP5:DP35)","v":0},null,null,null,{"$f":"SUM(DT5:DT35)","v":0},{"$f":"SUM(DU5:DU35)","v":0},0,null,{"$f":"COUNTIF(DY5:DY35,1)+COUNTIF(DY5:DY35,2)+COUNTIF(DY5:DY35,3)","v":0},null,null,null,null,"小 計",null,{"$f":"SUM(EE5:EK35)","v":0},null,null,null,null,null,null,{"$f":"SUM(EL5:EL35)","v":0},{"$f":"SUM(EM5:EM35)","v":0},null,{"$f":"SUM(EO5:EO35)","v":0},{"$f":"SUM(EP5:EP35)","v":0},null,null,null,{"$f":"SUM(ET5:ET35)","v":0},{"$f":"SUM(EU5:EU35)","v":0},0,null,{"$f":"COUNTIF(EY5:EY35,1)+COUNTIF(EY5:EY35,2)+COUNTIF(EY5:EY35,3)","v":20},null,null,null,null,"小 計",null,{"$f":"SUM(FE5:FK35)","v":0},null,null,null,null,null,null,{"$f":"SUM(FL5:FL35)","v":0},{"$f":"SUM(FM5:FM35)","v":0},null,{"$f":"SUM(FO5:FO35)","v":0},{"$f":"SUM(FP5:FP35)","v":0},null,null,null,{"$f":"SUM(FT5:FT35)","v":0},{"$f":"SUM(FU5:FU35)","v":0},0,null,{"$f":"COUNTIF(FY5:FY35,1)+COUNTIF(FY5:FY35,2)+COUNTIF(FY5:FY35,3)","v":22},null,null,null,null,"小 計",null,{"$f":"SUM(GE5:GK35)","v":0},null,null,null,null,null,null,{"$f":"SUM(GL5:GL35)","v":0},{"$f":"SUM(GM5:GM35)","v":0},null,{"$f":"SUM(GO5:GO35)","v":0},{"$f":"SUM(GP5:GP35)","v":0},null,null,null,{"$f":"SUM(GT5:GT35)","v":0},{"$f":"SUM(GU5:GU35)","v":0},0,null,{"$f":"COUNTIF(GY5:GY35,1)+COUNTIF(GY5:GY35,2)+COUNTIF(GY5:GY35,3)","v":18},null,null,null,null,"小 計",null,{"$f":"SUM(HE5:HK35)","v":0},null,null,null,null,null,null,{"$f":"SUM(HL5:HL35)","v":0},{"$f":"SUM(HM5:HM35)","v":0},null,{"$f":"SUM(HO5:HO35)","v":0},{"$f":"SUM(HP5:HP35)","v":0},null,null,null,{"$f":"SUM(HT5:HT35)","v":0},{"$f":"SUM(HU5:HU35)","v":0},0,null,{"$f":"COUNTIF(HY5:HY35,1)+COUNTIF(HY5:HY35,2)+COUNTIF(HY5:HY35,3)","v":17},null,null,null,null,"小 計",null,{"$f":"SUM(IE5:IK35)","v":0},null,null,null,null,null,null,{"$f":"SUM(IL5:IL35)","v":0},{"$f":"SUM(IM5:IM35)","v":0},null,{"$f":"SUM(IO5:IO35)","v":0},{"$f":"SUM(IP5:IP35)","v":0},null,null,null,{"$f":"SUM(IT5:IT35)","v":0},{"$f":"SUM(IU5:IU35)","v":0},0,null,{"$f":"COUNTIF(IY5:IY35,1)+COUNTIF(IY5:IY35,2)+COUNTIF(IY5:IY35,3)","v":16},null,null,null,null,"小 計",null,{"$f":"SUM(JE5:JK35)","v":0},null,null,null,null,null,null,{"$f":"SUM(JL5:JL35)","v":0},{"$f":"SUM(JM5:JM35)","v":0},null,{"$f":"SUM(JO5:JO35)","v":0},{"$f":"SUM(JP5:JP35)","v":0},null,null,null,{"$f":"SUM(JT5:JT35)","v":0},{"$f":"SUM(JU5:JU35)","v":0},0,null,{"$f":"COUNTIF(JY5:JY35,1)+COUNTIF(JY5:JY35,2)+COUNTIF(JY5:JY35,3)","v":18},null,null,null,null,"小 計",null,{"$f":"SUM(KE5:KK35)","v":0},null,null,null,null,null,null,{"$f":"SUM(KL5:KL35)","v":0},{"$f":"SUM(KM5:KM35)","v":0},null,{"$f":"SUM(KO5:KO35)","v":0},{"$f":"SUM(KP5:KP35)","v":0},null,null,null,{"$f":"SUM(KT5:KT35)","v":0},{"$f":"SUM(KU5:KU35)","v":0},0,null,{"$f":"COUNTIF(KY5:KY35,1)+COUNTIF(KY5:KY35,2)+COUNTIF(KY5:KY35,3)","v":14},null,null,null,null,{"$f":"IF($KC24=VLOOKUP(設定!$G$5,春秋分,2),\"春分の日\",\"\")","v":"春分の日"},{"$f":"IF($EC26=VLOOKUP(設定!$G$5,春秋分,3),\"秋分の日\",\"\")","v":""}]
[null,null,"累 計",null,{"$f":"E36","v":0},null,null,null,null,null,null,{"$f":"L36","v":0},{"$f":"M36","v":0},null,{"$f":"O36","v":0},{"$f":"P36","v":0},null,null,null,{"$f":"T36","v":0},{"$f":"U36","v":0},0,null,{"$f":"X36","v":15},null,null,null,null,"累 計",null,{"$f":"AE36+E37","v":0},null,null,null,null,null,null,{"$f":"AL36+L37","v":0},{"$f":"AM36+M37","v":0},null,{"$f":"AO36+O37","v":0},{"$f":"AP36+P37","v":0},null,null,null,{"$f":"AT36","v":0},{"$f":"AU36+U37","v":0},{"$f":"AV36+V37","v":0},null,{"$f":"AX36+X37","v":35},null,null,null,null,"累 計",null,{"$f":"BE36+AE37","v":0},null,null,null,null,null,null,{"$f":"BL36+AL37","v":0},{"$f":"BM36+AM37","v":0},null,{"$f":"BO36+AO37","v":0},{"$f":"BP36+AP37","v":0},null,null,null,{"$f":"BT36","v":0},{"$f":"BU36+AU37","v":0},{"$f":"BV36+AV37","v":0},null,{"$f":"BX36+AX37","v":56},null,null,null,null,"累 計",null,{"$f":"CE36+BE37","v":0},null,null,null,null,null,null,{"$f":"CL36+BL37","v":0},{"$f":"CM36+BM37","v":0},null,{"$f":"CO36+BO37","v":0},{"$f":"CP36+BP37","v":0},null,null,null,{"$f":"CT36","v":0},{"$f":"CU36+BU37","v":0},{"$f":"CV36+BV37","v":0},null,{"$f":"CX36+BX37","v":70},null,null,null,null,"累 計",null,{"$f":"DE36+CE37","v":0},null,null,null,null,null,null,{"$f":"DL36+CL37","v":0},{"$f":"DM36+CM37","v":0},null,{"$f":"DO36+CO37","v":0},{"$f":"DP36+CP37","v":0},null,null,null,{"$f":"DT36","v":0},{"$f":"DU36+CU37","v":0},{"$f":"DV36+CV37","v":0},null,{"$f":"DX36+CX37","v":70},null,null,null,null,"累 計",null,{"$f":"EE36+DE37","v":0},null,null,null,null,null,null,{"$f":"EL36+DL37","v":0},{"$f":"EM36+DM37","v":0},null,{"$f":"EO36+DO37","v":0},{"$f":"EP36+DP37","v":0},null,null,null,{"$f":"ET36","v":0},{"$f":"EU36+DU37","v":0},{"$f":"EV36+DV37","v":0},null,{"$f":"EX36+DX37","v":90},null,null,null,null,"累 計",null,{"$f":"FE36+EE37","v":0},null,null,null,null,null,null,{"$f":"FL36+EL37","v":0},{"$f":"FM36+EM37","v":0},null,{"$f":"FO36+EO37","v":0},{"$f":"FP36+EP37","v":0},null,null,null,{"$f":"FT36","v":0},{"$f":"FU36+EU37","v":0},{"$f":"FV36+EV37","v":0},null,{"$f":"FX36+EX37","v":112},null,null,null,null,"累 計",null,{"$f":"GE36+FE37","v":0},null,null,null,null,null,null,{"$f":"GL36+FL37","v":0},{"$f":"GM36+FM37","v":0},null,{"$f":"GO36+FO37","v":0},{"$f":"GP36+FP37","v":0},null,null,null,{"$f":"GT36","v":0},{"$f":"GU36+FU37","v":0},{"$f":"GV36+FV37","v":0},null,{"$f":"GX36+FX37","v":130},null,null,null,null,"累 計",null,{"$f":"HE36+GE37","v":0},null,null,null,null,null,null,{"$f":"HL36+GL37","v":0},{"$f":"HM36+GM37","v":0},null,{"$f":"HO36+GO37","v":0},{"$f":"HP36+GP37","v":0},null,null,null,{"$f":"HT36","v":0},{"$f":"HU36+GU37","v":0},{"$f":"HV36+GV37","v":0},null,{"$f":"HX36+GX37","v":147},null,null,null,null,"累 計",null,{"$f":"IE36+HE37","v":0},null,null,null,null,null,null,{"$f":"IL36+HL37","v":0},{"$f":"IM36+HM37","v":0},null,{"$f":"IO36+HO37","v":0},{"$f":"IP36+HP37","v":0},null,null,null,{"$f":"IT36","v":0},{"$f":"IU36+HU37","v":0},{"$f":"IV36+HV37","v":0},null,{"$f":"IX36+HX37","v":163},null,null,null,null,"累 計",null,{"$f":"JE36+IE37","v":0},null,null,null,null,null,null,{"$f":"JL36+IL37","v":0},{"$f":"JM36+IM37","v":0},null,{"$f":"JO36+IO37","v":0},{"$f":"JP36+IP37","v":0},null,null,null,{"$f":"JT36","v":0},{"$f":"JU36+IU37","v":0},{"$f":"JV36+IV37","v":0},null,{"$f":"JX36+IX37","v":181},null,null,null,null,"累 計",null,{"$f":"KE36+JE37","v":0},null,null,null,null,null,null,{"$f":"KL36+JL37","v":0},{"$f":"KM36+JM37","v":0},null,{"$f":"KO36+JO37","v":0},{"$f":"KP36+JP37","v":0},null,null,null,{"$f":"KT36","v":0},{"$f":"KU36+JU37","v":0},{"$f":"KV36+JV37","v":0},null,{"$f":"KX36+JX37","v":195},null,null,null,null,{"$f":"IF($KC25=VLOOKUP(設定!$G$5,春秋分,2),\"春分の日\",\"\")","v":""},{"$f":"IF($EC27=VLOOKUP(設定!$G$5,春秋分,3),\"秋分の日\",\"\")","v":"秋分の日"}]
[]
[]
[null,null,null,null,null,null,null,null,null,null,null,null,null,null,null,null,null,null,null,null,null,null,null,null,null,null,null,null,null,null,null,null,null,null,null,null,null,null,null,null,null,null,null,null,null,null,null,null,null,null,null,null,null,null,null,null,null,null,null,null,null,null,null,null,null,null,null,null,null,null,null,null,null,null,null,null,null,null,null,null,null,null,null,null,null,null,null,null,null,null,null,null,null,null,null,null,null,null,null,3,null,"海の日",null,null,null,null,null,null,null,null,null,null,null,null,null,null,null,null,null,null,null,null,null,null,null,null,null,null,null,null,null,null,null,null,null,null,null,null,null,null,null,null,null,null,null,null,null,null,null,null,null,3,null,"敬老の日",null,null,null,null,null,null,null,null,null,null,null,null,null,null,null,null,null,null,null,null,null,null,null,null,null,"スポーツの日",null,null,null,null,null,null,null,null,null,null,null,null,null,null,null,null,null,null,null,null,null,null,null,null,null,null,null,null,null,null,null,null,null,null,null,null,null,null,null,null,null,null,null,null,null,null,null,null,null,null,null,null,null,null,null,null,null,null,null,null,null,null,null,null,null,null,null,null,null,null,null,null,null,null,null,2,null,"成人の日"]
[null,null,null,null,null,null,null,null,null,null,null,null,null,null,null,null,null,null,null,null,null,null,null,null,null,null,null,null,null,null,null,null,null,null,null,null,null,null,null,null,null,null,null,null,null,null,null,null,null,null,null,null,null,null,null,null,null,null,null,null,null,null,null,null,null,null,null,null,null,null,null,null,null,null,null,null,null,null,null,null,null,null,null,null,null,null,null,null,null,null,null,null,null,null,null,null,null,null,null,{"$f":"CB19","v":3},null,{"$f":"IF(CV41=2,CX$40,\"\")","v":""},{"$f":"IF(OR(CV41=1,CV41=2,CV41=7),0,3)","v":3},null,null,null,null,null,null,null,null,null,null,null,null,null,null,null,null,null,null,null,null,null,null,null,null,null,null,null,null,null,null,null,null,null,null,null,null,null,null,null,null,null,null,null,null,null,null,null,null,{"$f":"EB19","v":2},null,{"$f":"IF(EV41=2,EX$40,\"\")","v":"敬老の日"},{"$f":"IF(OR(EV41=1,EV41=2,EV41=7),0,1)","v":0},null,null,null,null,null,null,null,null,null,null,null,null,null,null,null,null,null,null,null,null,null,null,{"$f":"FB12","v":4},null,{"$f":"IF(FV41=2,FX$40,\"\")","v":""},{"$f":"IF(OR(FV41=1,FV41=2,FV41=7),0,1)","v":1},null,null,null,null,null,null,null,null,null,null,null,null,null,null,null,null,null,null,null,null,null,null,null,null,null,null,null,null,null,null,null,null,null,null,null,null,null,null,null,null,null,null,null,null,null,null,null,null,null,null,null,null,null,null,null,null,null,null,null,null,null,null,null,null,null,null,null,null,null,null,null,null,null,null,{"$f":"IB12","v":5},null,{"$f":"IF(IV41=2,IX$40,\"\")","v":""},{"$f":"IF(OR(IV41=1,IV41=2,IV41=7),0,1)","v":1},null,null,null,null,null,null,null,"うるう年計算"]
[null,null,null,null,null,null,null,null,null,null,null,null,null,null,null,null,null,null,null,null,null,null,null,null,null,null,null,null,null,null,null,null,null,null,null,null,null,null,null,null,null,null,null,null,null,null,null,null,null,null,null,null,null,null,null,null,null,null,null,null,null,null,null,null,null,null,null,null,null,null,null,null,null,null,null,null,null,null,null,null,null,null,null,null,null,null,null,null,null,null,null,null,null,null,null,null,null,null,null,4,null,"",{"$f":"IF(OR(CV42=1,CV42=2,CV42=7),0,3)","v":3},null,null,null,null,null,null,null,null,null,null,null,null,null,null,null,null,null,null,null,null,null,null,null,null,null,null,null,null,null,null,null,null,null,null,null,null,null,null,null,null,null,null,null,null,null,null,null,null,3,null,"",1,null,null,null,null,null,null,null,null,null,null,null,null,null,null,null,null,null,null,null,null,null,null,5,null,"",1,null,null,null,null,null,null,null,null,null,null,null,null,null,null,null,null,null,null,null,null,null,null,null,null,null,null,null,null,null,null,null,null,null,null,null,null,null,null,null,null,null,null,null,null,null,null,null,null,null,null,null,null,null,null,null,null,null,null,null,null,null,null,null,null,null,null,null,null,null,null,null,null,null,null,6,null,"",1,null,null,null,null,null,null,null,{"$f":"MOD(設定!$G$5+1,4)","v":2},"消すな！"]
[null,null,null,null,null,null,null,null,null,null,null,null,null,null,null,null,null,null,null,null,null,null,null,null,null,null,null,null,null,null,null,null,null,null,null,null,null,null,null,null,null,null,null,null,null,null,null,null,null,null,null,null,null,null,null,null,null,null,null,null,null,null,null,null,null,null,null,null,null,null,null,null,null,null,null,null,null,null,null,null,null,null,null,null,null,null,null,null,null,null,null,null,null,null,null,null,null,null,null,5,null,"",3,null,null,null,null,null,null,null,null,null,null,null,null,null,null,null,null,null,null,null,null,null,null,null,null,null,null,null,null,null,null,null,null,null,null,null,null,null,null,null,null,null,null,null,null,null,null,null,null,4,null,"",1,null,null,null,null,null,null,null,null,null,null,null,null,null,null,null,null,null,null,null,null,null,null,6,null,"",1,null,null,null,null,null,null,null,null,null,null,null,null,null,null,null,null,null,null,null,null,null,null,null,null,null,null,null,null,null,null,null,null,null,null,null,null,null,null,null,null,null,null,null,null,null,null,null,null,null,null,null,null,null,null,null,null,null,null,null,null,null,null,null,null,null,null,null,null,null,null,null,null,null,null,7,null,"",0]
[null,null,null,null,null,null,null,null,null,null,null,null,null,null,null,null,null,null,null,null,null,null,null,null,null,null,null,null,null,null,null,null,null,null,null,null,null,null,null,null,null,null,null,null,null,null,null,null,null,null,null,null,null,null,null,null,null,null,null,null,null,null,null,null,null,null,null,null,null,null,null,null,null,null,null,null,null,null,null,null,null,null,null,null,null,null,null,null,null,null,null,null,null,null,null,null,null,null,null,6,null,"",3,null,null,null,null,null,null,null,null,null,null,null,null,null,null,null,null,null,null,null,null,null,null,null,null,null,null,null,null,null,null,null,null,null,null,null,null,null,null,null,null,null,null,null,null,null,null,null,null,5,null,"",1,null,null,null,null,null,null,null,null,null,null,null,null,null,null,null,null,null,null,null,null,null,null,7,null,"",0,null,null,null,null,null,null,null,null,null,null,null,null,null,null,null,null,null,null,null,null,null,null,null,null,null,null,null,null,null,null,null,null,null,null,null,null,null,null,null,null,null,null,null,null,null,null,null,null,null,null,null,null,null,null,null,null,null,null,null,null,null,null,null,null,null,null,null,null,null,null,null,null,null,null,1,null,"",0]
[null,null,null,null,null,null,null,null,null,null,null,null,null,null,null,null,null,null,null,null,null,null,null,null,null,null,null,null,null,null,null,null,null,null,null,null,null,null,null,null,null,null,null,null,null,null,null,null,null,null,null,null,null,null,null,null,null,null,null,null,null,null,null,null,null,null,null,null,null,null,null,null,null,null,null,null,null,null,null,null,null,null,null,null,null,null,null,null,null,null,null,null,null,null,null,null,null,null,null,7,null,"",0,null,null,null,null,null,null,null,null,null,null,null,null,null,null,null,null,null,null,null,null,null,null,null,null,null,null,null,null,null,null,null,null,null,null,null,null,null,null,null,null,null,null,null,null,null,null,null,null,6,null,"",1,null,null,null,null,null,null,null,null,null,null,null,null,null,null,null,null,null,null,null,null,null,null,1,null,"",0,null,null,null,null,null,null,null,null,null,null,null,null,null,null,null,null,null,null,null,null,null,null,null,null,null,null,null,null,null,null,null,null,null,null,null,null,null,null,null,null,null,null,null,null,null,null,null,null,null,null,null,null,null,null,null,null,null,null,null,null,null,null,null,null,null,null,null,null,null,null,null,null,null,null,2,null,"成人の日",0]
[null,null,null,null,null,null,null,null,null,null,null,null,null,null,null,null,null,null,null,null,null,null,null,null,null,null,null,null,null,null,null,null,null,null,null,null,null,null,null,null,null,null,null,null,null,null,null,null,null,null,null,null,null,null,null,null,null,null,null,null,null,null,null,null,null,null,null,null,null,null,null,null,null,null,null,null,null,null,null,null,null,null,null,null,null,null,null,null,null,null,null,null,null,null,null,null,null,null,null,1,null,"",0,null,null,null,null,null,null,null,null,null,null,null,null,null,null,null,null,null,null,null,null,null,null,null,null,null,null,null,null,null,null,null,null,null,null,null,null,null,null,null,null,null,null,null,null,null,null,null,null,7,null,"",0,null,null,null,null,null,null,null,null,null,null,null,null,null,null,null,null,null,null,null,null,null,null,2,null,"スポーツの日",0,null,null,null,null,null,null,null,null,null,null,null,null,null,null,null,null,null,null,null,null,null,null,null,null,null,null,null,null,null,null,null,null,null,null,null,null,null,null,null,null,null,null,null,null,null,null,null,null,null,null,null,null,null,null,null,null,null,null,null,null,null,null,null,null,null,null,null,null,null,null,null,null,null,null,3,null,"",1]
[null,null,null,null,null,null,null,null,null,null,null,null,null,null,null,null,null,null,null,null,null,null,null,null,null,null,null,null,null,null,null,null,null,null,null,null,null,null,null,null,null,null,null,null,null,null,null,null,null,null,null,null,null,null,null,null,null,null,null,null,null,null,null,null,null,null,null,null,null,null,null,null,null,null,null,null,null,null,null,null,null,null,null,null,null,null,null,null,null,null,null,null,null,null,null,null,null,null,null,2,null,"海の日",0,null,null,null,null,null,null,null,null,null,null,null,null,null,null,null,null,null,null,null,null,null,null,null,null,null,null,null,null,null,null,null,null,null,null,null,null,null,null,null,null,null,null,null,null,null,null,null,null,1,null,"",0,null,null,null,null,null,null,null,null,null,null,null,null,null,null,null,null,null,null,null,null,null,null,3,null,"",1,null,null,null,null,null,null,null,null,null,null,null,null,null,null,null,null,null,null,null,null,null,null,null,null,null,null,null,null,null,null,null,null,null,null,null,null,null,null,null,null,null,null,null,null,null,null,null,null,null,null,null,null,null,null,null,null,null,null,null,null,null,null,null,null,null,null,null,null,null,null,null,null,null,null,4,null,"",1]

{"sheet":"集計","index":2,"n_rows":17,"n_cols":20,"rows_kept":17,"cut":false,"hidden":false,"merged":[[1,8,2,8]]}
[null,"集計表"]
[null,"授業","授業･試験監督",null,"他の業務",null,"申告",null,"申告できなかった勤務時間(超勤)","本来の勤務時数と超勤(分) "]
["　　　　　　　","日数","コマ数","時数(分)","申告コマ数","実時数(分)","コマ数","時数(分)",null,"実勤務","自宅(内)","超勤","超勤計"]
["４月",{"$f":"入力!X36","v":15},{"$f":"入力!E36","v":0},{"$f":"C4*設定!$S$13","v":0},{"$f":"入力!M36","v":0},{"$f":"入力!O36","v":0},{"$f":"C4+E4","v":0},{"$f":"入力!L36","v":0},{"$f":"F4+D4-H4","v":0},{"$f":"入力!V36","v":0},{"$f":"入力!U36","v":0},{"$f":"J4-H4","v":0}]
["５月",{"$f":"入力!AX36","v":20},{"$f":"入力!AE36","v":0},{"$f":"C5*設定!$S$13","v":0},{"$f":"入力!AM36","v":0},{"$f":"入力!AO36","v":0},{"$f":"C5+E5","v":0},{"$f":"入力!AL36","v":0},{"$f":"F5+D5-H5","v":0},{"$f":"入力!AV36","v":0},{"$f":"入力!AU36","v":0},{"$f":"J5-H5","v":0},null,null,"割合","目途","申告",null,"不足"]
["６月",{"$f":"入力!BX36","v":21},{"$f":"入力!BE36","v":0},{"$f":"C6*設定!$S$13","v":0},{"$f":"入力!BM36","v":0},{"$f":"入力!BO36","v":0},0,{"$f":"入力!BL36","v":0},0,{"$f":"入力!BV36","v":0},{"$f":"入力!BU36","v":0},0,"1学期",null,0.42857142857142855,"1学期","コマ数","時数","コマ数","時数"]
["７月",{"$f":"入力!CX36","v":14},{"$f":"入力!CE36","v":0},{"$f":"C7*設定!$S$13","v":0},{"$f":"入力!CM36","v":0},{"$f":"入力!CO36","v":0},0,{"$f":"入力!CL36","v":0},0,{"$f":"入力!CV36","v":0},{"$f":"入力!CU36","v":0},0,{"$f":"SUM(L4:L7)","v":0},null,{"$f":"SUM(C4:C7)","v":0},{"$f":"Q7*設定!$S$13","v":0},{"$f":"ROUND($Q$16*O6,0)","v":0},{"$f":"SUM(H4:H7)","v":0},{"$f":"T7/設定!$S$13","v":0},{"$f":"P7-R7","v":0}]
["８月",{"$f":"入力!DX36","v":0},{"$f":"入力!DE36","v":0},{"$f":"C8*設定!$S$13","v":0},{"$f":"入力!DM36","v":0},{"$f":"入力!DO36","v":0},0,{"$f":"入力!DL36","v":0},0,{"$f":"入力!DV36","v":0},{"$f":"入力!DU36","v":0},0]
["９月",{"$f":"入力!EX36","v":20},{"$f":"入力!EE36","v":0},{"$f":"C9*設定!$S$13","v":0},{"$f":"入力!EM36","v":0},{"$f":"入力!EO36","v":0},0,{"$f":"入力!EL36","v":0},0,{"$f":"入力!EV36","v":0},{"$f":"入力!EU36","v":0},0]
["１０月",{"$f":"入力!FX36","v":22},{"$f":"入力!FE36","v":0},{"$f":"C10*設定!$S$13","v":0},{"$f":"入力!FM36","v":0},{"$f":"入力!FO36","v":0},0,{"$f":"入力!FL36","v":0},0,{"$f":"入力!FV36","v":0},{"$f":"入力!FU36","v":0},0,null,null,"割合","２学期"]
["１１月",{"$f":"入力!GX36","v":18},{"$f":"入力!GE36","v":0},{"$f":"C11*設定!$S$13","v":0},{"$f":"入力!GM36","v":0},{"$f":"入力!GO36","v":0},0,{"$f":"入力!GL36","v":0},0,{"$f":"入力!GV36","v":0},{"$f":"入力!GU36","v":0},0,"2学期",null,0.35714285714285715,{"$f":"Q11*設定!$S$13","v":0},{"$f":"ROUND($Q$16*O11,0)","v":0},{"$f":"SUM(H8:H12)","v":0},{"$f":"T11/設定!$S$13","v":0},{"$f":"P11+T7-R11","v":0}]
["１２月",{"$f":"入力!HX36","v":17},{"$f":"入力!HE36","v":0},{"$f":"C12*設定!$S$13","v":0},{"$f":"入力!HM36","v":0},{"$f":"入力!HO36","v":0},0,{"$f":"入力!HL36","v":0},0,{"$f":"入力!HV36","v":0},{"$f":"入力!HU36","v":0},0,{"$f":"SUM(L8:L11)","v":0},null,{"$f":"SUM(C8:C12)","v":0}]
["１月",{"$f":"入力!IX36","v":16},{"$f":"入力!IE36","v":0},{"$f":"C13*設定!$S$13","v":0},{"$f":"入力!IM36","v":0},{"$f":"入力!IO36","v":0},0,{"$f":"入力!IL36","v":0},0,{"$f":"入力!IV36","v":0},{"$f":"入力!IU36","v":0},0,null,null,"割合","３学期"]
["２月",{"$f":"入力!JX36","v":18},{"$f":"入力!JE36","v":0},{"$f":"C14*設定!$S$13","v":0},{"$f":"入力!JM36","v":0},{"$f":"入力!JO36","v":0},0,{"$f":"入力!JL36","v":0},0,{"$f":"入力!JV36","v":0},{"$f":"入力!JU36","v":0},0,"3学期",null,0.21428571428571427,{"$f":"P16-P11-P7","v":0},{"$f":"Q16-Q11-Q7","v":0},{"$f":"SUM(H13:H15)","v":0},{"$f":"T14/設定!$S$13","v":0},{"$f":"P14+T11-R14","v":0}]
["３月",{"$f":"入力!KX36","v":14},{"$f":"入力!KE36","v":0},{"$f":"C15*設定!$S$13","v":0},{"$f":"入力!KM36","v":0},{"$f":"入力!KO36","v":0},0,{"$f":"入力!KL36","v":0},0,{"$f":"入力!KV36","v":0},{"$f":"入力!KU36","v":0},0,{"$f":"SUM(L13:L15)","v":0},null,{"$f":"SUM(C13:C15)","v":0}]
["合計",{"$f":"SUM(B4:B15)","v":195},{"$f":"SUM(C4:C15)","v":0},{"$f":"SUM(D4:D15)","v":0},{"$f":"SUM(E4:E15)","v":0},{"$f":"SUM(F4:F15)","v":0},{"$f":"SUM(G4:G15)","v":0},{"$f":"SUM(H4:H15)","v":0},{"$f":"SUM(I4:I15)","v":0},0,0,{"$f":"SUM(L4:L15)","v":0},null,null,null,{"$f":"Q16*設定!$S$13","v":0},{"$f":"設定!P28","v":0},{"$f":"設定!$S$13*$Q$16-$D$16-$F$16","v":0},{"$f":"T16/設定!$S$13","v":0},{"$f":"$T$14","v":0}]
[null,null,null,null,null,null,null,null,{"$f":"ROUND(I16/80,0)","v":0}]